| Back to Multiple platform build/check report for BioC 3.10 |
|
This page was generated on 2020-04-15 12:22:10 -0400 (Wed, 15 Apr 2020).
| Package 1597/1823 | Hostname | OS / Arch | INSTALL | BUILD | CHECK | BUILD BIN | ||||||
| SimBindProfiles 1.24.0 Bettina Fischer
| malbec1 | Linux (Ubuntu 18.04.4 LTS) / x86_64 | OK | OK | OK | |||||||
| tokay1 | Windows Server 2012 R2 Standard / x64 | OK | OK | WARNINGS | [ OK ] | |||||||
| merida1 | OS X 10.11.6 El Capitan / x86_64 | OK | OK | OK | OK |
| Package: SimBindProfiles |
| Version: 1.24.0 |
| Command: rm -rf SimBindProfiles.buildbin-libdir && mkdir SimBindProfiles.buildbin-libdir && C:\Users\biocbuild\bbs-3.10-bioc\R\bin\R.exe CMD INSTALL --merge-multiarch --build --library=SimBindProfiles.buildbin-libdir SimBindProfiles_1.24.0.tar.gz |
| StartedAt: 2020-04-15 09:41:58 -0400 (Wed, 15 Apr 2020) |
| EndedAt: 2020-04-15 09:42:36 -0400 (Wed, 15 Apr 2020) |
| EllapsedTime: 38.0 seconds |
| RetCode: 0 |
| Status: OK |
| PackageFile: SimBindProfiles_1.24.0.zip |
| PackageFileSize: 1.794 MiB |
##############################################################################
##############################################################################
###
### Running command:
###
### rm -rf SimBindProfiles.buildbin-libdir && mkdir SimBindProfiles.buildbin-libdir && C:\Users\biocbuild\bbs-3.10-bioc\R\bin\R.exe CMD INSTALL --merge-multiarch --build --library=SimBindProfiles.buildbin-libdir SimBindProfiles_1.24.0.tar.gz
###
##############################################################################
##############################################################################
install for i386
* installing *source* package 'SimBindProfiles' ...
** using staged installation
** R
** data
** inst
** byte-compile and prepare package for lazy loading
** help
*** installing help indices
converting help for package 'SimBindProfiles'
finding HTML links ... done
SGR html
SimBindProfiles-package html
compensationRegions html
eSetScatterPlot html
findBoundCutoff html
increasedBindingRegions html
pairwiseRegions html
plotBoundProbes html
probeAnnoFromESet html
Rd warning: C:/Users/biocbuild/bbs-3.10-bioc/tmpdir/Rtmp0I4rq4/R.INSTALL29082b3f2bdf/SimBindProfiles/man/probeAnnoFromESet.Rd:33: file link 'probeAnno-class' in package 'Ringo' does not exist and so has been treated as a topic
probeLengthPlot html
readSgrFiles html
Rd warning: C:/Users/biocbuild/bbs-3.10-bioc/tmpdir/Rtmp0I4rq4/R.INSTALL29082b3f2bdf/SimBindProfiles/man/readSgrFiles.Rd:29: file link 'ExpressionSet' in package 'Biobase' does not exist and so has been treated as a topic
threewayRegions html
** building package indices
** installing vignettes
** testing if installed package can be loaded from temporary location
** testing if installed package can be loaded from final location
** testing if installed package keeps a record of temporary installation path
install for x64
* installing *source* package 'SimBindProfiles' ...
** testing if installed package can be loaded
* MD5 sums
packaged installation of 'SimBindProfiles' as SimBindProfiles_1.24.0.zip
* DONE (SimBindProfiles)