| Back to Multiple platform build/check report for BioC 3.10 |
|
This page was generated on 2020-04-15 12:13:58 -0400 (Wed, 15 Apr 2020).
| Package 1541/1823 | Hostname | OS / Arch | INSTALL | BUILD | CHECK | BUILD BIN | ||||||
| Sconify 1.6.0 Tyler J Burns
| malbec1 | Linux (Ubuntu 18.04.4 LTS) / x86_64 | OK | OK | [ OK ] | |||||||
| tokay1 | Windows Server 2012 R2 Standard / x64 | OK | OK | OK | OK | |||||||
| merida1 | OS X 10.11.6 El Capitan / x86_64 | OK | OK | OK | OK |
| Package: Sconify |
| Version: 1.6.0 |
| Command: /home/biocbuild/bbs-3.10-bioc/R/bin/R CMD check --install=check:Sconify.install-out.txt --library=/home/biocbuild/bbs-3.10-bioc/R/library --no-vignettes --timings Sconify_1.6.0.tar.gz |
| StartedAt: 2020-04-15 05:35:42 -0400 (Wed, 15 Apr 2020) |
| EndedAt: 2020-04-15 05:38:22 -0400 (Wed, 15 Apr 2020) |
| EllapsedTime: 160.1 seconds |
| RetCode: 0 |
| Status: OK |
| CheckDir: Sconify.Rcheck |
| Warnings: 0 |
##############################################################################
##############################################################################
###
### Running command:
###
### /home/biocbuild/bbs-3.10-bioc/R/bin/R CMD check --install=check:Sconify.install-out.txt --library=/home/biocbuild/bbs-3.10-bioc/R/library --no-vignettes --timings Sconify_1.6.0.tar.gz
###
##############################################################################
##############################################################################
* using log directory ‘/home/biocbuild/bbs-3.10-bioc/meat/Sconify.Rcheck’
* using R version 3.6.3 (2020-02-29)
* using platform: x86_64-pc-linux-gnu (64-bit)
* using session charset: UTF-8
* using option ‘--no-vignettes’
* checking for file ‘Sconify/DESCRIPTION’ ... OK
* checking extension type ... Package
* this is package ‘Sconify’ version ‘1.6.0’
* package encoding: UTF-8
* checking package namespace information ... OK
* checking package dependencies ... OK
* checking if this is a source package ... OK
* checking if there is a namespace ... OK
* checking for hidden files and directories ... OK
* checking for portable file names ... OK
* checking for sufficient/correct file permissions ... OK
* checking whether package ‘Sconify’ can be installed ... OK
* checking installed package size ... OK
* checking package directory ... OK
* checking ‘build’ directory ... OK
* checking DESCRIPTION meta-information ... OK
* checking top-level files ... OK
* checking for left-over files ... OK
* checking index information ... OK
* checking package subdirectories ... OK
* checking R files for non-ASCII characters ... OK
* checking R files for syntax errors ... OK
* checking whether the package can be loaded ... OK
* checking whether the package can be loaded with stated dependencies ... OK
* checking whether the package can be unloaded cleanly ... OK
* checking whether the namespace can be loaded with stated dependencies ... OK
* checking whether the namespace can be unloaded cleanly ... OK
* checking dependencies in R code ... OK
* checking S3 generic/method consistency ... OK
* checking replacement functions ... OK
* checking foreign function calls ... OK
* checking R code for possible problems ... OK
* checking Rd files ... OK
* checking Rd metadata ... OK
* checking Rd cross-references ... OK
* checking for missing documentation entries ... OK
* checking for code/documentation mismatches ... OK
* checking Rd \usage sections ... OK
* checking Rd contents ... OK
* checking for unstated dependencies in examples ... OK
* checking contents of ‘data’ directory ... OK
* checking data for non-ASCII characters ... OK
* checking data for ASCII and uncompressed saves ... OK
* checking files in ‘vignettes’ ... OK
* checking examples ... OK
Examples with CPU or elapsed time > 5s
user system elapsed
SconeValues 32.888 0.000 32.949
ImputeTesting 15.904 0.004 15.941
* checking for unstated dependencies in ‘tests’ ... OK
* checking tests ...
Running ‘testthat.R’
OK
* checking for unstated dependencies in vignettes ... OK
* checking package vignettes in ‘inst/doc’ ... OK
* checking running R code from vignettes ... SKIPPED
* checking re-building of vignette outputs ... SKIPPED
* checking PDF version of manual ... OK
* DONE
Status: OK
Sconify.Rcheck/00install.out
############################################################################## ############################################################################## ### ### Running command: ### ### /home/biocbuild/bbs-3.10-bioc/R/bin/R CMD INSTALL Sconify ### ############################################################################## ############################################################################## * installing to library ‘/home/biocbuild/bbs-3.10-bioc/R/library’ * installing *source* package ‘Sconify’ ... ** using staged installation ** R ** data *** moving datasets to lazyload DB ** inst ** byte-compile and prepare package for lazy loading Note: wrong number of arguments to '/' Note: wrong number of arguments to 'asinh' ** help *** installing help indices ** building package indices ** installing vignettes ** testing if installed package can be loaded from temporary location ** testing if installed package can be loaded from final location ** testing if installed package keeps a record of temporary installation path * DONE (Sconify)
Sconify.Rcheck/tests/testthat.Rout
R version 3.6.3 (2020-02-29) -- "Holding the Windsock"
Copyright (C) 2020 The R Foundation for Statistical Computing
Platform: x86_64-pc-linux-gnu (64-bit)
R is free software and comes with ABSOLUTELY NO WARRANTY.
You are welcome to redistribute it under certain conditions.
Type 'license()' or 'licence()' for distribution details.
R is a collaborative project with many contributors.
Type 'contributors()' for more information and
'citation()' on how to cite R or R packages in publications.
Type 'demo()' for some demos, 'help()' for on-line help, or
'help.start()' for an HTML browser interface to help.
Type 'q()' to quit R.
> library(testthat)
> library(Sconify)
>
> test_check("Sconify")
Read the 100 x 27 data matrix successfully!
OpenMP is working. 1 threads.
Using no_dims = 2, perplexity = 30.000000, and theta = 0.500000
Computing input similarities...
Building tree...
Done in 0.02 seconds (sparsity = 0.969600)!
Learning embedding...
Iteration 50: error is 50.436779 (50 iterations in 0.02 seconds)
Iteration 100: error is 48.399939 (50 iterations in 0.02 seconds)
Iteration 150: error is 49.769265 (50 iterations in 0.02 seconds)
Iteration 200: error is 50.921661 (50 iterations in 0.02 seconds)
Iteration 250: error is 48.818270 (50 iterations in 0.02 seconds)
Iteration 300: error is 0.989684 (50 iterations in 0.01 seconds)
Iteration 350: error is 0.282212 (50 iterations in 0.01 seconds)
Iteration 400: error is 0.178510 (50 iterations in 0.01 seconds)
Iteration 450: error is 0.142559 (50 iterations in 0.02 seconds)
Iteration 500: error is 0.140531 (50 iterations in 0.02 seconds)
Iteration 550: error is 0.142286 (50 iterations in 0.02 seconds)
Iteration 600: error is 0.142070 (50 iterations in 0.02 seconds)
Iteration 650: error is 0.143408 (50 iterations in 0.02 seconds)
Iteration 700: error is 0.142800 (50 iterations in 0.02 seconds)
Iteration 750: error is 0.142843 (50 iterations in 0.02 seconds)
Iteration 800: error is 0.141169 (50 iterations in 0.02 seconds)
Iteration 850: error is 0.143543 (50 iterations in 0.02 seconds)
Iteration 900: error is 0.142529 (50 iterations in 0.01 seconds)
Iteration 950: error is 0.142463 (50 iterations in 0.01 seconds)
Iteration 1000: error is 0.142495 (50 iterations in 0.01 seconds)
Fitting performed in 0.32 seconds.
Read the 1000 x 27 data matrix successfully!
OpenMP is working. 1 threads.
Using no_dims = 2, perplexity = 30.000000, and theta = 0.500000
Computing input similarities...
Building tree...
Done in 0.25 seconds (sparsity = 0.129120)!
Learning embedding...
Iteration 50: error is 64.832250 (50 iterations in 0.39 seconds)
Iteration 100: error is 61.004458 (50 iterations in 0.25 seconds)
Iteration 150: error is 60.339757 (50 iterations in 0.26 seconds)
Iteration 200: error is 60.196866 (50 iterations in 0.27 seconds)
Iteration 250: error is 60.156154 (50 iterations in 0.27 seconds)
Iteration 300: error is 1.356634 (50 iterations in 0.20 seconds)
Iteration 350: error is 1.247773 (50 iterations in 0.18 seconds)
Iteration 400: error is 1.214648 (50 iterations in 0.25 seconds)
Iteration 450: error is 1.200747 (50 iterations in 0.27 seconds)
Iteration 500: error is 1.192669 (50 iterations in 0.19 seconds)
Iteration 550: error is 1.188769 (50 iterations in 0.21 seconds)
Iteration 600: error is 1.183615 (50 iterations in 0.27 seconds)
Iteration 650: error is 1.178595 (50 iterations in 0.27 seconds)
Iteration 700: error is 1.176080 (50 iterations in 0.26 seconds)
Iteration 750: error is 1.173845 (50 iterations in 0.20 seconds)
Iteration 800: error is 1.171246 (50 iterations in 0.19 seconds)
Iteration 850: error is 1.169662 (50 iterations in 0.24 seconds)
Iteration 900: error is 1.167966 (50 iterations in 0.26 seconds)
Iteration 950: error is 1.166238 (50 iterations in 0.18 seconds)
Iteration 1000: error is 1.164648 (50 iterations in 0.22 seconds)
Fitting performed in 4.81 seconds.
══ testthat results ═══════════════════════════════════════════════════════════
[ OK: 72 | SKIPPED: 0 | WARNINGS: 3 | FAILED: 0 ]
>
> proc.time()
user system elapsed
55.160 0.180 55.447
Sconify.Rcheck/Sconify-Ex.timings
| name | user | system | elapsed | |
| FcsToTibble | 0.128 | 0.016 | 0.222 | |
| Fnn | 0.452 | 0.372 | 0.843 | |
| GetKnnDe | 0.108 | 0.008 | 0.114 | |
| GetMarkerNames | 0.036 | 0.000 | 0.037 | |
| ImputeTesting | 15.904 | 0.004 | 15.941 | |
| MakeHist | 0.548 | 0.012 | 0.565 | |
| MakeKnnList | 0.668 | 0.004 | 0.674 | |
| MeaningOfLife | 0 | 0 | 0 | |
| ParseMarkers | 0.028 | 0.012 | 0.055 | |
| PostProcessing | 0.136 | 0.000 | 0.136 | |
| ProcessMultipleFiles | 0.144 | 0.004 | 0.151 | |
| QuantNormalizeElements | 0.188 | 0.000 | 0.188 | |
| SconeValues | 32.888 | 0.000 | 32.949 | |
| SplitFile | 0.068 | 0.000 | 0.068 | |
| StringToNumbers | 0.000 | 0.000 | 0.001 | |
| SubsampleAndTsne | 2.108 | 0.008 | 2.119 | |
| TsneVis | 0.296 | 0.000 | 0.300 | |