| Back to Multiple platform build/check report for BioC 3.10 |
|
This page was generated on 2020-04-15 12:28:33 -0400 (Wed, 15 Apr 2020).
| Package 1520/1823 | Hostname | OS / Arch | INSTALL | BUILD | CHECK | BUILD BIN | ||||||
| Scale4C 1.8.0 Carolin Walter
| malbec1 | Linux (Ubuntu 18.04.4 LTS) / x86_64 | OK | OK | OK | |||||||
| tokay1 | Windows Server 2012 R2 Standard / x64 | [ OK ] | OK | OK | OK | |||||||
| merida1 | OS X 10.11.6 El Capitan / x86_64 | OK | OK | OK | OK |
| Package: Scale4C |
| Version: 1.8.0 |
| Command: C:\cygwin\bin\curl.exe -O https://malbec1.bioconductor.org/BBS/3.10/bioc/src/contrib/Scale4C_1.8.0.tar.gz && rm -rf Scale4C.buildbin-libdir && mkdir Scale4C.buildbin-libdir && C:\Users\biocbuild\bbs-3.10-bioc\R\bin\R.exe CMD INSTALL --merge-multiarch --build --library=Scale4C.buildbin-libdir Scale4C_1.8.0.tar.gz && C:\Users\biocbuild\bbs-3.10-bioc\R\bin\R.exe CMD INSTALL Scale4C_1.8.0.zip && rm Scale4C_1.8.0.tar.gz Scale4C_1.8.0.zip |
| StartedAt: 2020-04-14 19:38:49 -0400 (Tue, 14 Apr 2020) |
| EndedAt: 2020-04-14 19:39:35 -0400 (Tue, 14 Apr 2020) |
| EllapsedTime: 45.3 seconds |
| RetCode: 0 |
| Status: OK |
##############################################################################
##############################################################################
###
### Running command:
###
### C:\cygwin\bin\curl.exe -O https://malbec1.bioconductor.org/BBS/3.10/bioc/src/contrib/Scale4C_1.8.0.tar.gz && rm -rf Scale4C.buildbin-libdir && mkdir Scale4C.buildbin-libdir && C:\Users\biocbuild\bbs-3.10-bioc\R\bin\R.exe CMD INSTALL --merge-multiarch --build --library=Scale4C.buildbin-libdir Scale4C_1.8.0.tar.gz && C:\Users\biocbuild\bbs-3.10-bioc\R\bin\R.exe CMD INSTALL Scale4C_1.8.0.zip && rm Scale4C_1.8.0.tar.gz Scale4C_1.8.0.zip
###
##############################################################################
##############################################################################
% Total % Received % Xferd Average Speed Time Time Time Current
Dload Upload Total Spent Left Speed
0 0 0 0 0 0 0 0 --:--:-- --:--:-- --:--:-- 0
100 3301k 100 3301k 0 0 28.1M 0 --:--:-- --:--:-- --:--:-- 29.0M
install for i386
* installing *source* package 'Scale4C' ...
** using staged installation
** R
** data
** inst
** byte-compile and prepare package for lazy loading
** help
*** installing help indices
converting help for package 'Scale4C'
finding HTML links ... done
Scale4C-class html
Scale4C html
addPointsOfInterest html
calculateFingerprintMap html
calculateScaleSpace html
findSingularities html
importBasic4CseqData html
liverData html
liverDataVP html
outputScaleSpaceTree html
plotInflectionPoints html
plotTesselation html
plotTraceback html
** building package indices
** installing vignettes
** testing if installed package can be loaded from temporary location
** testing if installed package can be loaded from final location
** testing if installed package keeps a record of temporary installation path
install for x64
* installing *source* package 'Scale4C' ...
** testing if installed package can be loaded
* MD5 sums
packaged installation of 'Scale4C' as Scale4C_1.8.0.zip
* DONE (Scale4C)
* installing to library 'C:/Users/biocbuild/bbs-3.10-bioc/R/library'
package 'Scale4C' successfully unpacked and MD5 sums checked