| Back to Multiple platform build/check report for BioC 3.10 |
|
This page was generated on 2020-04-15 12:28:11 -0400 (Wed, 15 Apr 2020).
| Package 1679/1823 | Hostname | OS / Arch | INSTALL | BUILD | CHECK | BUILD BIN | ||||||
| STROMA4 1.10.0 Sadiq Saleh
| malbec1 | Linux (Ubuntu 18.04.4 LTS) / x86_64 | OK | OK | OK | |||||||
| tokay1 | Windows Server 2012 R2 Standard / x64 | [ OK ] | OK | OK | OK | |||||||
| merida1 | OS X 10.11.6 El Capitan / x86_64 | OK | OK | OK | OK |
| Package: STROMA4 |
| Version: 1.10.0 |
| Command: C:\cygwin\bin\curl.exe -O https://malbec1.bioconductor.org/BBS/3.10/bioc/src/contrib/STROMA4_1.10.0.tar.gz && rm -rf STROMA4.buildbin-libdir && mkdir STROMA4.buildbin-libdir && C:\Users\biocbuild\bbs-3.10-bioc\R\bin\R.exe CMD INSTALL --merge-multiarch --build --library=STROMA4.buildbin-libdir STROMA4_1.10.0.tar.gz && C:\Users\biocbuild\bbs-3.10-bioc\R\bin\R.exe CMD INSTALL STROMA4_1.10.0.zip && rm STROMA4_1.10.0.tar.gz STROMA4_1.10.0.zip |
| StartedAt: 2020-04-14 19:08:08 -0400 (Tue, 14 Apr 2020) |
| EndedAt: 2020-04-14 19:08:27 -0400 (Tue, 14 Apr 2020) |
| EllapsedTime: 18.4 seconds |
| RetCode: 0 |
| Status: OK |
##############################################################################
##############################################################################
###
### Running command:
###
### C:\cygwin\bin\curl.exe -O https://malbec1.bioconductor.org/BBS/3.10/bioc/src/contrib/STROMA4_1.10.0.tar.gz && rm -rf STROMA4.buildbin-libdir && mkdir STROMA4.buildbin-libdir && C:\Users\biocbuild\bbs-3.10-bioc\R\bin\R.exe CMD INSTALL --merge-multiarch --build --library=STROMA4.buildbin-libdir STROMA4_1.10.0.tar.gz && C:\Users\biocbuild\bbs-3.10-bioc\R\bin\R.exe CMD INSTALL STROMA4_1.10.0.zip && rm STROMA4_1.10.0.tar.gz STROMA4_1.10.0.zip
###
##############################################################################
##############################################################################
% Total % Received % Xferd Average Speed Time Time Time Current
Dload Upload Total Spent Left Speed
0 0 0 0 0 0 0 0 --:--:-- --:--:-- --:--:-- 0
100 41245 100 41245 0 0 953k 0 --:--:-- --:--:-- --:--:-- 1032k
install for i386
* installing *source* package 'STROMA4' ...
** using staged installation
** R
** data
*** moving datasets to lazyload DB
** byte-compile and prepare package for lazy loading
** help
*** installing help indices
converting help for package 'STROMA4'
finding HTML links ... done
B.stroma.property html
BL1.property html
BL2.property html
D.stroma.property html
E.stroma.property html
IM.property html
LAR.property html
M.property html
MSL.property html
T.stroma.property html
assign.properties html
** building package indices
** installing vignettes
** testing if installed package can be loaded from temporary location
** testing if installed package can be loaded from final location
** testing if installed package keeps a record of temporary installation path
install for x64
* installing *source* package 'STROMA4' ...
** testing if installed package can be loaded
* MD5 sums
packaged installation of 'STROMA4' as STROMA4_1.10.0.zip
* DONE (STROMA4)
* installing to library 'C:/Users/biocbuild/bbs-3.10-bioc/R/library'
package 'STROMA4' successfully unpacked and MD5 sums checked