| Back to Multiple platform build/check report for BioC 3.10 |
|
This page was generated on 2020-04-15 12:19:15 -0400 (Wed, 15 Apr 2020).
| Package 1656/1823 | Hostname | OS / Arch | INSTALL | BUILD | CHECK | BUILD BIN | ||||||
| SRAdb 1.48.2 Jack Zhu
| malbec1 | Linux (Ubuntu 18.04.4 LTS) / x86_64 | OK | OK | OK | |||||||
| tokay1 | Windows Server 2012 R2 Standard / x64 | OK | OK | OK | [ OK ] | |||||||
| merida1 | OS X 10.11.6 El Capitan / x86_64 | OK | OK | OK | OK |
| Package: SRAdb |
| Version: 1.48.2 |
| Command: rm -rf SRAdb.buildbin-libdir && mkdir SRAdb.buildbin-libdir && C:\Users\biocbuild\bbs-3.10-bioc\R\bin\R.exe CMD INSTALL --merge-multiarch --build --library=SRAdb.buildbin-libdir SRAdb_1.48.2.tar.gz |
| StartedAt: 2020-04-15 09:45:20 -0400 (Wed, 15 Apr 2020) |
| EndedAt: 2020-04-15 09:46:01 -0400 (Wed, 15 Apr 2020) |
| EllapsedTime: 41.1 seconds |
| RetCode: 0 |
| Status: OK |
| PackageFile: SRAdb_1.48.2.zip |
| PackageFileSize: 792.9 KiB |
##############################################################################
##############################################################################
###
### Running command:
###
### rm -rf SRAdb.buildbin-libdir && mkdir SRAdb.buildbin-libdir && C:\Users\biocbuild\bbs-3.10-bioc\R\bin\R.exe CMD INSTALL --merge-multiarch --build --library=SRAdb.buildbin-libdir SRAdb_1.48.2.tar.gz
###
##############################################################################
##############################################################################
install for i386
* installing *source* package 'SRAdb' ...
** using staged installation
** R
** inst
** byte-compile and prepare package for lazy loading
** help
*** installing help indices
converting help for package 'SRAdb'
finding HTML links ... done
IGVclear html
IGVcollapse html
IGVgenome html
IGVgoto html
IGVload html
IGVsession html
IGVsnapshot html
IGVsocket html
IGVsort html
SRAdb-package html
ascpR html
ascpSRA html
colDescriptions html
entityGraph html
getFASTQfile html
getFASTQinfo html
getSRA html
getSRAdbFile html
getSRAfile html
getSRAinfo html
listSRAfile html
sraConvert html
sraGraph html
startIGV html
** building package indices
** installing vignettes
** testing if installed package can be loaded from temporary location
** testing if installed package can be loaded from final location
** testing if installed package keeps a record of temporary installation path
install for x64
* installing *source* package 'SRAdb' ...
** testing if installed package can be loaded
* MD5 sums
packaged installation of 'SRAdb' as SRAdb_1.48.2.zip
* DONE (SRAdb)