| Back to Multiple platform build/check report for BioC 3.10 |
|
This page was generated on 2020-04-15 12:43:04 -0400 (Wed, 15 Apr 2020).
| Package 1619/1823 | Hostname | OS / Arch | INSTALL | BUILD | CHECK | BUILD BIN | ||||||
| SMITE 1.14.0 Neil Ari Wijetunga
| malbec1 | Linux (Ubuntu 18.04.4 LTS) / x86_64 | OK | OK | OK | |||||||
| tokay1 | Windows Server 2012 R2 Standard / x64 | OK | OK | OK | OK | |||||||
| merida1 | OS X 10.11.6 El Capitan / x86_64 | OK | OK | [ OK ] | OK |
| Package: SMITE |
| Version: 1.14.0 |
| Command: /Library/Frameworks/R.framework/Versions/Current/Resources/bin/R CMD check --install=check:SMITE.install-out.txt --library=/Library/Frameworks/R.framework/Versions/Current/Resources/library --no-vignettes --timings SMITE_1.14.0.tar.gz |
| StartedAt: 2020-04-15 05:48:46 -0400 (Wed, 15 Apr 2020) |
| EndedAt: 2020-04-15 05:54:01 -0400 (Wed, 15 Apr 2020) |
| EllapsedTime: 315.3 seconds |
| RetCode: 0 |
| Status: OK |
| CheckDir: SMITE.Rcheck |
| Warnings: 0 |
############################################################################## ############################################################################## ### ### Running command: ### ### /Library/Frameworks/R.framework/Versions/Current/Resources/bin/R CMD check --install=check:SMITE.install-out.txt --library=/Library/Frameworks/R.framework/Versions/Current/Resources/library --no-vignettes --timings SMITE_1.14.0.tar.gz ### ############################################################################## ############################################################################## * using log directory ‘/Users/biocbuild/bbs-3.10-bioc/meat/SMITE.Rcheck’ * using R version 3.6.3 (2020-02-29) * using platform: x86_64-apple-darwin15.6.0 (64-bit) * using session charset: UTF-8 * using option ‘--no-vignettes’ * checking for file ‘SMITE/DESCRIPTION’ ... OK * checking extension type ... Package * this is package ‘SMITE’ version ‘1.14.0’ * checking package namespace information ... OK * checking package dependencies ... OK * checking if this is a source package ... OK * checking if there is a namespace ... OK * checking for hidden files and directories ... OK * checking for portable file names ... OK * checking for sufficient/correct file permissions ... OK * checking whether package ‘SMITE’ can be installed ... OK * checking installed package size ... OK * checking package directory ... OK * checking ‘build’ directory ... OK * checking DESCRIPTION meta-information ... OK * checking top-level files ... OK * checking for left-over files ... OK * checking index information ... OK * checking package subdirectories ... OK * checking R files for non-ASCII characters ... OK * checking R files for syntax errors ... OK * checking whether the package can be loaded ... OK * checking whether the package can be loaded with stated dependencies ... OK * checking whether the package can be unloaded cleanly ... OK * checking whether the namespace can be loaded with stated dependencies ... OK * checking whether the namespace can be unloaded cleanly ... OK * checking dependencies in R code ... OK * checking S3 generic/method consistency ... OK * checking replacement functions ... OK * checking foreign function calls ... OK * checking R code for possible problems ... OK * checking Rd files ... OK * checking Rd metadata ... OK * checking Rd cross-references ... OK * checking for missing documentation entries ... OK * checking for code/documentation mismatches ... OK * checking Rd \usage sections ... OK * checking Rd contents ... OK * checking for unstated dependencies in examples ... OK * checking contents of ‘data’ directory ... OK * checking data for non-ASCII characters ... OK * checking data for ASCII and uncompressed saves ... OK * checking sizes of PDF files under ‘inst/doc’ ... OK * checking files in ‘vignettes’ ... OK * checking examples ... OK * checking for unstated dependencies in vignettes ... OK * checking package vignettes in ‘inst/doc’ ... OK * checking running R code from vignettes ... SKIPPED * checking re-building of vignette outputs ... SKIPPED * checking PDF version of manual ... OK * DONE Status: OK
SMITE.Rcheck/00install.out
############################################################################## ############################################################################## ### ### Running command: ### ### /Library/Frameworks/R.framework/Versions/Current/Resources/bin/R CMD INSTALL SMITE ### ############################################################################## ############################################################################## * installing to library ‘/Library/Frameworks/R.framework/Versions/3.6/Resources/library’ * installing *source* package ‘SMITE’ ... ** using staged installation ** R ** data ** inst ** byte-compile and prepare package for lazy loading ** help *** installing help indices ** building package indices ** installing vignettes ** testing if installed package can be loaded from temporary location ** testing if installed package can be loaded from final location ** testing if installed package keeps a record of temporary installation path * DONE (SMITE)
SMITE.Rcheck/SMITE-Ex.timings
| name | user | system | elapsed | |
| Reactome.Symbol.Igraph | 0.128 | 0.016 | 0.146 | |
| SMITE-package | 0.588 | 0.032 | 0.629 | |
| addShadowText | 0.003 | 0.000 | 0.003 | |
| annotateExpression | 0.960 | 0.018 | 1.008 | |
| annotateModification | 0.001 | 0.001 | 0.001 | |
| convertGeneIds | 2.121 | 0.185 | 2.335 | |
| curated_expression | 0.063 | 0.005 | 0.068 | |
| extractExpression | 0.245 | 0.011 | 0.257 | |
| extractGOseq | 0.131 | 0.014 | 0.146 | |
| extractModification | 1.343 | 0.049 | 1.400 | |
| extractModules | 0.054 | 0.004 | 0.058 | |
| extractScores | 0.056 | 0.004 | 0.061 | |
| genes_for_conversiontest | 1.241 | 0.015 | 1.264 | |
| hg19_gene_bed | 0.182 | 0.007 | 0.191 | |
| highScores | 0.050 | 0.002 | 0.052 | |
| histone_h3k4me1 | 0.093 | 0.006 | 0.101 | |
| makePvalueAnnotation | 1.607 | 0.050 | 1.673 | |
| makePvalueObject | 0.074 | 0.007 | 0.084 | |
| methylationdata | 0.079 | 0.006 | 0.086 | |
| normalizePval | 0.049 | 0.003 | 0.053 | |
| plotCompareScores | 0.662 | 0.014 | 0.690 | |
| plotDensityPval | 0.136 | 0.008 | 0.146 | |
| plotModule | 0.046 | 0.002 | 0.047 | |
| removeModification | 0.078 | 0.007 | 0.085 | |
| runBioNet | 0.056 | 0.003 | 0.059 | |
| runGOseq | 0.319 | 0.003 | 0.325 | |
| runSpinglass | 0.733 | 0.050 | 0.843 | |
| scorePval | 0.045 | 0.004 | 0.050 | |
| stoufferTest | 0.002 | 0.001 | 0.002 | |
| test_annotation_score_data | 0.087 | 0.005 | 0.093 | |