| Back to Multiple platform build/check report for BioC 3.10 |
|
This page was generated on 2020-04-15 12:17:57 -0400 (Wed, 15 Apr 2020).
| Package 1616/1823 | Hostname | OS / Arch | INSTALL | BUILD | CHECK | BUILD BIN | ||||||
| SLqPCR 1.52.0 Matthias Kohl
| malbec1 | Linux (Ubuntu 18.04.4 LTS) / x86_64 | OK | OK | OK | |||||||
| tokay1 | Windows Server 2012 R2 Standard / x64 | [ OK ] | OK | OK | OK | |||||||
| merida1 | OS X 10.11.6 El Capitan / x86_64 | OK | OK | OK | OK |
| Package: SLqPCR |
| Version: 1.52.0 |
| Command: C:\cygwin\bin\curl.exe -O https://malbec1.bioconductor.org/BBS/3.10/bioc/src/contrib/SLqPCR_1.52.0.tar.gz && rm -rf SLqPCR.buildbin-libdir && mkdir SLqPCR.buildbin-libdir && C:\Users\biocbuild\bbs-3.10-bioc\R\bin\R.exe CMD INSTALL --merge-multiarch --build --library=SLqPCR.buildbin-libdir SLqPCR_1.52.0.tar.gz && C:\Users\biocbuild\bbs-3.10-bioc\R\bin\R.exe CMD INSTALL SLqPCR_1.52.0.zip && rm SLqPCR_1.52.0.tar.gz SLqPCR_1.52.0.zip |
| StartedAt: 2020-04-14 18:31:59 -0400 (Tue, 14 Apr 2020) |
| EndedAt: 2020-04-14 18:32:22 -0400 (Tue, 14 Apr 2020) |
| EllapsedTime: 23.2 seconds |
| RetCode: 0 |
| Status: OK |
##############################################################################
##############################################################################
###
### Running command:
###
### C:\cygwin\bin\curl.exe -O https://malbec1.bioconductor.org/BBS/3.10/bioc/src/contrib/SLqPCR_1.52.0.tar.gz && rm -rf SLqPCR.buildbin-libdir && mkdir SLqPCR.buildbin-libdir && C:\Users\biocbuild\bbs-3.10-bioc\R\bin\R.exe CMD INSTALL --merge-multiarch --build --library=SLqPCR.buildbin-libdir SLqPCR_1.52.0.tar.gz && C:\Users\biocbuild\bbs-3.10-bioc\R\bin\R.exe CMD INSTALL SLqPCR_1.52.0.zip && rm SLqPCR_1.52.0.tar.gz SLqPCR_1.52.0.zip
###
##############################################################################
##############################################################################
% Total % Received % Xferd Average Speed Time Time Time Current
Dload Upload Total Spent Left Speed
0 0 0 0 0 0 0 0 --:--:-- --:--:-- --:--:-- 0
100 25896 100 25896 0 0 567k 0 --:--:-- --:--:-- --:--:-- 616k
install for i386
* installing *source* package 'SLqPCR' ...
** using staged installation
** R
** data
** inst
** byte-compile and prepare package for lazy loading
** help
*** installing help indices
converting help for package 'SLqPCR'
finding HTML links ... done
SLqPCR-package html
SLqPCRdata html
geneStabM html
geomMean html
normPCR html
relQuantPCR html
selectHKgenes html
vandesompele html
** building package indices
** installing vignettes
** testing if installed package can be loaded from temporary location
** testing if installed package can be loaded from final location
** testing if installed package keeps a record of temporary installation path
install for x64
* installing *source* package 'SLqPCR' ...
** testing if installed package can be loaded
* MD5 sums
packaged installation of 'SLqPCR' as SLqPCR_1.52.0.zip
* DONE (SLqPCR)
* installing to library 'C:/Users/biocbuild/bbs-3.10-bioc/R/library'
package 'SLqPCR' successfully unpacked and MD5 sums checked