| Back to Multiple platform build/check report for BioC 3.10 |
|
This page was generated on 2020-04-15 12:30:05 -0400 (Wed, 15 Apr 2020).
| Package 1557/1823 | Hostname | OS / Arch | INSTALL | BUILD | CHECK | BUILD BIN | ||||||
| SEPIRA 1.6.0 Yuting Chen
| malbec1 | Linux (Ubuntu 18.04.4 LTS) / x86_64 | OK | OK | OK | |||||||
| tokay1 | Windows Server 2012 R2 Standard / x64 | [ OK ] | OK | OK | OK | |||||||
| merida1 | OS X 10.11.6 El Capitan / x86_64 | OK | OK | OK | OK |
| Package: SEPIRA |
| Version: 1.6.0 |
| Command: C:\cygwin\bin\curl.exe -O https://malbec1.bioconductor.org/BBS/3.10/bioc/src/contrib/SEPIRA_1.6.0.tar.gz && rm -rf SEPIRA.buildbin-libdir && mkdir SEPIRA.buildbin-libdir && C:\Users\biocbuild\bbs-3.10-bioc\R\bin\R.exe CMD INSTALL --merge-multiarch --build --library=SEPIRA.buildbin-libdir SEPIRA_1.6.0.tar.gz && C:\Users\biocbuild\bbs-3.10-bioc\R\bin\R.exe CMD INSTALL SEPIRA_1.6.0.zip && rm SEPIRA_1.6.0.tar.gz SEPIRA_1.6.0.zip |
| StartedAt: 2020-04-14 18:38:54 -0400 (Tue, 14 Apr 2020) |
| EndedAt: 2020-04-14 18:39:22 -0400 (Tue, 14 Apr 2020) |
| EllapsedTime: 27.9 seconds |
| RetCode: 0 |
| Status: OK |
##############################################################################
##############################################################################
###
### Running command:
###
### C:\cygwin\bin\curl.exe -O https://malbec1.bioconductor.org/BBS/3.10/bioc/src/contrib/SEPIRA_1.6.0.tar.gz && rm -rf SEPIRA.buildbin-libdir && mkdir SEPIRA.buildbin-libdir && C:\Users\biocbuild\bbs-3.10-bioc\R\bin\R.exe CMD INSTALL --merge-multiarch --build --library=SEPIRA.buildbin-libdir SEPIRA_1.6.0.tar.gz && C:\Users\biocbuild\bbs-3.10-bioc\R\bin\R.exe CMD INSTALL SEPIRA_1.6.0.zip && rm SEPIRA_1.6.0.tar.gz SEPIRA_1.6.0.zip
###
##############################################################################
##############################################################################
% Total % Received % Xferd Average Speed Time Time Time Current
Dload Upload Total Spent Left Speed
0 0 0 0 0 0 0 0 --:--:-- --:--:-- --:--:-- 0
0 5870k 0 0 0 0 0 0 --:--:-- --:--:-- --:--:-- 0
100 5870k 100 5870k 0 0 19.1M 0 --:--:-- --:--:-- --:--:-- 19.3M
install for i386
* installing *source* package 'SEPIRA' ...
** using staged installation
** R
** data
** inst
** byte-compile and prepare package for lazy loading
** help
*** installing help indices
converting help for package 'SEPIRA'
finding HTML links ... done
ComputePCOR html
GeneExp html
InferTFact html
InferTFactPRL html
LUSCexp html
LUSCmeth html
LimmaFn html
TFeid html
VALexp html
sepiraInfNet html
sepiraRegAct html
** building package indices
** installing vignettes
** testing if installed package can be loaded from temporary location
** testing if installed package can be loaded from final location
** testing if installed package keeps a record of temporary installation path
install for x64
* installing *source* package 'SEPIRA' ...
** testing if installed package can be loaded
* MD5 sums
packaged installation of 'SEPIRA' as SEPIRA_1.6.0.zip
* DONE (SEPIRA)
* installing to library 'C:/Users/biocbuild/bbs-3.10-bioc/R/library'
package 'SEPIRA' successfully unpacked and MD5 sums checked