| Back to Multiple platform build/check report for BioC 3.10 |
|
This page was generated on 2020-04-15 12:21:25 -0400 (Wed, 15 Apr 2020).
| Package 1514/1823 | Hostname | OS / Arch | INSTALL | BUILD | CHECK | BUILD BIN | ||||||
| SANTA 2.24.0 Alex J. Cornish
| malbec1 | Linux (Ubuntu 18.04.4 LTS) / x86_64 | OK | ERROR | skipped | |||||||
| tokay1 | Windows Server 2012 R2 Standard / x64 | [ OK ] | ERROR | skipped | skipped | |||||||
| merida1 | OS X 10.11.6 El Capitan / x86_64 | OK | ERROR | skipped | skipped |
| Package: SANTA |
| Version: 2.24.0 |
| Command: C:\cygwin\bin\curl.exe -O https://malbec1.bioconductor.org/BBS/3.10/bioc/src/contrib/SANTA_2.24.0.tar.gz && rm -rf SANTA.buildbin-libdir && mkdir SANTA.buildbin-libdir && C:\Users\biocbuild\bbs-3.10-bioc\R\bin\R.exe CMD INSTALL --merge-multiarch --build --library=SANTA.buildbin-libdir SANTA_2.24.0.tar.gz && C:\Users\biocbuild\bbs-3.10-bioc\R\bin\R.exe CMD INSTALL SANTA_2.24.0.zip && rm SANTA_2.24.0.tar.gz SANTA_2.24.0.zip |
| StartedAt: 2020-04-14 18:47:26 -0400 (Tue, 14 Apr 2020) |
| EndedAt: 2020-04-14 18:48:15 -0400 (Tue, 14 Apr 2020) |
| EllapsedTime: 49.6 seconds |
| RetCode: 0 |
| Status: OK |
##############################################################################
##############################################################################
###
### Running command:
###
### C:\cygwin\bin\curl.exe -O https://malbec1.bioconductor.org/BBS/3.10/bioc/src/contrib/SANTA_2.24.0.tar.gz && rm -rf SANTA.buildbin-libdir && mkdir SANTA.buildbin-libdir && C:\Users\biocbuild\bbs-3.10-bioc\R\bin\R.exe CMD INSTALL --merge-multiarch --build --library=SANTA.buildbin-libdir SANTA_2.24.0.tar.gz && C:\Users\biocbuild\bbs-3.10-bioc\R\bin\R.exe CMD INSTALL SANTA_2.24.0.zip && rm SANTA_2.24.0.tar.gz SANTA_2.24.0.zip
###
##############################################################################
##############################################################################
% Total % Received % Xferd Average Speed Time Time Time Current
Dload Upload Total Spent Left Speed
0 0 0 0 0 0 0 0 --:--:-- --:--:-- --:--:-- 0
94 3759k 94 3568k 0 0 43.2M 0 --:--:-- --:--:-- --:--:-- 45.2M
100 3759k 100 3759k 0 0 44.6M 0 --:--:-- --:--:-- --:--:-- 46.4M
install for i386
* installing *source* package 'SANTA' ...
** using staged installation
** libs
C:/Rtools/mingw_32/bin/gcc -I"C:/Users/BIOCBU~1/BBS-3~1.10-/R/include" -DNDEBUG -I"C:/extsoft/include" -O3 -Wall -std=gnu99 -mtune=core2 -c computenetK_fewzeros.c -o computenetK_fewzeros.o
C:/Rtools/mingw_32/bin/gcc -I"C:/Users/BIOCBU~1/BBS-3~1.10-/R/include" -DNDEBUG -I"C:/extsoft/include" -O3 -Wall -std=gnu99 -mtune=core2 -c computenetK_manyzeros.c -o computenetK_manyzeros.o
computenetK_manyzeros.c: In function 'computenetK_manyzeros':
computenetK_manyzeros.c:29:24: warning: assignment from incompatible pointer type
p_which_vw_nonzero = R_alloc(n_nonzero_vertices, sizeof(int));
^
C:/Rtools/mingw_32/bin/gcc -I"C:/Users/BIOCBU~1/BBS-3~1.10-/R/include" -DNDEBUG -I"C:/extsoft/include" -O3 -Wall -std=gnu99 -mtune=core2 -c computenodeAUK.c -o computenodeAUK.o
C:/Rtools/mingw_32/bin/gcc -I"C:/Users/BIOCBU~1/BBS-3~1.10-/R/include" -DNDEBUG -I"C:/extsoft/include" -O3 -Wall -std=gnu99 -mtune=core2 -c computeweights.c -o computeweights.o
C:/Rtools/mingw_32/bin/gcc -shared -s -static-libgcc -o SANTA.dll tmp.def computenetK_fewzeros.o computenetK_manyzeros.o computenodeAUK.o computeweights.o -LC:/extsoft/lib/i386 -LC:/extsoft/lib -LC:/Users/BIOCBU~1/BBS-3~1.10-/R/bin/i386 -lR
installing to C:/Users/biocbuild/bbs-3.10-bioc/meat/SANTA.buildbin-libdir/00LOCK-SANTA/00new/SANTA/libs/i386
** R
** data
** inst
** byte-compile and prepare package for lazy loading
** help
*** installing help indices
converting help for package 'SANTA'
finding HTML links ... done
BinGraph html
Compactness html
CreateGrid html
DistGraph html
Rd warning: C:/Users/biocbuild/bbs-3.10-bioc/tmpdir/Rtmpaiuk9Q/R.INSTALL10803d554545/SANTA/man/DistGraph.Rd:53: file link 'shortest.paths' in package 'igraph' does not exist and so has been treated as a topic
GraphDiffusion html
Rd warning: C:/Users/biocbuild/bbs-3.10-bioc/tmpdir/Rtmpaiuk9Q/R.INSTALL10803d554545/SANTA/man/GraphDiffusion.Rd:45: file link 'shortest.paths' in package 'igraph' does not exist and so has been treated as a topic
GraphMFPT html
Rd warning: C:/Users/biocbuild/bbs-3.10-bioc/tmpdir/Rtmpaiuk9Q/R.INSTALL10803d554545/SANTA/man/GraphMFPT.Rd:46: file link 'shortest.paths' in package 'igraph' does not exist and so has been treated as a topic
Knet html
Knode html
SANTA.data html
SpreadHits html
plot.Knet html
** building package indices
** installing vignettes
** testing if installed package can be loaded from temporary location
** testing if installed package can be loaded from final location
** testing if installed package keeps a record of temporary installation path
install for x64
* installing *source* package 'SANTA' ...
** libs
C:/Rtools/mingw_64/bin/gcc -I"C:/Users/BIOCBU~1/BBS-3~1.10-/R/include" -DNDEBUG -I"C:/extsoft/include" -O2 -Wall -std=gnu99 -mtune=core2 -c computenetK_fewzeros.c -o computenetK_fewzeros.o
C:/Rtools/mingw_64/bin/gcc -I"C:/Users/BIOCBU~1/BBS-3~1.10-/R/include" -DNDEBUG -I"C:/extsoft/include" -O2 -Wall -std=gnu99 -mtune=core2 -c computenetK_manyzeros.c -o computenetK_manyzeros.o
computenetK_manyzeros.c: In function 'computenetK_manyzeros':
computenetK_manyzeros.c:29:24: warning: assignment from incompatible pointer type
p_which_vw_nonzero = R_alloc(n_nonzero_vertices, sizeof(int));
^
C:/Rtools/mingw_64/bin/gcc -I"C:/Users/BIOCBU~1/BBS-3~1.10-/R/include" -DNDEBUG -I"C:/extsoft/include" -O2 -Wall -std=gnu99 -mtune=core2 -c computenodeAUK.c -o computenodeAUK.o
C:/Rtools/mingw_64/bin/gcc -I"C:/Users/BIOCBU~1/BBS-3~1.10-/R/include" -DNDEBUG -I"C:/extsoft/include" -O2 -Wall -std=gnu99 -mtune=core2 -c computeweights.c -o computeweights.o
C:/Rtools/mingw_64/bin/gcc -shared -s -static-libgcc -o SANTA.dll tmp.def computenetK_fewzeros.o computenetK_manyzeros.o computenodeAUK.o computeweights.o -LC:/extsoft/lib/x64 -LC:/extsoft/lib -LC:/Users/BIOCBU~1/BBS-3~1.10-/R/bin/x64 -lR
installing to C:/Users/biocbuild/bbs-3.10-bioc/meat/SANTA.buildbin-libdir/SANTA/libs/x64
** testing if installed package can be loaded
* MD5 sums
packaged installation of 'SANTA' as SANTA_2.24.0.zip
* DONE (SANTA)
* installing to library 'C:/Users/biocbuild/bbs-3.10-bioc/R/library'
package 'SANTA' successfully unpacked and MD5 sums checked