| Back to Multiple platform build/check report for BioC 3.10 |
|
This page was generated on 2020-04-15 12:22:07 -0400 (Wed, 15 Apr 2020).
| Package 1467/1823 | Hostname | OS / Arch | INSTALL | BUILD | CHECK | BUILD BIN | ||||||
| Roleswitch 1.24.0 Yue Li
| malbec1 | Linux (Ubuntu 18.04.4 LTS) / x86_64 | OK | OK | OK | |||||||
| tokay1 | Windows Server 2012 R2 Standard / x64 | OK | OK | WARNINGS | [ OK ] | |||||||
| merida1 | OS X 10.11.6 El Capitan / x86_64 | OK | OK | OK | OK |
| Package: Roleswitch |
| Version: 1.24.0 |
| Command: rm -rf Roleswitch.buildbin-libdir && mkdir Roleswitch.buildbin-libdir && C:\Users\biocbuild\bbs-3.10-bioc\R\bin\R.exe CMD INSTALL --merge-multiarch --build --library=Roleswitch.buildbin-libdir Roleswitch_1.24.0.tar.gz |
| StartedAt: 2020-04-15 09:34:45 -0400 (Wed, 15 Apr 2020) |
| EndedAt: 2020-04-15 09:35:24 -0400 (Wed, 15 Apr 2020) |
| EllapsedTime: 39.0 seconds |
| RetCode: 0 |
| Status: OK |
| PackageFile: Roleswitch_1.24.0.zip |
| PackageFileSize: 580.3 KiB |
##############################################################################
##############################################################################
###
### Running command:
###
### rm -rf Roleswitch.buildbin-libdir && mkdir Roleswitch.buildbin-libdir && C:\Users\biocbuild\bbs-3.10-bioc\R\bin\R.exe CMD INSTALL --merge-multiarch --build --library=Roleswitch.buildbin-libdir Roleswitch_1.24.0.tar.gz
###
##############################################################################
##############################################################################
install for i386
* installing *source* package 'Roleswitch' ...
** using staged installation
** R
** data
** inst
** byte-compile and prepare package for lazy loading
** help
*** installing help indices
converting help for package 'Roleswitch'
finding HTML links ... done
Roleswitch-package html
diagnosticPlot html
getSeedMatrix html
roleswitch html
Rd warning: C:/Users/biocbuild/bbs-3.10-bioc/tmpdir/RtmpkP44IN/R.INSTALL16183f754a9e/Roleswitch/man/roleswitch.Rd:42: file link 'eSet' in package 'Biobase' does not exist and so has been treated as a topic
Rd warning: C:/Users/biocbuild/bbs-3.10-bioc/tmpdir/RtmpkP44IN/R.INSTALL16183f754a9e/Roleswitch/man/roleswitch.Rd:42: file link 'ExpressionSet' in package 'Biobase' does not exist and so has been treated as a topic
Rd warning: C:/Users/biocbuild/bbs-3.10-bioc/tmpdir/RtmpkP44IN/R.INSTALL16183f754a9e/Roleswitch/man/roleswitch.Rd:45: file link 'eSet' in package 'Biobase' does not exist and so has been treated as a topic
tcga_gbm_testdata html
** building package indices
** installing vignettes
** testing if installed package can be loaded from temporary location
** testing if installed package can be loaded from final location
** testing if installed package keeps a record of temporary installation path
install for x64
* installing *source* package 'Roleswitch' ...
** testing if installed package can be loaded
* MD5 sums
packaged installation of 'Roleswitch' as Roleswitch_1.24.0.zip
* DONE (Roleswitch)