| Back to Multiple platform build/check report for BioC 3.10 |
|
This page was generated on 2020-04-15 12:23:32 -0400 (Wed, 15 Apr 2020).
| Package 1464/1823 | Hostname | OS / Arch | INSTALL | BUILD | CHECK | BUILD BIN | ||||||
| Rnits 1.20.0 Dipen P. Sangurdekar
| malbec1 | Linux (Ubuntu 18.04.4 LTS) / x86_64 | OK | OK | WARNINGS | |||||||
| tokay1 | Windows Server 2012 R2 Standard / x64 | OK | OK | WARNINGS | [ OK ] | |||||||
| merida1 | OS X 10.11.6 El Capitan / x86_64 | OK | OK | WARNINGS | OK |
| Package: Rnits |
| Version: 1.20.0 |
| Command: rm -rf Rnits.buildbin-libdir && mkdir Rnits.buildbin-libdir && C:\Users\biocbuild\bbs-3.10-bioc\R\bin\R.exe CMD INSTALL --merge-multiarch --build --library=Rnits.buildbin-libdir Rnits_1.20.0.tar.gz |
| StartedAt: 2020-04-15 09:34:30 -0400 (Wed, 15 Apr 2020) |
| EndedAt: 2020-04-15 09:34:45 -0400 (Wed, 15 Apr 2020) |
| EllapsedTime: 15.0 seconds |
| RetCode: 0 |
| Status: OK |
| PackageFile: Rnits_1.20.0.zip |
| PackageFileSize: 952.8 KiB |
##############################################################################
##############################################################################
###
### Running command:
###
### rm -rf Rnits.buildbin-libdir && mkdir Rnits.buildbin-libdir && C:\Users\biocbuild\bbs-3.10-bioc\R\bin\R.exe CMD INSTALL --merge-multiarch --build --library=Rnits.buildbin-libdir Rnits_1.20.0.tar.gz
###
##############################################################################
##############################################################################
install for i386
* installing *source* package 'Rnits' ...
** using staged installation
** R
** data
*** moving datasets to lazyload DB
** inst
** byte-compile and prepare package for lazy loading
** help
*** installing help indices
converting help for package 'Rnits'
finding HTML links ... done
Rnits-class html
build.Rnits html
finding level-2 HTML links ... done
calculateGCV-methods html
extract-methods html
fit-methods html
getCID-methods html
getFitModel-methods html
getLR-methods html
getNormTwoChannel-methods html
getPval-methods html
getStat-methods html
plotResults-methods html
rnits html
summarizeProbes-methods html
summary-methods html
timeAlign-methods html
topData-methods html
yeastchemostat html
** building package indices
** installing vignettes
** testing if installed package can be loaded from temporary location
** testing if installed package can be loaded from final location
** testing if installed package keeps a record of temporary installation path
install for x64
* installing *source* package 'Rnits' ...
** testing if installed package can be loaded
* MD5 sums
packaged installation of 'Rnits' as Rnits_1.20.0.zip
* DONE (Rnits)