| Back to Multiple platform build/check report for BioC 3.10 |
|
This page was generated on 2020-04-15 12:30:39 -0400 (Wed, 15 Apr 2020).
| Package 1448/1823 | Hostname | OS / Arch | INSTALL | BUILD | CHECK | BUILD BIN | ||||||
| Rmmquant 1.4.0 Zytnicki Matthias
| malbec1 | Linux (Ubuntu 18.04.4 LTS) / x86_64 | OK | OK | OK | |||||||
| tokay1 | Windows Server 2012 R2 Standard / x64 | [ OK ] | OK | OK | OK | |||||||
| merida1 | OS X 10.11.6 El Capitan / x86_64 | OK | ERROR | skipped | skipped |
| Package: Rmmquant |
| Version: 1.4.0 |
| Command: C:\cygwin\bin\curl.exe -O https://malbec1.bioconductor.org/BBS/3.10/bioc/src/contrib/Rmmquant_1.4.0.tar.gz && rm -rf Rmmquant.buildbin-libdir && mkdir Rmmquant.buildbin-libdir && C:\Users\biocbuild\bbs-3.10-bioc\R\bin\R.exe CMD INSTALL --merge-multiarch --build --library=Rmmquant.buildbin-libdir Rmmquant_1.4.0.tar.gz && C:\Users\biocbuild\bbs-3.10-bioc\R\bin\R.exe CMD INSTALL Rmmquant_1.4.0.zip && rm Rmmquant_1.4.0.tar.gz Rmmquant_1.4.0.zip |
| StartedAt: 2020-04-14 19:56:05 -0400 (Tue, 14 Apr 2020) |
| EndedAt: 2020-04-14 19:57:35 -0400 (Tue, 14 Apr 2020) |
| EllapsedTime: 90.1 seconds |
| RetCode: 0 |
| Status: OK |
##############################################################################
##############################################################################
###
### Running command:
###
### C:\cygwin\bin\curl.exe -O https://malbec1.bioconductor.org/BBS/3.10/bioc/src/contrib/Rmmquant_1.4.0.tar.gz && rm -rf Rmmquant.buildbin-libdir && mkdir Rmmquant.buildbin-libdir && C:\Users\biocbuild\bbs-3.10-bioc\R\bin\R.exe CMD INSTALL --merge-multiarch --build --library=Rmmquant.buildbin-libdir Rmmquant_1.4.0.tar.gz && C:\Users\biocbuild\bbs-3.10-bioc\R\bin\R.exe CMD INSTALL Rmmquant_1.4.0.zip && rm Rmmquant_1.4.0.tar.gz Rmmquant_1.4.0.zip
###
##############################################################################
##############################################################################
% Total % Received % Xferd Average Speed Time Time Time Current
Dload Upload Total Spent Left Speed
0 0 0 0 0 0 0 0 --:--:-- --:--:-- --:--:-- 0
100 31167 100 31167 0 0 479k 0 --:--:-- --:--:-- --:--:-- 515k
install for i386
* installing *source* package 'Rmmquant' ...
** using staged installation
** libs
C:/Rtools/mingw_32/bin/g++ -std=gnu++11 -I"C:/Users/BIOCBU~1/BBS-3~1.10-/R/include" -DNDEBUG -I"C:/Users/biocbuild/bbs-3.10-bioc/R/library/Rcpp/include" -I"C:/extsoft/include" -O2 -Wall -mtune=core2 -c RcppExports.cpp -o RcppExports.o
C:/Rtools/mingw_32/bin/g++ -std=gnu++11 -I"C:/Users/BIOCBU~1/BBS-3~1.10-/R/include" -DNDEBUG -I"C:/Users/biocbuild/bbs-3.10-bioc/R/library/Rcpp/include" -I"C:/extsoft/include" -O2 -Wall -mtune=core2 -c mmquant_wrapper.cpp -o mmquant_wrapper.o
C:/Rtools/mingw_32/bin/g++ -shared -s -static-libgcc -o Rmmquant.dll tmp.def RcppExports.o mmquant_wrapper.o -lz -LC:/extsoft/lib/i386 -LC:/extsoft/lib -LC:/Users/BIOCBU~1/BBS-3~1.10-/R/bin/i386 -lR
installing to C:/Users/biocbuild/bbs-3.10-bioc/meat/Rmmquant.buildbin-libdir/00LOCK-Rmmquant/00new/Rmmquant/libs/i386
** R
** inst
** byte-compile and prepare package for lazy loading
** help
*** installing help indices
converting help for package 'Rmmquant'
finding HTML links ... done
Rmmquant html
RmmquantClass-class html
RmmquantClassExample html
RmmquantExample html
RmmquantRun html
counts-method html
show-RmmquantClass-method html
validateRmmquant html
** building package indices
** installing vignettes
** testing if installed package can be loaded from temporary location
** testing if installed package can be loaded from final location
** testing if installed package keeps a record of temporary installation path
install for x64
* installing *source* package 'Rmmquant' ...
** libs
C:/Rtools/mingw_64/bin/g++ -std=gnu++11 -I"C:/Users/BIOCBU~1/BBS-3~1.10-/R/include" -DNDEBUG -I"C:/Users/biocbuild/bbs-3.10-bioc/R/library/Rcpp/include" -I"C:/extsoft/include" -O2 -Wall -mtune=core2 -c RcppExports.cpp -o RcppExports.o
C:/Rtools/mingw_64/bin/g++ -std=gnu++11 -I"C:/Users/BIOCBU~1/BBS-3~1.10-/R/include" -DNDEBUG -I"C:/Users/biocbuild/bbs-3.10-bioc/R/library/Rcpp/include" -I"C:/extsoft/include" -O2 -Wall -mtune=core2 -c mmquant_wrapper.cpp -o mmquant_wrapper.o
C:/Rtools/mingw_64/bin/g++ -shared -s -static-libgcc -o Rmmquant.dll tmp.def RcppExports.o mmquant_wrapper.o -lz -LC:/extsoft/lib/x64 -LC:/extsoft/lib -LC:/Users/BIOCBU~1/BBS-3~1.10-/R/bin/x64 -lR
installing to C:/Users/biocbuild/bbs-3.10-bioc/meat/Rmmquant.buildbin-libdir/Rmmquant/libs/x64
** testing if installed package can be loaded
* MD5 sums
packaged installation of 'Rmmquant' as Rmmquant_1.4.0.zip
* DONE (Rmmquant)
* installing to library 'C:/Users/biocbuild/bbs-3.10-bioc/R/library'
package 'Rmmquant' successfully unpacked and MD5 sums checked