| Back to Multiple platform build/check report for BioC 3.10 |
|
This page was generated on 2020-04-15 12:18:50 -0400 (Wed, 15 Apr 2020).
| Package 1444/1823 | Hostname | OS / Arch | INSTALL | BUILD | CHECK | BUILD BIN | ||||||
| Rmagpie 1.42.0 Camille Maumet
| malbec1 | Linux (Ubuntu 18.04.4 LTS) / x86_64 | OK | OK | OK | |||||||
| tokay1 | Windows Server 2012 R2 Standard / x64 | OK | OK | OK | [ OK ] | |||||||
| merida1 | OS X 10.11.6 El Capitan / x86_64 | OK | OK | OK | OK |
| Package: Rmagpie |
| Version: 1.42.0 |
| Command: rm -rf Rmagpie.buildbin-libdir && mkdir Rmagpie.buildbin-libdir && C:\Users\biocbuild\bbs-3.10-bioc\R\bin\R.exe CMD INSTALL --merge-multiarch --build --library=Rmagpie.buildbin-libdir Rmagpie_1.42.0.tar.gz |
| StartedAt: 2020-04-15 09:33:23 -0400 (Wed, 15 Apr 2020) |
| EndedAt: 2020-04-15 09:33:41 -0400 (Wed, 15 Apr 2020) |
| EllapsedTime: 17.7 seconds |
| RetCode: 0 |
| Status: OK |
| PackageFile: Rmagpie_1.42.0.zip |
| PackageFileSize: 736.6 KiB |
##############################################################################
##############################################################################
###
### Running command:
###
### rm -rf Rmagpie.buildbin-libdir && mkdir Rmagpie.buildbin-libdir && C:\Users\biocbuild\bbs-3.10-bioc\R\bin\R.exe CMD INSTALL --merge-multiarch --build --library=Rmagpie.buildbin-libdir Rmagpie_1.42.0.tar.gz
###
##############################################################################
##############################################################################
install for i386
* installing *source* package 'Rmagpie' ...
** using staged installation
** R
** data
** demo
** inst
** byte-compile and prepare package for lazy loading
** help
*** installing help indices
converting help for package 'Rmagpie'
finding HTML links ... done
classifyNewSamples-methods html
experiment-class html
featureSelectionOptions-class html
finalClassifier-class html
findFinalClassifier-methods html
geneSubsets-class html
getDataset-methods html
getFeatureSelectionOptions-methods html
getFinalClassifier html
getResults-methods html
initialize-methods html
plotErrorsFoldTwoLayerCV-methods html
plotErrorsRepeatedOneLayerCV html
plotErrorsSummaryOneLayerCV-methods html
rankedGenesImg-methods html
runOneLayerExtCV-methods html
runTwoLayerExtCV-methods html
setDataset-methods html
setFeatureSelectionOptions-methods html
show-methods html
thresholds-class html
vV70genes html
** building package indices
** installing vignettes
** testing if installed package can be loaded from temporary location
** testing if installed package can be loaded from final location
** testing if installed package keeps a record of temporary installation path
install for x64
* installing *source* package 'Rmagpie' ...
** testing if installed package can be loaded
* MD5 sums
packaged installation of 'Rmagpie' as Rmagpie_1.42.0.zip
* DONE (Rmagpie)