| Back to Multiple platform build/check report for BioC 3.10 |
|
This page was generated on 2020-04-15 12:25:40 -0400 (Wed, 15 Apr 2020).
| Package 1434/1823 | Hostname | OS / Arch | INSTALL | BUILD | CHECK | BUILD BIN | ||||||
| RiboProfiling 1.16.0 A. Popa
| malbec1 | Linux (Ubuntu 18.04.4 LTS) / x86_64 | OK | OK | WARNINGS | |||||||
| tokay1 | Windows Server 2012 R2 Standard / x64 | OK | OK | WARNINGS | [ OK ] | |||||||
| merida1 | OS X 10.11.6 El Capitan / x86_64 | OK | OK | WARNINGS | OK |
| Package: RiboProfiling |
| Version: 1.16.0 |
| Command: rm -rf RiboProfiling.buildbin-libdir && mkdir RiboProfiling.buildbin-libdir && C:\Users\biocbuild\bbs-3.10-bioc\R\bin\R.exe CMD INSTALL --merge-multiarch --build --library=RiboProfiling.buildbin-libdir RiboProfiling_1.16.0.tar.gz |
| StartedAt: 2020-04-15 09:32:48 -0400 (Wed, 15 Apr 2020) |
| EndedAt: 2020-04-15 09:34:09 -0400 (Wed, 15 Apr 2020) |
| EllapsedTime: 81.3 seconds |
| RetCode: 0 |
| Status: OK |
| PackageFile: RiboProfiling_1.16.0.zip |
| PackageFileSize: 4.571 MiB |
##############################################################################
##############################################################################
###
### Running command:
###
### rm -rf RiboProfiling.buildbin-libdir && mkdir RiboProfiling.buildbin-libdir && C:\Users\biocbuild\bbs-3.10-bioc\R\bin\R.exe CMD INSTALL --merge-multiarch --build --library=RiboProfiling.buildbin-libdir RiboProfiling_1.16.0.tar.gz
###
##############################################################################
##############################################################################
install for i386
* installing *source* package 'RiboProfiling' ...
** using staged installation
** R
** data
** inst
** byte-compile and prepare package for lazy loading
Warning: replacing previous import 'BiocGenerics::Position' by 'ggplot2::Position' when loading 'RiboProfiling'
** help
*** installing help indices
converting help for package 'RiboProfiling'
finding HTML links ... done
RiboProfiling html
aroundPromoter html
cdsPosTransc html
codonDataCtrl html
codonIndexCovCtrl html
codonInfo html
codonPCA html
countShiftReads html
countsPlot html
ctrlGAlignments html
histMatchLength html
orfRelativePos html
plotSummarizedCov html
printPCA html
readStartCov html
readsToStartOrEnd html
riboSeqFromBAM html
** building package indices
** installing vignettes
** testing if installed package can be loaded from temporary location
Warning: replacing previous import 'BiocGenerics::Position' by 'ggplot2::Position' when loading 'RiboProfiling'
** testing if installed package can be loaded from final location
Warning: replacing previous import 'BiocGenerics::Position' by 'ggplot2::Position' when loading 'RiboProfiling'
** testing if installed package keeps a record of temporary installation path
install for x64
* installing *source* package 'RiboProfiling' ...
** testing if installed package can be loaded
Warning: replacing previous import 'BiocGenerics::Position' by 'ggplot2::Position' when loading 'RiboProfiling'
* MD5 sums
packaged installation of 'RiboProfiling' as RiboProfiling_1.16.0.zip
* DONE (RiboProfiling)