| Back to Multiple platform build/check report for BioC 3.10 |
|
This page was generated on 2020-04-15 12:22:44 -0400 (Wed, 15 Apr 2020).
| Package 1387/1823 | Hostname | OS / Arch | INSTALL | BUILD | CHECK | BUILD BIN | ||||||
| Rcpi 1.22.0 Nan Xiao
| malbec1 | Linux (Ubuntu 18.04.4 LTS) / x86_64 | OK | OK | OK | |||||||
| tokay1 | Windows Server 2012 R2 Standard / x64 | [ OK ] | OK | OK | OK | |||||||
| merida1 | OS X 10.11.6 El Capitan / x86_64 | OK | OK | OK | OK |
| Package: Rcpi |
| Version: 1.22.0 |
| Command: C:\cygwin\bin\curl.exe -O https://malbec1.bioconductor.org/BBS/3.10/bioc/src/contrib/Rcpi_1.22.0.tar.gz && rm -rf Rcpi.buildbin-libdir && mkdir Rcpi.buildbin-libdir && C:\Users\biocbuild\bbs-3.10-bioc\R\bin\R.exe CMD INSTALL --merge-multiarch --build --library=Rcpi.buildbin-libdir Rcpi_1.22.0.tar.gz && C:\Users\biocbuild\bbs-3.10-bioc\R\bin\R.exe CMD INSTALL Rcpi_1.22.0.zip && rm Rcpi_1.22.0.tar.gz Rcpi_1.22.0.zip |
| StartedAt: 2020-04-14 19:13:30 -0400 (Tue, 14 Apr 2020) |
| EndedAt: 2020-04-14 19:15:28 -0400 (Tue, 14 Apr 2020) |
| EllapsedTime: 117.7 seconds |
| RetCode: 0 |
| Status: OK |
##############################################################################
##############################################################################
###
### Running command:
###
### C:\cygwin\bin\curl.exe -O https://malbec1.bioconductor.org/BBS/3.10/bioc/src/contrib/Rcpi_1.22.0.tar.gz && rm -rf Rcpi.buildbin-libdir && mkdir Rcpi.buildbin-libdir && C:\Users\biocbuild\bbs-3.10-bioc\R\bin\R.exe CMD INSTALL --merge-multiarch --build --library=Rcpi.buildbin-libdir Rcpi_1.22.0.tar.gz && C:\Users\biocbuild\bbs-3.10-bioc\R\bin\R.exe CMD INSTALL Rcpi_1.22.0.zip && rm Rcpi_1.22.0.tar.gz Rcpi_1.22.0.zip
###
##############################################################################
##############################################################################
% Total % Received % Xferd Average Speed Time Time Time Current
Dload Upload Total Spent Left Speed
0 0 0 0 0 0 0 0 --:--:-- --:--:-- --:--:-- 0
100 2625k 100 2625k 0 0 43.4M 0 --:--:-- --:--:-- --:--:-- 46.6M
install for i386
* installing *source* package 'Rcpi' ...
** using staged installation
** R
** data
*** moving datasets to lazyload DB
** inst
** byte-compile and prepare package for lazy loading
** help
*** installing help indices
converting help for package 'Rcpi'
finding HTML links ... done
AA2DACOR html
AA3DMoRSE html
AAACF html
AABLOSUM100 html
AABLOSUM45 html
AABLOSUM50 html
AABLOSUM62 html
AABLOSUM80 html
AABurden html
AACPSA html
AAConn html
AAConst html
AADescAll html
AAEdgeAdj html
AAEigIdx html
AAFGC html
AAGETAWAY html
AAGeom html
AAInfo html
AAMOE2D html
AAMOE3D html
AAMetaInfo html
AAMolProp html
AAPAM120 html
AAPAM250 html
AAPAM30 html
AAPAM40 html
AAPAM70 html
AARDF html
AARandic html
AATopo html
AATopoChg html
AAWHIM html
AAWalk html
AAindex html
OptAA3d html
Rcpi-package html
acc html
calcDrugFPSim html
calcDrugMCSSim html
calcParProtGOSim html
calcParProtSeqSim html
calcTwoProtGOSim html
calcTwoProtSeqSim html
checkProt html
convMolFormat html
extractDrugAIO html
extractDrugALOGP html
extractDrugAminoAcidCount html
extractDrugApol html
extractDrugAromaticAtomsCount html
extractDrugAromaticBondsCount html
extractDrugAtomCount html
extractDrugAutocorrelationCharge html
extractDrugAutocorrelationMass html
extractDrugAutocorrelationPolarizability
html
extractDrugBCUT html
extractDrugBPol html
extractDrugBondCount html
extractDrugCPSA html
extractDrugCarbonTypes html
extractDrugChiChain html
extractDrugChiCluster html
extractDrugChiPath html
extractDrugChiPathCluster html
extractDrugDescOB html
extractDrugECI html
extractDrugEstate html
extractDrugEstateComplete html
extractDrugExtended html
extractDrugExtendedComplete html
extractDrugFMF html
extractDrugFragmentComplexity html
extractDrugGraph html
extractDrugGraphComplete html
extractDrugGravitationalIndex html
extractDrugHBondAcceptorCount html
extractDrugHBondDonorCount html
extractDrugHybridization html
extractDrugHybridizationComplete html
extractDrugHybridizationRatio html
extractDrugIPMolecularLearning html
extractDrugKR html
extractDrugKRComplete html
extractDrugKappaShapeIndices html
extractDrugKierHallSmarts html
extractDrugLargestChain html
extractDrugLargestPiSystem html
extractDrugLengthOverBreadth html
extractDrugLongestAliphaticChain html
extractDrugMACCS html
extractDrugMACCSComplete html
extractDrugMDE html
extractDrugMannholdLogP html
extractDrugMomentOfInertia html
extractDrugOBFP2 html
extractDrugOBFP3 html
extractDrugOBFP4 html
extractDrugOBMACCS html
extractDrugPetitjeanNumber html
extractDrugPetitjeanShapeIndex html
extractDrugPubChem html
extractDrugPubChemComplete html
extractDrugRotatableBondsCount html
extractDrugRuleOfFive html
extractDrugShortestPath html
extractDrugShortestPathComplete html
extractDrugStandard html
extractDrugStandardComplete html
extractDrugTPSA html
extractDrugVABC html
extractDrugVAdjMa html
extractDrugWHIM html
extractDrugWeight html
extractDrugWeightedPath html
extractDrugWienerNumbers html
extractDrugXLogP html
extractDrugZagrebIndex html
extractPCMBLOSUM html
extractPCMDescScales html
extractPCMFAScales html
extractPCMMDSScales html
extractPCMPropScales html
extractPCMScales html
extractProtAAC html
extractProtAPAAC html
extractProtCTDC html
extractProtCTDD html
extractProtCTDT html
extractProtCTriad html
extractProtDC html
extractProtGeary html
extractProtMoran html
extractProtMoreauBroto html
extractProtPAAC html
extractProtPSSM html
extractProtPSSMAcc html
extractProtPSSMFeature html
extractProtQSO html
extractProtSOCN html
extractProtTC html
getCPI html
getDrug html
getFASTAFromKEGG html
getFASTAFromUniProt html
getMolFromCAS html
getMolFromChEMBL html
getMolFromDrugBank html
getMolFromKEGG html
getMolFromPubChem html
getPDBFromRCSBPDB html
getPPI html
getProt html
getSeqFromKEGG html
getSeqFromRCSBPDB html
getSeqFromUniProt html
getSmiFromChEMBL html
getSmiFromDrugBank html
getSmiFromKEGG html
getSmiFromPubChem html
readFASTA html
readMolFromSDF html
readMolFromSmi html
readPDB html
searchDrug html
segProt html
** building package indices
** installing vignettes
** testing if installed package can be loaded from temporary location
** testing if installed package can be loaded from final location
** testing if installed package keeps a record of temporary installation path
install for x64
* installing *source* package 'Rcpi' ...
** testing if installed package can be loaded
* MD5 sums
packaged installation of 'Rcpi' as Rcpi_1.22.0.zip
* DONE (Rcpi)
* installing to library 'C:/Users/biocbuild/bbs-3.10-bioc/R/library'
package 'Rcpi' successfully unpacked and MD5 sums checked