| Back to Multiple platform build/check report for BioC 3.10 |
|
This page was generated on 2020-04-15 12:38:24 -0400 (Wed, 15 Apr 2020).
| Package 1375/1823 | Hostname | OS / Arch | INSTALL | BUILD | CHECK | BUILD BIN | ||||||
| Rbowtie 1.26.0 Michael Stadler
| malbec1 | Linux (Ubuntu 18.04.4 LTS) / x86_64 | OK | OK | OK | |||||||
| tokay1 | Windows Server 2012 R2 Standard / x64 | OK | OK | OK | OK | |||||||
| merida1 | OS X 10.11.6 El Capitan / x86_64 | OK | OK | [ OK ] | OK |
| Package: Rbowtie |
| Version: 1.26.0 |
| Command: /Library/Frameworks/R.framework/Versions/Current/Resources/bin/R CMD check --install=check:Rbowtie.install-out.txt --library=/Library/Frameworks/R.framework/Versions/Current/Resources/library --no-vignettes --timings Rbowtie_1.26.0.tar.gz |
| StartedAt: 2020-04-15 04:59:09 -0400 (Wed, 15 Apr 2020) |
| EndedAt: 2020-04-15 04:59:38 -0400 (Wed, 15 Apr 2020) |
| EllapsedTime: 28.9 seconds |
| RetCode: 0 |
| Status: OK |
| CheckDir: Rbowtie.Rcheck |
| Warnings: 0 |
############################################################################## ############################################################################## ### ### Running command: ### ### /Library/Frameworks/R.framework/Versions/Current/Resources/bin/R CMD check --install=check:Rbowtie.install-out.txt --library=/Library/Frameworks/R.framework/Versions/Current/Resources/library --no-vignettes --timings Rbowtie_1.26.0.tar.gz ### ############################################################################## ############################################################################## * using log directory ‘/Users/biocbuild/bbs-3.10-bioc/meat/Rbowtie.Rcheck’ * using R version 3.6.3 (2020-02-29) * using platform: x86_64-apple-darwin15.6.0 (64-bit) * using session charset: UTF-8 * using option ‘--no-vignettes’ * checking for file ‘Rbowtie/DESCRIPTION’ ... OK * checking extension type ... Package * this is package ‘Rbowtie’ version ‘1.26.0’ * checking package namespace information ... OK * checking package dependencies ... OK * checking if this is a source package ... OK * checking if there is a namespace ... OK * checking for hidden files and directories ... OK * checking for portable file names ... OK * checking for sufficient/correct file permissions ... OK * checking whether package ‘Rbowtie’ can be installed ... OK * checking installed package size ... OK * checking package directory ... OK * checking ‘build’ directory ... OK * checking DESCRIPTION meta-information ... OK * checking top-level files ... OK * checking for left-over files ... OK * checking index information ... OK * checking package subdirectories ... OK * checking R files for non-ASCII characters ... OK * checking R files for syntax errors ... OK * checking whether the package can be loaded ... OK * checking whether the package can be loaded with stated dependencies ... OK * checking whether the package can be unloaded cleanly ... OK * checking whether the namespace can be loaded with stated dependencies ... OK * checking whether the namespace can be unloaded cleanly ... OK * checking dependencies in R code ... OK * checking S3 generic/method consistency ... OK * checking replacement functions ... OK * checking foreign function calls ... OK * checking R code for possible problems ... OK * checking Rd files ... OK * checking Rd metadata ... OK * checking Rd cross-references ... OK * checking for missing documentation entries ... OK * checking for code/documentation mismatches ... OK * checking Rd \usage sections ... OK * checking Rd contents ... OK * checking for unstated dependencies in examples ... OK * checking line endings in C/C++/Fortran sources/headers ... OK * checking line endings in Makefiles ... OK * checking for GNU extensions in Makefiles ... NOTE GNU make is a SystemRequirements. * checking for portable use of $(BLAS_LIBS) and $(LAPACK_LIBS) ... OK * checking include directives in Makefiles ... OK * checking compiled code ... OK * checking files in ‘vignettes’ ... OK * checking examples ... OK * checking for unstated dependencies in vignettes ... OK * checking package vignettes in ‘inst/doc’ ... OK * checking running R code from vignettes ... SKIPPED * checking re-building of vignette outputs ... SKIPPED * checking PDF version of manual ... OK * DONE Status: 1 NOTE See ‘/Users/biocbuild/bbs-3.10-bioc/meat/Rbowtie.Rcheck/00check.log’ for details.
Rbowtie.Rcheck/00install.out
##############################################################################
##############################################################################
###
### Running command:
###
### /Library/Frameworks/R.framework/Versions/Current/Resources/bin/R CMD INSTALL Rbowtie
###
##############################################################################
##############################################################################
* installing to library ‘/Library/Frameworks/R.framework/Versions/3.6/Resources/library’
* installing *source* package ‘Rbowtie’ ...
** using staged installation
** libs
** arch -
g++ -O3 -m64 -DCOMPILER_OPTIONS="\"-O3 -m64 -Wall -g -O2 -Wall -g -O2 \"" -Wall -g -O2 -Wall -g -O2 \
-fno-strict-aliasing -DBOWTIE_VERSION="\"`cat VERSION`\"" -DBUILD_HOST="\"`hostname`\"" -DBUILD_TIME="\"`date`\"" -DCOMPILER_VERSION="\"`g++ -v 2>&1 | tail -1`\"" -D_LARGEFILE_SOURCE -D_FILE_OFFSET_BITS=64 -D_GNU_SOURCE -DPREFETCH_LOCALITY=2 -DBOWTIE_MM -DBOWTIE_SHARED_MEM -DNDEBUG -Wall -Wno-unused-parameter -Wno-reorder -Wno-unused-local-typedefs \
-isystem ./SeqAn-1.1 -I third_party \
-o bowtie-build-s ebwt_build.cpp \
ccnt_lut.cpp ref_read.cpp alphabet.cpp shmem.cpp edit.cpp ebwt.cpp tinythread.cpp bowtie_build_main.cpp \
-L/usr/local/lib -lz -lpthread
g++ -O3 -m64 -DCOMPILER_OPTIONS="\"-O3 -m64 -Wall -g -O2 -Wall -g -O2 \"" -Wall -g -O2 -Wall -g -O2 \
-fno-strict-aliasing -DBOWTIE_VERSION="\"`cat VERSION`\"" -DBUILD_HOST="\"`hostname`\"" -DBUILD_TIME="\"`date`\"" -DCOMPILER_VERSION="\"`g++ -v 2>&1 | tail -1`\"" -D_LARGEFILE_SOURCE -D_FILE_OFFSET_BITS=64 -D_GNU_SOURCE -DPREFETCH_LOCALITY=2 -DBOWTIE_MM -DBOWTIE_SHARED_MEM -DNDEBUG -Wall -Wno-unused-parameter -Wno-reorder -Wno-unused-local-typedefs \
-isystem ./SeqAn-1.1 -I third_party \
-o bowtie-align-s ebwt_search.cpp \
ccnt_lut.cpp ref_read.cpp alphabet.cpp shmem.cpp edit.cpp ebwt.cpp tinythread.cpp qual.cpp pat.cpp ebwt_search_util.cpp ref_aligner.cpp log.cpp hit_set.cpp sam.cpp color.cpp color_dec.cpp hit.cpp bowtie_main.cpp \
-L/usr/local/lib -lz -lpthread
In file included from ebwt_search.cpp:29:
./range_cache.h:338:11: warning: private field 'sanity_' is not used [-Wunused-private-field]
bool sanity_; /// do consistency checks?
^
In file included from ebwt_search.cpp:31:
./aligner_0mm.h:118:22: warning: private field 'ebwtBw_' is not used [-Wunused-private-field]
Ebwt<String<Dna> >* ebwtBw_;
^
./aligner_0mm.h:348:22: warning: private field 'ebwtBw_' is not used [-Wunused-private-field]
Ebwt<String<Dna> >* ebwtBw_;
^
3 warnings generated.
In file included from pat.cpp:9:
./pat.h:743:7: warning: private field 'solexa64_' is not used [-Wunused-private-field]
bool solexa64_;
^
./pat.h:744:7: warning: private field 'phred64_' is not used [-Wunused-private-field]
bool phred64_;
^
./pat.h:745:7: warning: private field 'intQuals_' is not used [-Wunused-private-field]
bool intQuals_;
^
3 warnings generated.
In file included from sam.cpp:13:
./sam.h:119:7: warning: private field 'offBase_' is not used [-Wunused-private-field]
int offBase_; /// Add this to reference offsets before outputting.
^
1 warning generated.
mkdir -p ../inst
cp bowtie-align-s ../inst/bowtie
cp bowtie-build-s ../inst/bowtie-build
cd SpliceMap; \
make -f Makefile; \
echo "MAKE of SpliceMap DONE"
`"/Library/Frameworks/R.framework/Resources/bin/R" CMD config CXX` `"/Library/Frameworks/R.framework/Resources/bin/R" CMD config CXXFLAGS` -c SpliceMap_utils_QuasR.cpp
`"/Library/Frameworks/R.framework/Resources/bin/R" CMD config CXX` `"/Library/Frameworks/R.framework/Resources/bin/R" CMD config CXXFLAGS` -c params.cpp
`"/Library/Frameworks/R.framework/Resources/bin/R" CMD config CXX` `"/Library/Frameworks/R.framework/Resources/bin/R" CMD config CXXFLAGS` -c cfgfile.cpp
`"/Library/Frameworks/R.framework/Resources/bin/R" CMD config CXX` `"/Library/Frameworks/R.framework/Resources/bin/R" CMD config CXXFLAGS` -o runSpliceMap_QuasR SpliceMap_utils_QuasR.o cfgfile.o runSpliceMap_QuasR.cpp params.o
runSpliceMap_QuasR.cpp:108:31: warning: unused variable 'chr_file_list_it' [-Wunused-variable]
vector<string>::iterator chr_file_list_it = chr_file_list.begin();
^
1 warning generated.
`"/Library/Frameworks/R.framework/Resources/bin/R" CMD config CXX` `"/Library/Frameworks/R.framework/Resources/bin/R" CMD config CXXFLAGS` -o sortsam sortsam.cpp SpliceMap_utils_QuasR.o params.o
`"/Library/Frameworks/R.framework/Resources/bin/R" CMD config CXX` `"/Library/Frameworks/R.framework/Resources/bin/R" CMD config CXXFLAGS` -o amalgamateSAM amalgamateSAM.cpp SpliceMap_utils_QuasR.o params.o
`"/Library/Frameworks/R.framework/Resources/bin/R" CMD config CXX` `"/Library/Frameworks/R.framework/Resources/bin/R" CMD config CXXFLAGS` -o getSpliceMapUnmapped getSpliceMapUnmapped.cpp
`"/Library/Frameworks/R.framework/Resources/bin/R" CMD config CXX` `"/Library/Frameworks/R.framework/Resources/bin/R" CMD config CXXFLAGS` -o fuseReorder fuseReorder.cpp
`"/Library/Frameworks/R.framework/Resources/bin/R" CMD config CXX` `"/Library/Frameworks/R.framework/Resources/bin/R" CMD config CXXFLAGS` -o SpliceMap main.cpp SpliceMap_utils_QuasR.o params.o cfgfile.o
MAKE of SpliceMap DONE
mkdir -p ../inst
cp SpliceMap/SpliceMap ../inst/SpliceMap
cp SpliceMap/amalgamateSAM ../inst/amalgamateSAM
cp SpliceMap/getSpliceMapUnmapped ../inst/getSpliceMapUnmapped
cp SpliceMap/fuseReorder ../inst/fuseReorder
cp SpliceMap/runSpliceMap_QuasR ../inst/runSpliceMap_QuasR
cp SpliceMap/sortsam ../inst/sortsam
** R
** inst
** byte-compile and prepare package for lazy loading
** help
*** installing help indices
** building package indices
** installing vignettes
** testing if installed package can be loaded from temporary location
** testing if installed package can be loaded from final location
** testing if installed package keeps a record of temporary installation path
* DONE (Rbowtie)
Rbowtie.Rcheck/Rbowtie-Ex.timings
| name | user | system | elapsed | |
| Rbowtie-package | 0 | 0 | 0 | |
| Rbowtie | 1.193 | 0.508 | 1.768 | |
| SpliceMap | 0.612 | 0.287 | 2.089 | |