| Back to Multiple platform build/check report for BioC 3.10 |
|
This page was generated on 2020-04-15 12:30:28 -0400 (Wed, 15 Apr 2020).
| Package 1365/1823 | Hostname | OS / Arch | INSTALL | BUILD | CHECK | BUILD BIN | ||||||
| RandomWalkRestartMH 1.6.0 Alberto Valdeolivas Urbelz
| malbec1 | Linux (Ubuntu 18.04.4 LTS) / x86_64 | OK | OK | OK | |||||||
| tokay1 | Windows Server 2012 R2 Standard / x64 | OK | OK | OK | [ OK ] | |||||||
| merida1 | OS X 10.11.6 El Capitan / x86_64 | OK | OK | OK | OK |
| Package: RandomWalkRestartMH |
| Version: 1.6.0 |
| Command: rm -rf RandomWalkRestartMH.buildbin-libdir && mkdir RandomWalkRestartMH.buildbin-libdir && C:\Users\biocbuild\bbs-3.10-bioc\R\bin\R.exe CMD INSTALL --merge-multiarch --build --library=RandomWalkRestartMH.buildbin-libdir RandomWalkRestartMH_1.6.0.tar.gz |
| StartedAt: 2020-04-15 09:28:55 -0400 (Wed, 15 Apr 2020) |
| EndedAt: 2020-04-15 09:29:22 -0400 (Wed, 15 Apr 2020) |
| EllapsedTime: 27.7 seconds |
| RetCode: 0 |
| Status: OK |
| PackageFile: RandomWalkRestartMH_1.6.0.zip |
| PackageFileSize: 1.017 MiB |
##############################################################################
##############################################################################
###
### Running command:
###
### rm -rf RandomWalkRestartMH.buildbin-libdir && mkdir RandomWalkRestartMH.buildbin-libdir && C:\Users\biocbuild\bbs-3.10-bioc\R\bin\R.exe CMD INSTALL --merge-multiarch --build --library=RandomWalkRestartMH.buildbin-libdir RandomWalkRestartMH_1.6.0.tar.gz
###
##############################################################################
##############################################################################
install for i386
* installing *source* package 'RandomWalkRestartMH' ...
** using staged installation
** R
** data
*** moving datasets to lazyload DB
** inst
** byte-compile and prepare package for lazy loading
** help
*** installing help indices
converting help for package 'RandomWalkRestartMH'
finding HTML links ... done
Disease_Network html
GeneDiseaseRelations html
PPI_Network html
Pathway_Network html
Random.Walk.Restart.Multiplex html
Random.Walk.Restart.MultiplexHet html
compute.adjacency.matrix html
compute.transition.matrix html
create.multiplex html
create.multiplexHet html
create.multiplexHetNetwork.topResults html
create.multiplexNetwork.topResults html
isMultiplex html
isMultiplexHet html
isRWRMH_Results html
isRWRM_Results html
normalize.multiplex.adjacency html
** building package indices
** installing vignettes
** testing if installed package can be loaded from temporary location
** testing if installed package can be loaded from final location
** testing if installed package keeps a record of temporary installation path
install for x64
* installing *source* package 'RandomWalkRestartMH' ...
** testing if installed package can be loaded
* MD5 sums
packaged installation of 'RandomWalkRestartMH' as RandomWalkRestartMH_1.6.0.zip
* DONE (RandomWalkRestartMH)