| Back to Multiple platform build/check report for BioC 3.10 |
|
This page was generated on 2020-04-15 12:21:58 -0400 (Wed, 15 Apr 2020).
| Package 1491/1823 | Hostname | OS / Arch | INSTALL | BUILD | CHECK | BUILD BIN | ||||||
| RTN 2.10.1 Mauro Castro
| malbec1 | Linux (Ubuntu 18.04.4 LTS) / x86_64 | OK | OK | OK | |||||||
| tokay1 | Windows Server 2012 R2 Standard / x64 | [ OK ] | OK | OK | OK | |||||||
| merida1 | OS X 10.11.6 El Capitan / x86_64 | OK | OK | OK | OK |
| Package: RTN |
| Version: 2.10.1 |
| Command: C:\cygwin\bin\curl.exe -O https://malbec1.bioconductor.org/BBS/3.10/bioc/src/contrib/RTN_2.10.1.tar.gz && rm -rf RTN.buildbin-libdir && mkdir RTN.buildbin-libdir && C:\Users\biocbuild\bbs-3.10-bioc\R\bin\R.exe CMD INSTALL --merge-multiarch --build --library=RTN.buildbin-libdir RTN_2.10.1.tar.gz && C:\Users\biocbuild\bbs-3.10-bioc\R\bin\R.exe CMD INSTALL RTN_2.10.1.zip && rm RTN_2.10.1.tar.gz RTN_2.10.1.zip |
| StartedAt: 2020-04-14 19:33:46 -0400 (Tue, 14 Apr 2020) |
| EndedAt: 2020-04-14 19:35:09 -0400 (Tue, 14 Apr 2020) |
| EllapsedTime: 83.0 seconds |
| RetCode: 0 |
| Status: OK |
##############################################################################
##############################################################################
###
### Running command:
###
### C:\cygwin\bin\curl.exe -O https://malbec1.bioconductor.org/BBS/3.10/bioc/src/contrib/RTN_2.10.1.tar.gz && rm -rf RTN.buildbin-libdir && mkdir RTN.buildbin-libdir && C:\Users\biocbuild\bbs-3.10-bioc\R\bin\R.exe CMD INSTALL --merge-multiarch --build --library=RTN.buildbin-libdir RTN_2.10.1.tar.gz && C:\Users\biocbuild\bbs-3.10-bioc\R\bin\R.exe CMD INSTALL RTN_2.10.1.zip && rm RTN_2.10.1.tar.gz RTN_2.10.1.zip
###
##############################################################################
##############################################################################
% Total % Received % Xferd Average Speed Time Time Time Current
Dload Upload Total Spent Left Speed
0 0 0 0 0 0 0 0 --:--:-- --:--:-- --:--:-- 0
0 9675k 0 0 0 0 0 0 --:--:-- --:--:-- --:--:-- 0
100 9675k 100 9675k 0 0 70.5M 0 --:--:-- --:--:-- --:--:-- 71.5M
install for i386
* installing *source* package 'RTN' ...
** using staged installation
** R
** data
** inst
** byte-compile and prepare package for lazy loading
** help
*** installing help indices
converting help for package 'RTN'
finding HTML links ... done
AVS-class html
RTN-package html
RTN.data html
TNA-class html
TNI-class html
TNI.data html
avs.evse html
avs.get html
avs.pevse html
avs.plot1 html
avs.plot2 html
avs.vse html
tna.get html
tna.graph html
tna.gsea1 html
tna.gsea2 html
tna.mra html
tna.overlap html
tna.plot.gsea1 html
tna.plot.gsea2 html
tna.shadow html
tna.synergy html
tni.area3 html
finding level-2 HTML links ... done
tni.bootstrap html
tni.conditional html
tni.constructor html
tni.dpi.filter html
tni.get html
tni.graph html
tni.gsea2 html
tni.permutation html
tni.preprocess html
tni.prune html
tni.regulon.summary html
tni.replace.samples html
tni2tna.preprocess html
upgradeTNA html
upgradeTNI html
** building package indices
** installing vignettes
** testing if installed package can be loaded from temporary location
** testing if installed package can be loaded from final location
** testing if installed package keeps a record of temporary installation path
install for x64
* installing *source* package 'RTN' ...
** testing if installed package can be loaded
* MD5 sums
packaged installation of 'RTN' as RTN_2.10.1.zip
* DONE (RTN)
* installing to library 'C:/Users/biocbuild/bbs-3.10-bioc/R/library'
package 'RTN' successfully unpacked and MD5 sums checked