| Back to Multiple platform build/check report for BioC 3.10 |
|
This page was generated on 2020-04-15 12:25:28 -0400 (Wed, 15 Apr 2020).
| Package 1489/1823 | Hostname | OS / Arch | INSTALL | BUILD | CHECK | BUILD BIN | ||||||
| RTCGA 1.16.0 Marcin Kosinski
| malbec1 | Linux (Ubuntu 18.04.4 LTS) / x86_64 | OK | OK | OK | |||||||
| tokay1 | Windows Server 2012 R2 Standard / x64 | [ OK ] | OK | WARNINGS | OK | |||||||
| merida1 | OS X 10.11.6 El Capitan / x86_64 | OK | OK | OK | OK |
| Package: RTCGA |
| Version: 1.16.0 |
| Command: C:\cygwin\bin\curl.exe -O https://malbec1.bioconductor.org/BBS/3.10/bioc/src/contrib/RTCGA_1.16.0.tar.gz && rm -rf RTCGA.buildbin-libdir && mkdir RTCGA.buildbin-libdir && C:\Users\biocbuild\bbs-3.10-bioc\R\bin\R.exe CMD INSTALL --merge-multiarch --build --library=RTCGA.buildbin-libdir RTCGA_1.16.0.tar.gz && C:\Users\biocbuild\bbs-3.10-bioc\R\bin\R.exe CMD INSTALL RTCGA_1.16.0.zip && rm RTCGA_1.16.0.tar.gz RTCGA_1.16.0.zip |
| StartedAt: 2020-04-14 20:19:05 -0400 (Tue, 14 Apr 2020) |
| EndedAt: 2020-04-14 20:20:19 -0400 (Tue, 14 Apr 2020) |
| EllapsedTime: 73.9 seconds |
| RetCode: 0 |
| Status: OK |
##############################################################################
##############################################################################
###
### Running command:
###
### C:\cygwin\bin\curl.exe -O https://malbec1.bioconductor.org/BBS/3.10/bioc/src/contrib/RTCGA_1.16.0.tar.gz && rm -rf RTCGA.buildbin-libdir && mkdir RTCGA.buildbin-libdir && C:\Users\biocbuild\bbs-3.10-bioc\R\bin\R.exe CMD INSTALL --merge-multiarch --build --library=RTCGA.buildbin-libdir RTCGA_1.16.0.tar.gz && C:\Users\biocbuild\bbs-3.10-bioc\R\bin\R.exe CMD INSTALL RTCGA_1.16.0.zip && rm RTCGA_1.16.0.tar.gz RTCGA_1.16.0.zip
###
##############################################################################
##############################################################################
% Total % Received % Xferd Average Speed Time Time Time Current
Dload Upload Total Spent Left Speed
0 0 0 0 0 0 0 0 --:--:-- --:--:-- --:--:-- 0
100 2440k 100 2440k 0 0 10.9M 0 --:--:-- --:--:-- --:--:-- 11.1M
install for i386
* installing *source* package 'RTCGA' ...
** using staged installation
** R
** byte-compile and prepare package for lazy loading
** help
*** installing help indices
converting help for package 'RTCGA'
finding HTML links ... done
RTCGA-package html
boxplotTCGA html
finding level-2 HTML links ... done
checkTCGA html
convertTCGA html
Rd warning: C:/Users/biocbuild/bbs-3.10-bioc/tmpdir/RtmpyKtFce/R.INSTALL1ec448d2566b/RTCGA/man/convertTCGA.Rd:23: file link 'ExpressionSet' in package 'Biobase' does not exist and so has been treated as a topic
Rd warning: C:/Users/biocbuild/bbs-3.10-bioc/tmpdir/RtmpyKtFce/R.INSTALL1ec448d2566b/RTCGA/man/convertTCGA.Rd:23: file link 'GRanges' in package 'GenomicRanges' does not exist and so has been treated as a topic
Rd warning: C:/Users/biocbuild/bbs-3.10-bioc/tmpdir/RtmpyKtFce/R.INSTALL1ec448d2566b/RTCGA/man/convertTCGA.Rd:13: file link 'ExpressionSet' in package 'Biobase' does not exist and so has been treated as a topic
Rd warning: C:/Users/biocbuild/bbs-3.10-bioc/tmpdir/RtmpyKtFce/R.INSTALL1ec448d2566b/RTCGA/man/convertTCGA.Rd:13: file link 'GRanges' in package 'GenomicRanges' does not exist and so has been treated as a topic
Rd warning: C:/Users/biocbuild/bbs-3.10-bioc/tmpdir/RtmpyKtFce/R.INSTALL1ec448d2566b/RTCGA/man/convertTCGA.Rd:18: file link 'ExpressionSet' in package 'Biobase' does not exist and so has been treated as a topic
Rd warning: C:/Users/biocbuild/bbs-3.10-bioc/tmpdir/RtmpyKtFce/R.INSTALL1ec448d2566b/RTCGA/man/convertTCGA.Rd:18: file link 'GRanges' in package 'GenomicRanges' does not exist and so has been treated as a topic
datasetsTCGA html
downloadTCGA html
expressionsTCGA html
heatmapTCGA html
infoTCGA html
installTCGA html
Rd warning: C:/Users/biocbuild/bbs-3.10-bioc/tmpdir/RtmpyKtFce/R.INSTALL1ec448d2566b/RTCGA/man/installTCGA.Rd:16: file link 'install_github' in package 'devtools' does not exist and so has been treated as a topic
kmTCGA html
mutationsTCGA html
pcaTCGA html
readTCGA html
survivalTCGA html
theme_RTCGA html
** building package indices
** installing vignettes
** testing if installed package can be loaded from temporary location
** testing if installed package can be loaded from final location
** testing if installed package keeps a record of temporary installation path
install for x64
* installing *source* package 'RTCGA' ...
** testing if installed package can be loaded
* MD5 sums
packaged installation of 'RTCGA' as RTCGA_1.16.0.zip
* DONE (RTCGA)
* installing to library 'C:/Users/biocbuild/bbs-3.10-bioc/R/library'
package 'RTCGA' successfully unpacked and MD5 sums checked