| Back to Multiple platform build/check report for BioC 3.10 |
|
This page was generated on 2020-04-15 12:19:44 -0400 (Wed, 15 Apr 2020).
| Package 1450/1823 | Hostname | OS / Arch | INSTALL | BUILD | CHECK | BUILD BIN | ||||||
| RNAinteract 1.34.0 Bernd Fischer
| malbec1 | Linux (Ubuntu 18.04.4 LTS) / x86_64 | OK | OK | OK | |||||||
| tokay1 | Windows Server 2012 R2 Standard / x64 | OK | OK | OK | [ OK ] | |||||||
| merida1 | OS X 10.11.6 El Capitan / x86_64 | OK | OK | OK | OK |
| Package: RNAinteract |
| Version: 1.34.0 |
| Command: rm -rf RNAinteract.buildbin-libdir && mkdir RNAinteract.buildbin-libdir && C:\Users\biocbuild\bbs-3.10-bioc\R\bin\R.exe CMD INSTALL --merge-multiarch --build --library=RNAinteract.buildbin-libdir RNAinteract_1.34.0.tar.gz |
| StartedAt: 2020-04-15 09:33:45 -0400 (Wed, 15 Apr 2020) |
| EndedAt: 2020-04-15 09:34:20 -0400 (Wed, 15 Apr 2020) |
| EllapsedTime: 35.4 seconds |
| RetCode: 0 |
| Status: OK |
| PackageFile: RNAinteract_1.34.0.zip |
| PackageFileSize: 799.2 KiB |
##############################################################################
##############################################################################
###
### Running command:
###
### rm -rf RNAinteract.buildbin-libdir && mkdir RNAinteract.buildbin-libdir && C:\Users\biocbuild\bbs-3.10-bioc\R\bin\R.exe CMD INSTALL --merge-multiarch --build --library=RNAinteract.buildbin-libdir RNAinteract_1.34.0.tar.gz
###
##############################################################################
##############################################################################
install for i386
* installing *source* package 'RNAinteract' ...
** using staged installation
** R
** data
** inst
** byte-compile and prepare package for lazy loading
** help
*** installing help indices
converting help for package 'RNAinteract'
finding HTML links ... done
RNAinteract-class html
RNAinteract-package html
bindsamples html
computePI html
computePValues html
finding level-2 HTML links ... done
createCellHTSFromFiles html
createRNAinteract html
createRNAinteractFromFiles html
embedPCA html
estimateMainEffect html
getData html
getMain html
getReplicateData html
getSampleNames html
getScale html
grid.doublePerturbation html
grid.sgiHeatmap html
normalizeMainEffectQuery html
normalizeMainEffectTemplate html
normalizePlateEffect html
plotDoublePerturbation html
plotHeatmap html
reportAnnotation html
sgi html
sgisubset html
sgisubsetQueryDesign html
startReport html
summarizeSamples html
swaptree html
** building package indices
** installing vignettes
** testing if installed package can be loaded from temporary location
** testing if installed package can be loaded from final location
** testing if installed package keeps a record of temporary installation path
install for x64
* installing *source* package 'RNAinteract' ...
** testing if installed package can be loaded
* MD5 sums
packaged installation of 'RNAinteract' as RNAinteract_1.34.0.zip
* DONE (RNAinteract)