| Back to Multiple platform build/check report for BioC 3.10 |
|
This page was generated on 2020-04-15 12:07:18 -0400 (Wed, 15 Apr 2020).
| Package 1438/1823 | Hostname | OS / Arch | INSTALL | BUILD | CHECK | BUILD BIN | ||||||
| RIPSeeker 1.26.0 Yue Li
| malbec1 | Linux (Ubuntu 18.04.4 LTS) / x86_64 | OK | OK | [ OK ] | |||||||
| tokay1 | Windows Server 2012 R2 Standard / x64 | OK | OK | WARNINGS | OK | |||||||
| merida1 | OS X 10.11.6 El Capitan / x86_64 | OK | OK | OK | OK |
| Package: RIPSeeker |
| Version: 1.26.0 |
| Command: /home/biocbuild/bbs-3.10-bioc/R/bin/R CMD check --install=check:RIPSeeker.install-out.txt --library=/home/biocbuild/bbs-3.10-bioc/R/library --no-vignettes --timings RIPSeeker_1.26.0.tar.gz |
| StartedAt: 2020-04-15 01:29:50 -0400 (Wed, 15 Apr 2020) |
| EndedAt: 2020-04-15 01:34:12 -0400 (Wed, 15 Apr 2020) |
| EllapsedTime: 262.6 seconds |
| RetCode: 0 |
| Status: OK |
| CheckDir: RIPSeeker.Rcheck |
| Warnings: 0 |
##############################################################################
##############################################################################
###
### Running command:
###
### /home/biocbuild/bbs-3.10-bioc/R/bin/R CMD check --install=check:RIPSeeker.install-out.txt --library=/home/biocbuild/bbs-3.10-bioc/R/library --no-vignettes --timings RIPSeeker_1.26.0.tar.gz
###
##############################################################################
##############################################################################
* using log directory ‘/home/biocbuild/bbs-3.10-bioc/meat/RIPSeeker.Rcheck’
* using R version 3.6.3 (2020-02-29)
* using platform: x86_64-pc-linux-gnu (64-bit)
* using session charset: UTF-8
* using option ‘--no-vignettes’
* checking for file ‘RIPSeeker/DESCRIPTION’ ... OK
* checking extension type ... Package
* this is package ‘RIPSeeker’ version ‘1.26.0’
* checking package namespace information ... OK
* checking package dependencies ... NOTE
Depends: includes the non-default packages:
'S4Vectors', 'IRanges', 'GenomicRanges', 'SummarizedExperiment',
'Rsamtools', 'GenomicAlignments', 'rtracklayer'
Adding so many packages to the search path is excessive and importing
selectively is preferable.
* checking if this is a source package ... OK
* checking if there is a namespace ... OK
* checking for hidden files and directories ... OK
* checking for portable file names ... OK
* checking for sufficient/correct file permissions ... OK
* checking whether package ‘RIPSeeker’ can be installed ... OK
* checking installed package size ... OK
* checking package directory ... OK
* checking ‘build’ directory ... OK
* checking DESCRIPTION meta-information ... OK
* checking top-level files ... OK
* checking for left-over files ... OK
* checking index information ... OK
* checking package subdirectories ... OK
* checking R files for non-ASCII characters ... OK
* checking R files for syntax errors ... OK
* checking whether the package can be loaded ... OK
* checking whether the package can be loaded with stated dependencies ... OK
* checking whether the package can be unloaded cleanly ... OK
* checking whether the namespace can be loaded with stated dependencies ... OK
* checking whether the namespace can be unloaded cleanly ... OK
* checking dependencies in R code ... NOTE
'library' or 'require' call to ‘Rsamtools’ which was already attached by Depends.
Please remove these calls from your code.
'library' or 'require' calls in package code:
‘ChIPpeakAnno’ ‘GenomicFeatures’ ‘biomaRt’ ‘parallel’
Please use :: or requireNamespace() instead.
See section 'Suggested packages' in the 'Writing R Extensions' manual.
* checking S3 generic/method consistency ... NOTE
Found the following apparent S3 methods exported but not registered:
nbh.GRanges nbh.integer
See section ‘Registering S3 methods’ in the ‘Writing R Extensions’
manual.
* checking replacement functions ... OK
* checking foreign function calls ... OK
* checking R code for possible problems ... NOTE
annotateRIP: no visible global function definition for ‘getAnnotation’
annotateRIP: no visible global function definition for ‘getBM’
annotateRIP: no visible global function definition for ‘write.table’
binCount: no visible global function definition for ‘seqlengths’
combineRIP: no visible global function definition for ‘seqlengths<-’
combineRIP: no visible global function definition for ‘seqlengths’
computeRPKM: no visible global function definition for ‘exonsBy’
computeRPKM: no visible global function definition for ‘cdsBy’
computeRPKM: no visible global function definition for
‘intronsByTranscript’
computeRPKM: no visible global function definition for
‘fiveUTRsByTranscript’
computeRPKM: no visible global function definition for
‘threeUTRsByTranscript’
computeRPKM: no visible global function definition for ‘seqlevels<-’
computeRPKM: no visible global function definition for ‘seqlevels’
computeRPKM: no visible global function definition for ‘read.delim’
computeRPKM: no visible global function definition for ‘getBM’
exportGRanges: no visible global function definition for ‘write.table’
galp2gal: no visible global function definition for ‘seqlengths’
getAlignGal: no visible global function definition for ‘seqlengths<-’
getAlignGal: no visible global function definition for ‘seqlengths’
mainSeek: no visible global function definition for ‘mclapply’
mainSeekSingleChrom: no visible global function definition for
‘seqlengths’
plotCoverage: no visible global function definition for ‘seqlengths’
ripSeek: no visible global function definition for ‘as.roman’
ripSeek: no visible global function definition for ‘write.table’
rulebaseRIPSeek: no visible global function definition for ‘getBM’
rulebaseRIPSeek: no visible global function definition for
‘write.table’
selectBinSize: no visible global function definition for ‘seqlengths’
viewRIP: no visible global function definition for
‘GRangesForUCSCGenome’
Undefined global functions or variables:
GRangesForUCSCGenome as.roman cdsBy exonsBy fiveUTRsByTranscript
getAnnotation getBM intronsByTranscript mclapply read.delim
seqlengths seqlengths<- seqlevels seqlevels<- threeUTRsByTranscript
write.table
Consider adding
importFrom("utils", "as.roman", "read.delim", "write.table")
to your NAMESPACE file.
* checking Rd files ... OK
* checking Rd metadata ... OK
* checking Rd cross-references ... OK
* checking for missing documentation entries ... OK
* checking for code/documentation mismatches ... OK
* checking Rd \usage sections ... OK
* checking Rd contents ... OK
* checking for unstated dependencies in examples ... OK
* checking files in ‘vignettes’ ... OK
* checking examples ... OK
Examples with CPU or elapsed time > 5s
user system elapsed
mainSeek 17.404 0.008 17.469
disambiguateMultihits 15.428 0.016 15.466
combineRIP 2.228 0.020 16.325
* checking for unstated dependencies in vignettes ... OK
* checking package vignettes in ‘inst/doc’ ... OK
* checking running R code from vignettes ... SKIPPED
* checking re-building of vignette outputs ... SKIPPED
* checking PDF version of manual ... OK
* DONE
Status: 4 NOTEs
See
‘/home/biocbuild/bbs-3.10-bioc/meat/RIPSeeker.Rcheck/00check.log’
for details.
RIPSeeker.Rcheck/00install.out
############################################################################## ############################################################################## ### ### Running command: ### ### /home/biocbuild/bbs-3.10-bioc/R/bin/R CMD INSTALL RIPSeeker ### ############################################################################## ############################################################################## * installing to library ‘/home/biocbuild/bbs-3.10-bioc/R/library’ * installing *source* package ‘RIPSeeker’ ... ** using staged installation ** R ** inst ** byte-compile and prepare package for lazy loading ** help *** installing help indices ** building package indices ** installing vignettes ** testing if installed package can be loaded from temporary location ** testing if installed package can be loaded from final location ** testing if installed package keeps a record of temporary installation path * DONE (RIPSeeker)
RIPSeeker.Rcheck/RIPSeeker-Ex.timings
| name | user | system | elapsed | |
| RIPSeeker-package | 0.004 | 0.000 | 0.001 | |
| addDummyProb | 1.024 | 0.044 | 1.091 | |
| addPseudoAlignment | 0.484 | 0.016 | 0.499 | |
| annotateRIP | 0.012 | 0.000 | 0.011 | |
| binCount | 0.600 | 0.008 | 0.607 | |
| combineAlignGals | 0.388 | 0.000 | 0.395 | |
| combineRIP | 2.228 | 0.020 | 16.325 | |
| computeLogOdd | 1.832 | 0.016 | 1.868 | |
| computeRPKM | 0.000 | 0.000 | 0.002 | |
| disambiguateMultihits | 15.428 | 0.016 | 15.466 | |
| empiricalFDR | 0.000 | 0.000 | 0.001 | |
| evalBinSize | 0.296 | 0.008 | 0.304 | |
| exportGRanges | 0.000 | 0.000 | 0.001 | |
| galp2gal | 0.248 | 0.000 | 0.250 | |
| getAlignGal | 0.168 | 0.004 | 0.173 | |
| logScoreWithControl | 0.004 | 0.000 | 0.003 | |
| logScoreWithoutControl | 0.000 | 0.004 | 0.001 | |
| mainSeek | 17.404 | 0.008 | 17.469 | |
| mainSeekSingleChrom | 1.628 | 0.004 | 1.633 | |
| nbh.GRanges | 0 | 0 | 0 | |
| nbh | 1.844 | 0.008 | 1.855 | |
| nbh.integer | 0 | 0 | 0 | |
| nbh_chk | 0 | 0 | 0 | |
| nbh_em | 0.16 | 0.00 | 0.16 | |
| nbh_gen | 0.004 | 0.000 | 0.004 | |
| nbh_init | 0.868 | 0.000 | 0.872 | |
| nbh_vit | 0.128 | 0.000 | 0.130 | |
| nbm_chk | 0 | 0 | 0 | |
| nbm_em | 0.240 | 0.000 | 0.238 | |
| plotCoverage | 0.964 | 0.020 | 0.985 | |
| plotStrandedCoverage | 1.472 | 0.020 | 1.495 | |
| randindx | 0.144 | 0.008 | 0.152 | |
| ripSeek | 0.004 | 0.000 | 0.003 | |
| rulebaseRIPSeek | 0.000 | 0.000 | 0.001 | |
| scoreMergedBins | 0.008 | 0.000 | 0.006 | |
| seekRIP | 0.004 | 0.000 | 0.003 | |
| selectBinSize | 2.528 | 0.024 | 2.585 | |
| statdis | 0.156 | 0.000 | 0.156 | |
| viewRIP | 0.000 | 0.004 | 0.002 | |