| Back to Multiple platform build/check report for BioC 3.10 |
|
This page was generated on 2020-04-15 12:25:42 -0400 (Wed, 15 Apr 2020).
| Package 1390/1823 | Hostname | OS / Arch | INSTALL | BUILD | CHECK | BUILD BIN | ||||||
| RCy3 2.6.3 Alex Pico
| malbec1 | Linux (Ubuntu 18.04.4 LTS) / x86_64 | OK | OK | OK | |||||||
| tokay1 | Windows Server 2012 R2 Standard / x64 | OK | OK | OK | [ OK ] | |||||||
| merida1 | OS X 10.11.6 El Capitan / x86_64 | OK | OK | OK | OK |
| Package: RCy3 |
| Version: 2.6.3 |
| Command: rm -rf RCy3.buildbin-libdir && mkdir RCy3.buildbin-libdir && C:\Users\biocbuild\bbs-3.10-bioc\R\bin\R.exe CMD INSTALL --merge-multiarch --build --library=RCy3.buildbin-libdir RCy3_2.6.3.tar.gz |
| StartedAt: 2020-04-15 09:30:15 -0400 (Wed, 15 Apr 2020) |
| EndedAt: 2020-04-15 09:31:02 -0400 (Wed, 15 Apr 2020) |
| EllapsedTime: 47.3 seconds |
| RetCode: 0 |
| Status: OK |
| PackageFile: RCy3_2.6.3.zip |
| PackageFileSize: 5.192 MiB |
##############################################################################
##############################################################################
###
### Running command:
###
### rm -rf RCy3.buildbin-libdir && mkdir RCy3.buildbin-libdir && C:\Users\biocbuild\bbs-3.10-bioc\R\bin\R.exe CMD INSTALL --merge-multiarch --build --library=RCy3.buildbin-libdir RCy3_2.6.3.tar.gz
###
##############################################################################
##############################################################################
install for i386
* installing *source* package 'RCy3' ...
** using staged installation
** R
** inst
** byte-compile and prepare package for lazy loading
** help
*** installing help indices
converting help for package 'RCy3'
finding HTML links ... done
AddToGroup html
RCy3 html
RemoveFromGroup html
addCyEdges html
addCyNodes html
applyFilter html
bundleEdges html
clearEdgeBends html
clearEdgePropertyBypass html
clearNetworkCenterBypass html
clearNetworkPropertyBypass html
clearNetworkZoomBypass html
clearNodeOpacityBypass html
clearNodePropertyBypass html
clearSelection html
cloneNetwork html
closeSession html
collapseGroup html
commandEcho html
commandOpenDialog html
commandPause html
commandQuit html
commandRunFile html
commandSleep html
commandsAPI html
commandsGET html
commandsHelp html
commandsPOST html
commandsRun html
copyVisualStyle html
createColumnFilter html
createCompositeFilter html
createDegreeFilter html
createGraphFromNetwork html
createGroup html
createGroupByColumn html
createIgraphFromNetwork html
createNetworkFromDataFrames html
createNetworkFromGraph html
createNetworkFromIgraph html
createSubnetwork html
createVisualStyle html
cybrowserClose html
cybrowserDialog html
cybrowserHide html
cybrowserList html
cybrowserSend html
cybrowserShow html
cybrowserVersion html
cyrestAPI html
cyrestDELETE html
cyrestGET html
cyrestPOST html
cyrestPUT html
cytoscapeApiVersions html
cytoscapeFreeMemory html
cytoscapeMemoryStatus html
cytoscapeNumberOfCores html
cytoscapePing html
cytoscapeVersionInfo html
deleteAllNetworks html
deleteDuplicateEdges html
deleteGroup html
deleteNetwork html
deleteSelectedEdges html
deleteSelectedNodes html
deleteSelfLoops html
deleteStyleMapping html
deleteTableColumn html
deleteVisualStyle html
diffusionAdvanced html
diffusionBasic html
disableApp html
dockPanel html
enableApp html
expandGroup html
exportFilters html
exportImage html
exportNetwork html
exportNetworkToNDEx html
exportVisualStyles html
fitContent html
floatPanel html
getAllEdges html
getAllNodes html
getAppInformation html
getAppStatus html
getAppUpdates html
getArrowShapes html
getAvailableApps html
getBackgroundColorDefault html
getCollectionList html
getCollectionName html
getCollectionNetworks html
getCollectionSuid html
getDisabledApps html
getEdgeColor html
getEdgeCount html
getEdgeInfo html
getEdgeLineStyle html
getEdgeLineWidth html
getEdgeProperty html
getEdgeSelectionColorDefault html
getEdgeTargetArrowShape html
getFilterList html
getFirstNeighbors html
getGroupInfo html
getInstalledApps html
getLayoutNameMapping html
getLayoutNames html
getLayoutPropertyNames html
getLayoutPropertyType html
getLayoutPropertyValue html
getLineStyles html
getNetworkCenter html
getNetworkCount html
getNetworkList html
getNetworkNDExId html
getNetworkName html
getNetworkProperty html
getNetworkSuid html
getNetworkViewSuid html
getNetworkViews html
getNetworkZoom html
getNodeColor html
getNodeCount html
getNodeHeight html
getNodePosition html
getNodeProperty html
getNodeSelectionColorDefault html
getNodeShapes html
getNodeSize html
getNodeWidth html
getSelectedEdgeCount html
getSelectedEdges html
getSelectedNodeCount html
getSelectedNodes html
getStyleDependencies html
getTableColumnNames html
getTableColumnTypes html
getTableColumns html
getTableValue html
getUninstalledApps html
getVisualPropertyDefault html
getVisualPropertyNames html
getVisualStyleNames html
hideAllPanels html
hideEdges html
hideNodes html
hidePanel html
hideSelectedEdges html
hideSelectedNodes html
importFilters html
importNetworkFromFile html
importNetworkFromNDEx html
importVisualStyles html
installApp html
invertEdgeSelection html
invertNodeSelection html
layoutCopycat html
layoutNetwork html
listGroups html
loadTableData html
lockNodeDimensions html
makeSimpleGraph html
makeSimpleIgraph html
mapTableColumn html
mapVisualProperty html
matchArrowColorToEdge html
openAppStore html
openSession html
removeNodeCustomGraphics html
renameNetwork html
renameTableColumn html
saveSession html
selectAllEdges html
selectAllNodes html
selectEdges html
selectEdgesAdjacentToSelectedNodes html
selectEdgesConnectingSelectedNodes html
selectFirstNeighbors html
selectNodes html
selectNodesConnectedBySelectedEdges html
setBackgroundColorDefault html
setCurrentNetwork html
setCurrentView html
setEdgeColorBypass html
setEdgeColorDefault html
setEdgeColorMapping html
setEdgeFontFaceBypass html
setEdgeFontFaceDefault html
setEdgeFontFaceMapping html
setEdgeFontSizeBypass html
setEdgeFontSizeDefault html
setEdgeFontSizeMapping html
setEdgeLabelBypass html
setEdgeLabelColorBypass html
setEdgeLabelColorDefault html
setEdgeLabelColorMapping html
setEdgeLabelDefault html
setEdgeLabelMapping html
setEdgeLabelOpacityBypass html
setEdgeLabelOpacityDefault html
setEdgeLabelOpacityMapping html
setEdgeLineStyleBypass html
setEdgeLineStyleDefault html
setEdgeLineStyleMapping html
setEdgeLineWidthBypass html
setEdgeLineWidthDefault html
setEdgeLineWidthMapping html
setEdgeOpacityBypass html
setEdgeOpacityDefault html
setEdgeOpacityMapping html
setEdgePropertyBypass html
setEdgeSelectionColorDefault html
setEdgeSourceArrowColorBypass html
setEdgeSourceArrowColorDefault html
setEdgeSourceArrowColorMapping html
setEdgeSourceArrowMapping html
setEdgeSourceArrowShapeBypass html
setEdgeSourceArrowShapeDefault html
setEdgeSourceArrowShapeMapping html
setEdgeTargetArrowColorBypass html
setEdgeTargetArrowColorDefault html
setEdgeTargetArrowColorMapping html
setEdgeTargetArrowMapping html
setEdgeTargetArrowShapeBypass html
setEdgeTargetArrowShapeDefault html
setEdgeTargetArrowShapeMapping html
setEdgeTooltipBypass html
setEdgeTooltipDefault html
setEdgeTooltipMapping html
setLayoutProperties html
setNetworkCenterBypass html
setNetworkPropertyBypass html
setNetworkZoomBypass html
setNodeBorderColorBypass html
setNodeBorderColorDefault html
setNodeBorderColorMapping html
setNodeBorderOpacityBypass html
setNodeBorderOpacityDefault html
setNodeBorderOpacityMapping html
setNodeBorderWidthBypass html
setNodeBorderWidthDefault html
setNodeBorderWidthMapping html
setNodeColorBypass html
setNodeColorDefault html
setNodeColorMapping html
setNodeComboOpacityMapping html
setNodeCustomBarChart html
setNodeCustomBoxChart html
setNodeCustomHeatMapChart html
setNodeCustomLineChart html
setNodeCustomLinearGradient html
setNodeCustomPieChart html
setNodeCustomPosition html
setNodeCustomRadialGradient html
setNodeCustomRingChart html
setNodeFillOpacityBypass html
setNodeFillOpacityDefault html
setNodeFillOpacityMapping html
setNodeFontFaceBypass html
setNodeFontFaceDefault html
setNodeFontFaceMapping html
setNodeFontSizeBypass html
setNodeFontSizeDefault html
setNodeFontSizeMapping html
setNodeHeightBypass html
setNodeHeightDefault html
setNodeHeightMapping html
setNodeLabelBypass html
setNodeLabelColorBypass html
setNodeLabelColorDefault html
setNodeLabelColorMapping html
setNodeLabelDefault html
setNodeLabelMapping html
setNodeLabelOpacityBypass html
setNodeLabelOpacityDefault html
setNodeLabelOpacityMapping html
setNodeOpacityBypass html
setNodePropertyBypass html
setNodeSelectionColorDefault html
setNodeShapeBypass html
setNodeShapeDefault html
setNodeShapeMapping html
setNodeSizeBypass html
setNodeSizeDefault html
setNodeSizeMapping html
setNodeTooltipBypass html
setNodeTooltipDefault html
setNodeTooltipMapping html
setNodeWidthBypass html
setNodeWidthDefault html
setNodeWidthMapping html
setStyleDependencies html
setVisualPropertyDefault html
setVisualStyle html
syncNodeCustomGraphicsSize html
toggleGraphicsDetails html
unhideAll html
unhideEdges html
unhideNodes html
uninstallApp html
updateApp html
updateNetworkInNDEx html
updateStyleDefaults html
updateStyleMapping html
** building package indices
** installing vignettes
** testing if installed package can be loaded from temporary location
** testing if installed package can be loaded from final location
** testing if installed package keeps a record of temporary installation path
install for x64
* installing *source* package 'RCy3' ...
** testing if installed package can be loaded
* MD5 sums
packaged installation of 'RCy3' as RCy3_2.6.3.zip
* DONE (RCy3)