| Back to Multiple platform build/check report for BioC 3.10 |
|
This page was generated on 2020-04-15 12:43:58 -0400 (Wed, 15 Apr 2020).
| Package 1379/1823 | Hostname | OS / Arch | INSTALL | BUILD | CHECK | BUILD BIN | ||||||
| RCAS 1.12.0 Bora Uyar
| malbec1 | Linux (Ubuntu 18.04.4 LTS) / x86_64 | OK | OK | OK | |||||||
| tokay1 | Windows Server 2012 R2 Standard / x64 | OK | OK | OK | OK | |||||||
| merida1 | OS X 10.11.6 El Capitan / x86_64 | OK | OK | [ OK ] | OK |
| Package: RCAS |
| Version: 1.12.0 |
| Command: /Library/Frameworks/R.framework/Versions/Current/Resources/bin/R CMD check --install=check:RCAS.install-out.txt --library=/Library/Frameworks/R.framework/Versions/Current/Resources/library --no-vignettes --timings RCAS_1.12.0.tar.gz |
| StartedAt: 2020-04-15 04:59:20 -0400 (Wed, 15 Apr 2020) |
| EndedAt: 2020-04-15 05:12:46 -0400 (Wed, 15 Apr 2020) |
| EllapsedTime: 806.2 seconds |
| RetCode: 0 |
| Status: OK |
| CheckDir: RCAS.Rcheck |
| Warnings: 0 |
##############################################################################
##############################################################################
###
### Running command:
###
### /Library/Frameworks/R.framework/Versions/Current/Resources/bin/R CMD check --install=check:RCAS.install-out.txt --library=/Library/Frameworks/R.framework/Versions/Current/Resources/library --no-vignettes --timings RCAS_1.12.0.tar.gz
###
##############################################################################
##############################################################################
* using log directory ‘/Users/biocbuild/bbs-3.10-bioc/meat/RCAS.Rcheck’
* using R version 3.6.3 (2020-02-29)
* using platform: x86_64-apple-darwin15.6.0 (64-bit)
* using session charset: UTF-8
* using option ‘--no-vignettes’
* checking for file ‘RCAS/DESCRIPTION’ ... OK
* checking extension type ... Package
* this is package ‘RCAS’ version ‘1.12.0’
* checking package namespace information ... OK
* checking package dependencies ... OK
* checking if this is a source package ... OK
* checking if there is a namespace ... OK
* checking for hidden files and directories ... OK
* checking for portable file names ... OK
* checking for sufficient/correct file permissions ... OK
* checking whether package ‘RCAS’ can be installed ... OK
* checking installed package size ... OK
* checking package directory ... OK
* checking ‘build’ directory ... OK
* checking DESCRIPTION meta-information ... OK
* checking top-level files ... OK
* checking for left-over files ... OK
* checking index information ... OK
* checking package subdirectories ... OK
* checking R files for non-ASCII characters ... OK
* checking R files for syntax errors ... OK
* checking whether the package can be loaded ... OK
* checking whether the package can be loaded with stated dependencies ... OK
* checking whether the package can be unloaded cleanly ... OK
* checking whether the namespace can be loaded with stated dependencies ... OK
* checking whether the namespace can be unloaded cleanly ... OK
* checking dependencies in R code ... NOTE
Namespace in Imports field not imported from: ‘DBI’
All declared Imports should be used.
* checking S3 generic/method consistency ... OK
* checking replacement functions ... OK
* checking foreign function calls ... OK
* checking R code for possible problems ... OK
* checking Rd files ... OK
* checking Rd metadata ... OK
* checking Rd cross-references ... OK
* checking for missing documentation entries ... OK
* checking for code/documentation mismatches ... OK
* checking Rd \usage sections ... OK
* checking Rd contents ... OK
* checking for unstated dependencies in examples ... OK
* checking contents of ‘data’ directory ... OK
* checking data for non-ASCII characters ... OK
* checking data for ASCII and uncompressed saves ... OK
* checking files in ‘vignettes’ ... OK
* checking examples ... OK
Examples with CPU or elapsed time > 5s
user system elapsed
getMotifSummaryTable 46.786 10.229 33.239
runMotifRG 44.866 9.974 32.382
getFeatureBoundaryCoverageMulti 18.963 1.312 20.570
calculateCoverageProfileList 16.746 1.301 18.293
calculateCoverageProfile 16.250 0.753 17.166
getTargetedGenesTable 13.927 2.365 13.911
calculateCoverageProfileListFromTxdb 12.997 1.081 14.180
getTxdbFeaturesFromGRanges 12.647 0.787 14.072
summarizeQueryRegions 12.431 0.827 13.661
getTxdbFeatures 11.515 1.293 11.984
summarizeQueryRegionsMulti 11.499 0.812 28.232
plotFeatureBoundaryCoverage 8.130 1.305 8.752
calculateCoverageProfileFromTxdb 8.140 0.615 8.881
getFeatureBoundaryCoverage 7.261 0.444 7.886
getFeatureBoundaryCoverageBin 6.559 0.580 7.205
createDB 3.361 0.086 20.704
createOrthologousGeneSetList 0.470 0.031 11.117
retrieveOrthologs 0.297 0.018 15.704
* checking for unstated dependencies in ‘tests’ ... OK
* checking tests ...
Running ‘testthat.R’
OK
* checking for unstated dependencies in vignettes ... OK
* checking package vignettes in ‘inst/doc’ ... OK
* checking running R code from vignettes ... SKIPPED
* checking re-building of vignette outputs ... SKIPPED
* checking PDF version of manual ... OK
* DONE
Status: 1 NOTE
See
‘/Users/biocbuild/bbs-3.10-bioc/meat/RCAS.Rcheck/00check.log’
for details.
RCAS.Rcheck/00install.out
############################################################################## ############################################################################## ### ### Running command: ### ### /Library/Frameworks/R.framework/Versions/Current/Resources/bin/R CMD INSTALL RCAS ### ############################################################################## ############################################################################## * installing to library ‘/Library/Frameworks/R.framework/Versions/3.6/Resources/library’ * installing *source* package ‘RCAS’ ... ** using staged installation ** R ** data *** moving datasets to lazyload DB ** inst ** byte-compile and prepare package for lazy loading groupGOTerms: GOBPTerm, GOMFTerm, GOCCTerm environments built. ** help *** installing help indices ** building package indices ** installing vignettes ** testing if installed package can be loaded from temporary location groupGOTerms: GOBPTerm, GOMFTerm, GOCCTerm environments built. ** testing if installed package can be loaded from final location groupGOTerms: GOBPTerm, GOMFTerm, GOCCTerm environments built. ** testing if installed package keeps a record of temporary installation path * DONE (RCAS)
RCAS.Rcheck/tests/testthat.Rout
R version 3.6.3 (2020-02-29) -- "Holding the Windsock"
Copyright (C) 2020 The R Foundation for Statistical Computing
Platform: x86_64-apple-darwin15.6.0 (64-bit)
R is free software and comes with ABSOLUTELY NO WARRANTY.
You are welcome to redistribute it under certain conditions.
Type 'license()' or 'licence()' for distribution details.
R is a collaborative project with many contributors.
Type 'contributors()' for more information and
'citation()' on how to cite R or R packages in publications.
Type 'demo()' for some demos, 'help()' for on-line help, or
'help.start()' for an HTML browser interface to help.
Type 'q()' to quit R.
> library(testthat)
> library(RCAS)
Loading required package: plotly
Loading required package: ggplot2
Attaching package: 'plotly'
The following object is masked from 'package:ggplot2':
last_plot
The following object is masked from 'package:stats':
filter
The following object is masked from 'package:graphics':
layout
Loading required package: DT
Loading required package: data.table
Loading required package: topGO
Loading required package: BiocGenerics
Loading required package: parallel
Attaching package: 'BiocGenerics'
The following objects are masked from 'package:parallel':
clusterApply, clusterApplyLB, clusterCall, clusterEvalQ,
clusterExport, clusterMap, parApply, parCapply, parLapply,
parLapplyLB, parRapply, parSapply, parSapplyLB
The following objects are masked from 'package:stats':
IQR, mad, sd, var, xtabs
The following objects are masked from 'package:base':
Filter, Find, Map, Position, Reduce, anyDuplicated, append,
as.data.frame, basename, cbind, colnames, dirname, do.call,
duplicated, eval, evalq, get, grep, grepl, intersect, is.unsorted,
lapply, mapply, match, mget, order, paste, pmax, pmax.int, pmin,
pmin.int, rank, rbind, rownames, sapply, setdiff, sort, table,
tapply, union, unique, unsplit, which, which.max, which.min
Loading required package: graph
Loading required package: Biobase
Welcome to Bioconductor
Vignettes contain introductory material; view with
'browseVignettes()'. To cite Bioconductor, see
'citation("Biobase")', and for packages 'citation("pkgname")'.
Loading required package: GO.db
Loading required package: AnnotationDbi
Loading required package: stats4
Loading required package: IRanges
Loading required package: S4Vectors
Attaching package: 'S4Vectors'
The following objects are masked from 'package:data.table':
first, second
The following object is masked from 'package:plotly':
rename
The following object is masked from 'package:base':
expand.grid
Attaching package: 'IRanges'
The following object is masked from 'package:data.table':
shift
The following object is masked from 'package:plotly':
slice
Attaching package: 'AnnotationDbi'
The following object is masked from 'package:plotly':
select
Loading required package: SparseM
Attaching package: 'SparseM'
The following object is masked from 'package:base':
backsolve
groupGOTerms: GOBPTerm, GOMFTerm, GOCCTerm environments built.
Attaching package: 'topGO'
The following object is masked from 'package:IRanges':
members
Loading required package: motifRG
Loading required package: Biostrings
Loading required package: XVector
Attaching package: 'Biostrings'
The following object is masked from 'package:graph':
complement
The following object is masked from 'package:base':
strsplit
Loading required package: seqLogo
Loading required package: grid
Attaching package: 'grid'
The following object is masked from 'package:topGO':
depth
Loading required package: BSgenome
Loading required package: GenomeInfoDb
Loading required package: GenomicRanges
Loading required package: rtracklayer
Attaching package: 'rtracklayer'
The following object is masked from 'package:plotly':
export
Loading required package: BSgenome.Hsapiens.UCSC.hg19
>
> test_check("RCAS")
AGGAGA 2.298264e-06
Refine AGGAGA 11.04547 : 10.67696 11.78336 10.19585 11.14804 11.35838 TRUE 463 168 451 161
New motif: AGGAGA
══ testthat results ═══════════════════════════════════════════════════════════
[ OK: 81 | SKIPPED: 0 | WARNINGS: 71 | FAILED: 0 ]
>
> proc.time()
user system elapsed
109.598 15.984 116.737
RCAS.Rcheck/RCAS-Ex.timings
| name | user | system | elapsed | |
| calculateCoverageProfile | 16.250 | 0.753 | 17.166 | |
| calculateCoverageProfileFromTxdb | 8.140 | 0.615 | 8.881 | |
| calculateCoverageProfileList | 16.746 | 1.301 | 18.293 | |
| calculateCoverageProfileListFromTxdb | 12.997 | 1.081 | 14.180 | |
| createControlRegions | 0.355 | 0.005 | 0.365 | |
| createDB | 3.361 | 0.086 | 20.704 | |
| createOrthologousGeneSetList | 0.470 | 0.031 | 11.117 | |
| discoverFeatureSpecificMotifs | 0.000 | 0.000 | 0.001 | |
| extractSequences | 1.571 | 0.106 | 1.689 | |
| getFeatureBoundaryCoverage | 7.261 | 0.444 | 7.886 | |
| getFeatureBoundaryCoverageBin | 6.559 | 0.580 | 7.205 | |
| getFeatureBoundaryCoverageMulti | 18.963 | 1.312 | 20.570 | |
| getIntervalOverlapMatrix | 1.342 | 0.142 | 1.943 | |
| getMotifSummaryTable | 46.786 | 10.229 | 33.239 | |
| getTargetedGenesTable | 13.927 | 2.365 | 13.911 | |
| getTxdbFeatures | 11.515 | 1.293 | 11.984 | |
| getTxdbFeaturesFromGRanges | 12.647 | 0.787 | 14.072 | |
| importBed | 0.411 | 0.046 | 0.603 | |
| importBedFiles | 1.469 | 0.076 | 1.667 | |
| importGtf | 0 | 0 | 0 | |
| parseMsigdb | 0.002 | 0.001 | 0.003 | |
| plotFeatureBoundaryCoverage | 8.130 | 1.305 | 8.752 | |
| printMsigdbDataset | 0.273 | 0.390 | 0.085 | |
| queryGff | 0.938 | 0.384 | 0.944 | |
| retrieveOrthologs | 0.297 | 0.018 | 15.704 | |
| runGSEA | 1.012 | 0.055 | 1.077 | |
| runMotifRG | 44.866 | 9.974 | 32.382 | |
| runReport | 0.001 | 0.000 | 0.000 | |
| runReportMetaAnalysis | 1.412 | 0.177 | 1.784 | |
| runTopGO | 0.000 | 0.000 | 0.001 | |
| summarizeQueryRegions | 12.431 | 0.827 | 13.661 | |
| summarizeQueryRegionsMulti | 11.499 | 0.812 | 28.232 | |