| Back to Multiple platform build/check report for BioC 3.10 |
|
This page was generated on 2020-04-15 12:25:55 -0400 (Wed, 15 Apr 2020).
| Package 1353/1823 | Hostname | OS / Arch | INSTALL | BUILD | CHECK | BUILD BIN | ||||||
| QuaternaryProd 1.20.0 Carl Tony Fakhry
| malbec1 | Linux (Ubuntu 18.04.4 LTS) / x86_64 | OK | OK | OK | |||||||
| tokay1 | Windows Server 2012 R2 Standard / x64 | [ OK ] | OK | OK | OK | |||||||
| merida1 | OS X 10.11.6 El Capitan / x86_64 | OK | OK | OK | OK |
| Package: QuaternaryProd |
| Version: 1.20.0 |
| Command: C:\cygwin\bin\curl.exe -O https://malbec1.bioconductor.org/BBS/3.10/bioc/src/contrib/QuaternaryProd_1.20.0.tar.gz && rm -rf QuaternaryProd.buildbin-libdir && mkdir QuaternaryProd.buildbin-libdir && C:\Users\biocbuild\bbs-3.10-bioc\R\bin\R.exe CMD INSTALL --merge-multiarch --build --library=QuaternaryProd.buildbin-libdir QuaternaryProd_1.20.0.tar.gz && C:\Users\biocbuild\bbs-3.10-bioc\R\bin\R.exe CMD INSTALL QuaternaryProd_1.20.0.zip && rm QuaternaryProd_1.20.0.tar.gz QuaternaryProd_1.20.0.zip |
| StartedAt: 2020-04-14 18:43:53 -0400 (Tue, 14 Apr 2020) |
| EndedAt: 2020-04-14 18:45:09 -0400 (Tue, 14 Apr 2020) |
| EllapsedTime: 76.2 seconds |
| RetCode: 0 |
| Status: OK |
##############################################################################
##############################################################################
###
### Running command:
###
### C:\cygwin\bin\curl.exe -O https://malbec1.bioconductor.org/BBS/3.10/bioc/src/contrib/QuaternaryProd_1.20.0.tar.gz && rm -rf QuaternaryProd.buildbin-libdir && mkdir QuaternaryProd.buildbin-libdir && C:\Users\biocbuild\bbs-3.10-bioc\R\bin\R.exe CMD INSTALL --merge-multiarch --build --library=QuaternaryProd.buildbin-libdir QuaternaryProd_1.20.0.tar.gz && C:\Users\biocbuild\bbs-3.10-bioc\R\bin\R.exe CMD INSTALL QuaternaryProd_1.20.0.zip && rm QuaternaryProd_1.20.0.tar.gz QuaternaryProd_1.20.0.zip
###
##############################################################################
##############################################################################
% Total % Received % Xferd Average Speed Time Time Time Current
Dload Upload Total Spent Left Speed
0 0 0 0 0 0 0 0 --:--:-- --:--:-- --:--:-- 0
0 10.7M 0 98304 0 0 1491k 0 0:00:07 --:--:-- 0:00:07 1573k
100 10.7M 100 10.7M 0 0 22.0M 0 --:--:-- --:--:-- --:--:-- 22.1M
install for i386
* installing *source* package 'QuaternaryProd' ...
** using staged installation
** libs
C:/Rtools/mingw_32/bin/g++ -std=gnu++11 -I"C:/Users/BIOCBU~1/BBS-3~1.10-/R/include" -DNDEBUG -I"C:/Users/biocbuild/bbs-3.10-bioc/R/library/Rcpp/include" -I"C:/extsoft/include" -O2 -Wall -mtune=core2 -c QuaternaryProd.cpp -o QuaternaryProd.o
C:/Rtools/mingw_32/bin/g++ -std=gnu++11 -I"C:/Users/BIOCBU~1/BBS-3~1.10-/R/include" -DNDEBUG -I"C:/Users/biocbuild/bbs-3.10-bioc/R/library/Rcpp/include" -I"C:/extsoft/include" -O2 -Wall -mtune=core2 -c QuaternaryProdUtils.cpp -o QuaternaryProdUtils.o
C:/Rtools/mingw_32/bin/g++ -std=gnu++11 -I"C:/Users/BIOCBU~1/BBS-3~1.10-/R/include" -DNDEBUG -I"C:/Users/biocbuild/bbs-3.10-bioc/R/library/Rcpp/include" -I"C:/extsoft/include" -O2 -Wall -mtune=core2 -c RcppExports.cpp -o RcppExports.o
C:/Rtools/mingw_32/bin/g++ -std=gnu++11 -shared -s -static-libgcc -o QuaternaryProd.dll tmp.def QuaternaryProd.o QuaternaryProdUtils.o RcppExports.o -LC:/extsoft/lib/i386 -LC:/extsoft/lib -LC:/Users/BIOCBU~1/BBS-3~1.10-/R/bin/i386 -lR
installing to C:/Users/biocbuild/bbs-3.10-bioc/meat/QuaternaryProd.buildbin-libdir/00LOCK-QuaternaryProd/00new/QuaternaryProd/libs/i386
** R
** inst
** byte-compile and prepare package for lazy loading
** help
*** installing help indices
converting help for package 'QuaternaryProd'
finding HTML links ... done
QP_Pmf html
QP_Probability html
QP_Pvalue html
QP_SigPvalue html
QP_Support html
QuaternaryProd-package html
RunCRE_HSAStringDB html
** building package indices
** installing vignettes
** testing if installed package can be loaded from temporary location
** testing if installed package can be loaded from final location
** testing if installed package keeps a record of temporary installation path
install for x64
* installing *source* package 'QuaternaryProd' ...
** libs
C:/Rtools/mingw_64/bin/g++ -std=gnu++11 -I"C:/Users/BIOCBU~1/BBS-3~1.10-/R/include" -DNDEBUG -I"C:/Users/biocbuild/bbs-3.10-bioc/R/library/Rcpp/include" -I"C:/extsoft/include" -O2 -Wall -mtune=core2 -c QuaternaryProd.cpp -o QuaternaryProd.o
C:/Rtools/mingw_64/bin/g++ -std=gnu++11 -I"C:/Users/BIOCBU~1/BBS-3~1.10-/R/include" -DNDEBUG -I"C:/Users/biocbuild/bbs-3.10-bioc/R/library/Rcpp/include" -I"C:/extsoft/include" -O2 -Wall -mtune=core2 -c QuaternaryProdUtils.cpp -o QuaternaryProdUtils.o
C:/Rtools/mingw_64/bin/g++ -std=gnu++11 -I"C:/Users/BIOCBU~1/BBS-3~1.10-/R/include" -DNDEBUG -I"C:/Users/biocbuild/bbs-3.10-bioc/R/library/Rcpp/include" -I"C:/extsoft/include" -O2 -Wall -mtune=core2 -c RcppExports.cpp -o RcppExports.o
C:/Rtools/mingw_64/bin/g++ -std=gnu++11 -shared -s -static-libgcc -o QuaternaryProd.dll tmp.def QuaternaryProd.o QuaternaryProdUtils.o RcppExports.o -LC:/extsoft/lib/x64 -LC:/extsoft/lib -LC:/Users/BIOCBU~1/BBS-3~1.10-/R/bin/x64 -lR
installing to C:/Users/biocbuild/bbs-3.10-bioc/meat/QuaternaryProd.buildbin-libdir/QuaternaryProd/libs/x64
** testing if installed package can be loaded
* MD5 sums
packaged installation of 'QuaternaryProd' as QuaternaryProd_1.20.0.zip
* DONE (QuaternaryProd)
* installing to library 'C:/Users/biocbuild/bbs-3.10-bioc/R/library'
package 'QuaternaryProd' successfully unpacked and MD5 sums checked