| Back to Multiple platform build/check report for BioC 3.10 |
|
This page was generated on 2020-04-15 12:20:30 -0400 (Wed, 15 Apr 2020).
| Package 1348/1823 | Hostname | OS / Arch | INSTALL | BUILD | CHECK | BUILD BIN | ||||||
| QUALIFIER 1.30.0 Mike Jiang
| malbec1 | Linux (Ubuntu 18.04.4 LTS) / x86_64 | OK | ERROR | skipped | |||||||
| tokay1 | Windows Server 2012 R2 Standard / x64 | [ OK ] | ERROR | skipped | skipped | |||||||
| merida1 | OS X 10.11.6 El Capitan / x86_64 | OK | ERROR | skipped | skipped |
| Package: QUALIFIER |
| Version: 1.30.0 |
| Command: C:\cygwin\bin\curl.exe -O https://malbec1.bioconductor.org/BBS/3.10/bioc/src/contrib/QUALIFIER_1.30.0.tar.gz && rm -rf QUALIFIER.buildbin-libdir && mkdir QUALIFIER.buildbin-libdir && C:\Users\biocbuild\bbs-3.10-bioc\R\bin\R.exe CMD INSTALL --merge-multiarch --build --library=QUALIFIER.buildbin-libdir QUALIFIER_1.30.0.tar.gz && C:\Users\biocbuild\bbs-3.10-bioc\R\bin\R.exe CMD INSTALL QUALIFIER_1.30.0.zip && rm QUALIFIER_1.30.0.tar.gz QUALIFIER_1.30.0.zip |
| StartedAt: 2020-04-14 19:43:35 -0400 (Tue, 14 Apr 2020) |
| EndedAt: 2020-04-14 19:44:05 -0400 (Tue, 14 Apr 2020) |
| EllapsedTime: 30.2 seconds |
| RetCode: 0 |
| Status: OK |
##############################################################################
##############################################################################
###
### Running command:
###
### C:\cygwin\bin\curl.exe -O https://malbec1.bioconductor.org/BBS/3.10/bioc/src/contrib/QUALIFIER_1.30.0.tar.gz && rm -rf QUALIFIER.buildbin-libdir && mkdir QUALIFIER.buildbin-libdir && C:\Users\biocbuild\bbs-3.10-bioc\R\bin\R.exe CMD INSTALL --merge-multiarch --build --library=QUALIFIER.buildbin-libdir QUALIFIER_1.30.0.tar.gz && C:\Users\biocbuild\bbs-3.10-bioc\R\bin\R.exe CMD INSTALL QUALIFIER_1.30.0.zip && rm QUALIFIER_1.30.0.tar.gz QUALIFIER_1.30.0.zip
###
##############################################################################
##############################################################################
% Total % Received % Xferd Average Speed Time Time Time Current
Dload Upload Total Spent Left Speed
0 0 0 0 0 0 0 0 --:--:-- --:--:-- --:--:-- 0
100 960k 100 960k 0 0 19.0M 0 --:--:-- --:--:-- --:--:-- 20.3M
install for i386
* installing *source* package 'QUALIFIER' ...
** using staged installation
** R
** data
** inst
** byte-compile and prepare package for lazy loading
** help
*** installing help indices
converting help for package 'QUALIFIER'
finding HTML links ... done
ITNQASTUDY html
QUALIFIER-package html
getQAStats html
finding level-2 HTML links ... done
initDB html
outlierFunctions html
plot-methods html
qaCheck-methods html
Rd warning: C:/Users/biocbuild/bbs-3.10-bioc/tmpdir/RtmpOSKY92/R.INSTALL1ca025bd10bf/QUALIFIER/man/qaCheck-methods.Rd:40: file link 'plot' in package 'QUALIFIER' does not exist and so has been treated as a topic
Rd warning: C:/Users/biocbuild/bbs-3.10-bioc/tmpdir/RtmpOSKY92/R.INSTALL1ca025bd10bf/QUALIFIER/man/qaCheck-methods.Rd:129: file link 'plot' in package 'QUALIFIER' does not exist and so has been treated as a topic
qaPreprocess html
qaReport html
Rd warning: C:/Users/biocbuild/bbs-3.10-bioc/tmpdir/RtmpOSKY92/R.INSTALL1ca025bd10bf/QUALIFIER/man/qaReport.Rd:20: file link 'plot' in package 'QUALIFIER' does not exist and so has been treated as a topic
Rd warning: C:/Users/biocbuild/bbs-3.10-bioc/tmpdir/RtmpOSKY92/R.INSTALL1ca025bd10bf/QUALIFIER/man/qaReport.Rd:60: file link 'plot' in package 'QUALIFIER' does not exist and so has been treated as a topic
qaTask-class html
read.qaTask html
saveToDB html
save_db html
** building package indices
** installing vignettes
'QUALIFIER.Rmd'
** testing if installed package can be loaded from temporary location
** testing if installed package can be loaded from final location
** testing if installed package keeps a record of temporary installation path
install for x64
* installing *source* package 'QUALIFIER' ...
** testing if installed package can be loaded
* MD5 sums
packaged installation of 'QUALIFIER' as QUALIFIER_1.30.0.zip
* DONE (QUALIFIER)
* installing to library 'C:/Users/biocbuild/bbs-3.10-bioc/R/library'
package 'QUALIFIER' successfully unpacked and MD5 sums checked