| Back to Multiple platform build/check report for BioC 3.10 |
|
This page was generated on 2020-04-15 12:31:20 -0400 (Wed, 15 Apr 2020).
| Package 1346/1823 | Hostname | OS / Arch | INSTALL | BUILD | CHECK | BUILD BIN | ||||||
| QSutils 1.4.0 Mercedes Guerrero-Murillo
| malbec1 | Linux (Ubuntu 18.04.4 LTS) / x86_64 | OK | OK | OK | |||||||
| tokay1 | Windows Server 2012 R2 Standard / x64 | [ OK ] | OK | OK | OK | |||||||
| merida1 | OS X 10.11.6 El Capitan / x86_64 | OK | OK | OK | OK |
| Package: QSutils |
| Version: 1.4.0 |
| Command: C:\cygwin\bin\curl.exe -O https://malbec1.bioconductor.org/BBS/3.10/bioc/src/contrib/QSutils_1.4.0.tar.gz && rm -rf QSutils.buildbin-libdir && mkdir QSutils.buildbin-libdir && C:\Users\biocbuild\bbs-3.10-bioc\R\bin\R.exe CMD INSTALL --merge-multiarch --build --library=QSutils.buildbin-libdir QSutils_1.4.0.tar.gz && C:\Users\biocbuild\bbs-3.10-bioc\R\bin\R.exe CMD INSTALL QSutils_1.4.0.zip && rm QSutils_1.4.0.tar.gz QSutils_1.4.0.zip |
| StartedAt: 2020-04-14 19:14:28 -0400 (Tue, 14 Apr 2020) |
| EndedAt: 2020-04-14 19:15:10 -0400 (Tue, 14 Apr 2020) |
| EllapsedTime: 42.2 seconds |
| RetCode: 0 |
| Status: OK |
##############################################################################
##############################################################################
###
### Running command:
###
### C:\cygwin\bin\curl.exe -O https://malbec1.bioconductor.org/BBS/3.10/bioc/src/contrib/QSutils_1.4.0.tar.gz && rm -rf QSutils.buildbin-libdir && mkdir QSutils.buildbin-libdir && C:\Users\biocbuild\bbs-3.10-bioc\R\bin\R.exe CMD INSTALL --merge-multiarch --build --library=QSutils.buildbin-libdir QSutils_1.4.0.tar.gz && C:\Users\biocbuild\bbs-3.10-bioc\R\bin\R.exe CMD INSTALL QSutils_1.4.0.zip && rm QSutils_1.4.0.tar.gz QSutils_1.4.0.zip
###
##############################################################################
##############################################################################
% Total % Received % Xferd Average Speed Time Time Time Current
Dload Upload Total Spent Left Speed
0 0 0 0 0 0 0 0 --:--:-- --:--:-- --:--:-- 0
100 74617 100 74617 0 0 1178k 0 --:--:-- --:--:-- --:--:-- 1278k
install for i386
* installing *source* package 'QSutils' ...
** using staged installation
** R
** inst
** byte-compile and prepare package for lazy loading
** help
*** installing help indices
converting help for package 'QSutils'
finding HTML links ... done
Collapse html
ConsSeq html
CorrectGapsAndNs html
DBrule html
DNA.dist html
DSFT html
Diverge html
DottedAlignment html
FAD html
FreqMat html
GenerateVars html
GenotypeStandards_A-H.fas html
GetInfProfile html
GetQSData html
GetRandomSeq html
GiniSimpson html
HCq html
Hill html
IntersectStrandHpls html
MutationFreq html
MutsTbl html
NucleotideDiversity html
PolyDist html
QSutils-package html
Rao html
ReadAmplSeqs html
Renyi html
ReportVariants html
SegSites html
Shannon html
SortByMutations html
SummaryMuts html
TotalMutations html
Toy.GapsAndNs.fna html
ToyData_10_50_1000.fna html
ToyData_FWReads.fna html
ToyData_RVReads.fna html
UniqueMutations html
Unknown-Genotype.fna html
fn.ab html
geom.series html
** building package indices
** installing vignettes
** testing if installed package can be loaded from temporary location
** testing if installed package can be loaded from final location
** testing if installed package keeps a record of temporary installation path
install for x64
* installing *source* package 'QSutils' ...
** testing if installed package can be loaded
* MD5 sums
packaged installation of 'QSutils' as QSutils_1.4.0.zip
* DONE (QSutils)
* installing to library 'C:/Users/biocbuild/bbs-3.10-bioc/R/library'
package 'QSutils' successfully unpacked and MD5 sums checked