| Back to Multiple platform build/check report for BioC 3.10 |
|
This page was generated on 2020-04-15 12:23:16 -0400 (Wed, 15 Apr 2020).
| Package 1333/1823 | Hostname | OS / Arch | INSTALL | BUILD | CHECK | BUILD BIN | ||||||
| Pviz 1.20.0 Renan Sauteraud
| malbec1 | Linux (Ubuntu 18.04.4 LTS) / x86_64 | OK | OK | OK | |||||||
| tokay1 | Windows Server 2012 R2 Standard / x64 | OK | OK | [ OK ] | OK | |||||||
| merida1 | OS X 10.11.6 El Capitan / x86_64 | OK | OK | OK | OK |
| Package: Pviz |
| Version: 1.20.0 |
| Command: C:\Users\biocbuild\bbs-3.10-bioc\R\bin\R.exe CMD check --force-multiarch --install=check:Pviz.install-out.txt --library=C:\Users\biocbuild\bbs-3.10-bioc\R\library --no-vignettes --timings Pviz_1.20.0.tar.gz |
| StartedAt: 2020-04-15 05:45:40 -0400 (Wed, 15 Apr 2020) |
| EndedAt: 2020-04-15 05:52:18 -0400 (Wed, 15 Apr 2020) |
| EllapsedTime: 397.5 seconds |
| RetCode: 0 |
| Status: OK |
| CheckDir: Pviz.Rcheck |
| Warnings: 0 |
##############################################################################
##############################################################################
###
### Running command:
###
### C:\Users\biocbuild\bbs-3.10-bioc\R\bin\R.exe CMD check --force-multiarch --install=check:Pviz.install-out.txt --library=C:\Users\biocbuild\bbs-3.10-bioc\R\library --no-vignettes --timings Pviz_1.20.0.tar.gz
###
##############################################################################
##############################################################################
* using log directory 'C:/Users/biocbuild/bbs-3.10-bioc/meat/Pviz.Rcheck'
* using R version 3.6.3 (2020-02-29)
* using platform: x86_64-w64-mingw32 (64-bit)
* using session charset: ISO8859-1
* using option '--no-vignettes'
* checking for file 'Pviz/DESCRIPTION' ... OK
* checking extension type ... Package
* this is package 'Pviz' version '1.20.0'
* checking package namespace information ... OK
* checking package dependencies ... OK
* checking if this is a source package ... OK
* checking if there is a namespace ... OK
* checking for hidden files and directories ... OK
* checking for portable file names ... OK
* checking whether package 'Pviz' can be installed ... OK
* checking installed package size ... OK
* checking package directory ... OK
* checking 'build' directory ... OK
* checking DESCRIPTION meta-information ... OK
* checking top-level files ... OK
* checking for left-over files ... OK
* checking index information ... OK
* checking package subdirectories ... OK
* checking R files for non-ASCII characters ... OK
* checking R files for syntax errors ... OK
* loading checks for arch 'i386'
** checking whether the package can be loaded ... OK
** checking whether the package can be loaded with stated dependencies ... OK
** checking whether the package can be unloaded cleanly ... OK
** checking whether the namespace can be loaded with stated dependencies ... OK
** checking whether the namespace can be unloaded cleanly ... OK
* loading checks for arch 'x64'
** checking whether the package can be loaded ... OK
** checking whether the package can be loaded with stated dependencies ... OK
** checking whether the package can be unloaded cleanly ... OK
** checking whether the namespace can be loaded with stated dependencies ... OK
** checking whether the namespace can be unloaded cleanly ... OK
* checking dependencies in R code ... OK
* checking S3 generic/method consistency ... OK
* checking replacement functions ... OK
* checking foreign function calls ... OK
* checking R code for possible problems ... NOTE
.makeParMapping: no visible global function definition for
'assignInNamespace'
drawGD,ProbeTrack: no visible global function definition for
'pushViewport'
drawGD,ProbeTrack: no visible global function definition for 'viewport'
drawGD,ProbeTrack: no visible global function definition for
'popViewport'
drawGD,ProbeTrack: no visible global function definition for 'unit'
drawGD,ProbeTrack: no visible global function definition for 'gpar'
drawGD,ProbeTrack: no visible global function definition for
'convertWidth'
drawGD,ProbeTrack: no visible global function definition for
'stringWidth'
drawGD,ProbeTrack: no visible global function definition for
'stringHeight'
drawGD,ProbeTrack: no visible global function definition for
'grid.text'
drawGD,ProbeTrack: no visible global function definition for
'grid.rect'
drawGD,ProbeTrack: no visible global function definition for
'dataViewport'
drawGD,ProbeTrack : <anonymous>: no visible global function definition
for 'grid.rect'
drawGD,ProbeTrack : <anonymous>: no visible global function definition
for 'gpar'
drawGD,ProbeTrack : <anonymous>: no visible global function definition
for 'grid.text'
drawGD,ProteinAxisTrack: no visible global function definition for
'pushViewport'
drawGD,ProteinAxisTrack: no visible global function definition for
'dataViewport'
drawGD,ProteinAxisTrack: no visible global function definition for
'convertHeight'
drawGD,ProteinAxisTrack: no visible global function definition for
'stringHeight'
drawGD,ProteinAxisTrack: no visible global function definition for
'popViewport'
drawGD,ProteinAxisTrack: no visible global function definition for
'.getGapPos'
drawGD,ProteinAxisTrack: no visible global function definition for
'gaps'
drawGD,ProteinAxisTrack: no visible global function definition for
'viewport'
drawGD,ProteinAxisTrack: no visible global function definition for
'grid.segments'
drawGD,ProteinAxisTrack: no visible global function definition for
'gpar'
drawGD,ProteinAxisTrack: no visible global function definition for
'coord2ext'
drawGD,ProteinAxisTrack: no visible global function definition for
'grid.text'
drawGD,ProteinAxisTrack: no visible global function definition for
'convertWidth'
drawGD,ProteinAxisTrack: no visible global function definition for
'stringWidth'
drawGD,ProteinSequenceTrack: no visible global function definition for
'pushViewport'
drawGD,ProteinSequenceTrack: no visible global function definition for
'dataViewport'
drawGD,ProteinSequenceTrack: no visible global function definition for
'gpar'
drawGD,ProteinSequenceTrack: no visible global function definition for
'popViewport'
drawGD,ProteinSequenceTrack: no visible global function definition for
'convertUnit'
drawGD,ProteinSequenceTrack: no visible global function definition for
'stringWidth'
drawGD,ProteinSequenceTrack: no visible global function definition for
'grid.lines'
drawGD,ProteinSequenceTrack: no visible global function definition for
'unit'
drawGD,ProteinSequenceTrack: no visible global function definition for
'grid.text'
drawGD,ProteinSequenceTrack: no visible global function definition for
'grid.rect'
Undefined global functions or variables:
.getGapPos assignInNamespace convertHeight convertUnit convertWidth
coord2ext dataViewport gaps gpar grid.lines grid.rect grid.segments
grid.text popViewport pushViewport stringHeight stringWidth unit
viewport
Consider adding
importFrom("utils", "assignInNamespace")
to your NAMESPACE file.
* checking Rd files ... OK
* checking Rd metadata ... OK
* checking Rd cross-references ... OK
* checking for missing documentation entries ... OK
* checking for code/documentation mismatches ... OK
* checking Rd \usage sections ... OK
* checking Rd contents ... OK
* checking for unstated dependencies in examples ... OK
* checking installed files from 'inst/doc' ... OK
* checking files in 'vignettes' ... OK
* checking examples ...
** running examples for arch 'i386' ... OK
** running examples for arch 'x64' ... OK
Examples with CPU or elapsed time > 5s
user system elapsed
ProbeTrack 5.64 0.14 5.78
* checking for unstated dependencies in vignettes ... OK
* checking package vignettes in 'inst/doc' ... OK
* checking running R code from vignettes ... SKIPPED
* checking re-building of vignette outputs ... SKIPPED
* checking PDF version of manual ... OK
* DONE
Status: 1 NOTE
See
'C:/Users/biocbuild/bbs-3.10-bioc/meat/Pviz.Rcheck/00check.log'
for details.
Pviz.Rcheck/00install.out
##############################################################################
##############################################################################
###
### Running command:
###
### C:\cygwin\bin\curl.exe -O https://malbec1.bioconductor.org/BBS/3.10/bioc/src/contrib/Pviz_1.20.0.tar.gz && rm -rf Pviz.buildbin-libdir && mkdir Pviz.buildbin-libdir && C:\Users\biocbuild\bbs-3.10-bioc\R\bin\R.exe CMD INSTALL --merge-multiarch --build --library=Pviz.buildbin-libdir Pviz_1.20.0.tar.gz && C:\Users\biocbuild\bbs-3.10-bioc\R\bin\R.exe CMD INSTALL Pviz_1.20.0.zip && rm Pviz_1.20.0.tar.gz Pviz_1.20.0.zip
###
##############################################################################
##############################################################################
% Total % Received % Xferd Average Speed Time Time Time Current
Dload Upload Total Spent Left Speed
0 0 0 0 0 0 0 0 --:--:-- --:--:-- --:--:-- 0
55 200k 55 112k 0 0 319k 0 --:--:-- --:--:-- --:--:-- 322k
100 200k 100 200k 0 0 571k 0 --:--:-- --:--:-- --:--:-- 575k
install for i386
* installing *source* package 'Pviz' ...
** using staged installation
** R
** inst
** byte-compile and prepare package for lazy loading
** help
*** installing help indices
converting help for package 'Pviz'
finding HTML links ... done
ATrack html
finding level-2 HTML links ... done
CladeTrack html
DTrack html
ProbeTrack html
ProteinAxisTrack html
ProteinSequenceTrack html
plot_clade html
plot_inter html
** building package indices
** installing vignettes
'Pviz.Rnw'
** testing if installed package can be loaded from temporary location
** testing if installed package can be loaded from final location
** testing if installed package keeps a record of temporary installation path
install for x64
* installing *source* package 'Pviz' ...
** testing if installed package can be loaded
* MD5 sums
packaged installation of 'Pviz' as Pviz_1.20.0.zip
* DONE (Pviz)
* installing to library 'C:/Users/biocbuild/bbs-3.10-bioc/R/library'
package 'Pviz' successfully unpacked and MD5 sums checked
|
Pviz.Rcheck/examples_i386/Pviz-Ex.timings
|
Pviz.Rcheck/examples_x64/Pviz-Ex.timings
|