| Back to Multiple platform build/check report for BioC 3.10 |
|
This page was generated on 2020-04-15 12:25:27 -0400 (Wed, 15 Apr 2020).
| Package 1320/1823 | Hostname | OS / Arch | INSTALL | BUILD | CHECK | BUILD BIN | ||||||
| ProteomicsAnnotationHubData 1.16.0 Laurent Gatto
| malbec1 | Linux (Ubuntu 18.04.4 LTS) / x86_64 | OK | OK | OK | |||||||
| tokay1 | Windows Server 2012 R2 Standard / x64 | OK | OK | OK | [ OK ] | |||||||
| merida1 | OS X 10.11.6 El Capitan / x86_64 | OK | OK | OK | OK |
| Package: ProteomicsAnnotationHubData |
| Version: 1.16.0 |
| Command: rm -rf ProteomicsAnnotationHubData.buildbin-libdir && mkdir ProteomicsAnnotationHubData.buildbin-libdir && C:\Users\biocbuild\bbs-3.10-bioc\R\bin\R.exe CMD INSTALL --merge-multiarch --build --library=ProteomicsAnnotationHubData.buildbin-libdir ProteomicsAnnotationHubData_1.16.0.tar.gz |
| StartedAt: 2020-04-15 09:26:22 -0400 (Wed, 15 Apr 2020) |
| EndedAt: 2020-04-15 09:27:34 -0400 (Wed, 15 Apr 2020) |
| EllapsedTime: 72.2 seconds |
| RetCode: 0 |
| Status: OK |
| PackageFile: ProteomicsAnnotationHubData_1.16.0.zip |
| PackageFileSize: 301 KiB |
##############################################################################
##############################################################################
###
### Running command:
###
### rm -rf ProteomicsAnnotationHubData.buildbin-libdir && mkdir ProteomicsAnnotationHubData.buildbin-libdir && C:\Users\biocbuild\bbs-3.10-bioc\R\bin\R.exe CMD INSTALL --merge-multiarch --build --library=ProteomicsAnnotationHubData.buildbin-libdir ProteomicsAnnotationHubData_1.16.0.tar.gz
###
##############################################################################
##############################################################################
install for i386
* installing *source* package 'ProteomicsAnnotationHubData' ...
** using staged installation
** R
** inst
** byte-compile and prepare package for lazy loading
** help
*** installing help indices
converting help for package 'ProteomicsAnnotationHubData'
finding HTML links ... done
PAHD-class html
PAHD html
ProteomicsAnnotationHubData html
identicalRemLoc html
makeAnnotationHubMetadata html
readPahdFiles html
writePahdTemplate html
** building package indices
** installing vignettes
** testing if installed package can be loaded from temporary location
** testing if installed package can be loaded from final location
** testing if installed package keeps a record of temporary installation path
install for x64
* installing *source* package 'ProteomicsAnnotationHubData' ...
** testing if installed package can be loaded
* MD5 sums
packaged installation of 'ProteomicsAnnotationHubData' as ProteomicsAnnotationHubData_1.16.0.zip
* DONE (ProteomicsAnnotationHubData)