| Back to Multiple platform build/check report for BioC 3.10 |
|
This page was generated on 2020-04-15 12:48:16 -0400 (Wed, 15 Apr 2020).
| Package 1321/1823 | Hostname | OS / Arch | INSTALL | BUILD | CHECK | BUILD BIN | ||||||
| ProteoMM 1.4.0 Yuliya V Karpievitch
| malbec1 | Linux (Ubuntu 18.04.4 LTS) / x86_64 | OK | OK | OK | |||||||
| tokay1 | Windows Server 2012 R2 Standard / x64 | OK | OK | OK | OK | |||||||
| merida1 | OS X 10.11.6 El Capitan / x86_64 | OK | OK | [ OK ] | OK |
| Package: ProteoMM |
| Version: 1.4.0 |
| Command: /Library/Frameworks/R.framework/Versions/Current/Resources/bin/R CMD check --install=check:ProteoMM.install-out.txt --library=/Library/Frameworks/R.framework/Versions/Current/Resources/library --no-vignettes --timings ProteoMM_1.4.0.tar.gz |
| StartedAt: 2020-04-15 04:48:43 -0400 (Wed, 15 Apr 2020) |
| EndedAt: 2020-04-15 04:51:19 -0400 (Wed, 15 Apr 2020) |
| EllapsedTime: 156.2 seconds |
| RetCode: 0 |
| Status: OK |
| CheckDir: ProteoMM.Rcheck |
| Warnings: 0 |
##############################################################################
##############################################################################
###
### Running command:
###
### /Library/Frameworks/R.framework/Versions/Current/Resources/bin/R CMD check --install=check:ProteoMM.install-out.txt --library=/Library/Frameworks/R.framework/Versions/Current/Resources/library --no-vignettes --timings ProteoMM_1.4.0.tar.gz
###
##############################################################################
##############################################################################
* using log directory ‘/Users/biocbuild/bbs-3.10-bioc/meat/ProteoMM.Rcheck’
* using R version 3.6.3 (2020-02-29)
* using platform: x86_64-apple-darwin15.6.0 (64-bit)
* using session charset: UTF-8
* using option ‘--no-vignettes’
* checking for file ‘ProteoMM/DESCRIPTION’ ... OK
* this is package ‘ProteoMM’ version ‘1.4.0’
* package encoding: UTF-8
* checking package namespace information ... OK
* checking package dependencies ... OK
* checking if this is a source package ... OK
* checking if there is a namespace ... OK
* checking for hidden files and directories ... OK
* checking for portable file names ... OK
* checking for sufficient/correct file permissions ... OK
* checking whether package ‘ProteoMM’ can be installed ... OK
* checking installed package size ... OK
* checking package directory ... OK
* checking ‘build’ directory ... OK
* checking DESCRIPTION meta-information ... NOTE
License components which are templates and need '+ file LICENSE':
MIT
* checking top-level files ... OK
* checking for left-over files ... OK
* checking index information ... OK
* checking package subdirectories ... OK
* checking R files for non-ASCII characters ... OK
* checking R files for syntax errors ... OK
* checking whether the package can be loaded ... OK
* checking whether the package can be loaded with stated dependencies ... OK
* checking whether the package can be unloaded cleanly ... OK
* checking whether the namespace can be loaded with stated dependencies ... OK
* checking whether the namespace can be unloaded cleanly ... OK
* checking dependencies in R code ... OK
* checking S3 generic/method consistency ... OK
* checking replacement functions ... OK
* checking foreign function calls ... OK
* checking R code for possible problems ... OK
* checking Rd files ... OK
* checking Rd metadata ... OK
* checking Rd cross-references ... OK
* checking for missing documentation entries ... OK
* checking for code/documentation mismatches ... OK
* checking Rd \usage sections ... OK
* checking Rd contents ... OK
* checking for unstated dependencies in examples ... OK
* checking contents of ‘data’ directory ... OK
* checking data for non-ASCII characters ... OK
* checking data for ASCII and uncompressed saves ... OK
* checking files in ‘vignettes’ ... OK
* checking examples ... OK
Examples with CPU or elapsed time > 5s
user system elapsed
prot_level_multi_part 32.344 0.163 32.744
prot_level_multiMat_PresAbs 10.784 0.112 10.999
subset_proteins 10.020 0.104 10.201
peptideLevel_PresAbsDE 8.106 0.075 8.252
get_presAbs_prots 7.750 0.086 7.890
plot_volcano_wLab 6.801 0.044 6.920
plot_volcano 6.649 0.052 6.770
MBimpute 6.258 0.138 6.445
peptideLevel_DE 6.011 0.068 6.124
* checking for unstated dependencies in vignettes ... OK
* checking package vignettes in ‘inst/doc’ ... OK
* checking running R code from vignettes ... SKIPPED
* checking re-building of vignette outputs ... SKIPPED
* checking PDF version of manual ... OK
* DONE
Status: 1 NOTE
See
‘/Users/biocbuild/bbs-3.10-bioc/meat/ProteoMM.Rcheck/00check.log’
for details.
ProteoMM.Rcheck/00install.out
############################################################################## ############################################################################## ### ### Running command: ### ### /Library/Frameworks/R.framework/Versions/Current/Resources/bin/R CMD INSTALL ProteoMM ### ############################################################################## ############################################################################## * installing to library ‘/Library/Frameworks/R.framework/Versions/3.6/Resources/library’ * installing *source* package ‘ProteoMM’ ... ** using staged installation ** R ** data *** moving datasets to lazyload DB ** byte-compile and prepare package for lazy loading ** help *** installing help indices ** building package indices ** installing vignettes ** testing if installed package can be loaded from temporary location ** testing if installed package can be loaded from final location ** testing if installed package keeps a record of temporary installation path * DONE (ProteoMM)
ProteoMM.Rcheck/ProteoMM-Ex.timings
| name | user | system | elapsed | |
| MBimpute | 6.258 | 0.138 | 6.445 | |
| convert_log2 | 0.009 | 0.001 | 0.011 | |
| eig_norm1 | 4.869 | 0.050 | 4.975 | |
| eig_norm2 | 4.584 | 0.062 | 4.670 | |
| eigen_pi | 0.011 | 0.002 | 0.013 | |
| g.test | 0.003 | 0.001 | 0.004 | |
| get_presAbs_prots | 7.750 | 0.086 | 7.890 | |
| makeLMFormula | 0.001 | 0.000 | 0.001 | |
| make_intencities | 0.008 | 0.001 | 0.010 | |
| make_meta | 0.009 | 0.001 | 0.010 | |
| peptideLevel_DE | 6.011 | 0.068 | 6.124 | |
| peptideLevel_PresAbsDE | 8.106 | 0.075 | 8.252 | |
| plot_3_pep_trends_NOfile | 4.381 | 0.033 | 4.454 | |
| plot_volcano | 6.649 | 0.052 | 6.770 | |
| plot_volcano_wLab | 6.801 | 0.044 | 6.920 | |
| prot_level_multiMat_PresAbs | 10.784 | 0.112 | 10.999 | |
| prot_level_multi_part | 32.344 | 0.163 | 32.744 | |
| subset_proteins | 10.020 | 0.104 | 10.201 | |