| Back to Multiple platform build/check report for BioC 3.10 |
|
This page was generated on 2020-04-15 12:08:13 -0400 (Wed, 15 Apr 2020).
| Package 1326/1823 | Hostname | OS / Arch | INSTALL | BUILD | CHECK | BUILD BIN | ||||||
| PSICQUIC 1.24.0 Paul Shannon
| malbec1 | Linux (Ubuntu 18.04.4 LTS) / x86_64 | OK | [ OK ] | WARNINGS | |||||||
| tokay1 | Windows Server 2012 R2 Standard / x64 | OK | OK | ERROR | OK | |||||||
| merida1 | OS X 10.11.6 El Capitan / x86_64 | OK | OK | WARNINGS | OK |
| Package: PSICQUIC |
| Version: 1.24.0 |
| Command: /home/biocbuild/bbs-3.10-bioc/R/bin/R CMD build --keep-empty-dirs --no-resave-data PSICQUIC |
| StartedAt: 2020-04-14 20:41:25 -0400 (Tue, 14 Apr 2020) |
| EndedAt: 2020-04-14 20:43:13 -0400 (Tue, 14 Apr 2020) |
| EllapsedTime: 108.3 seconds |
| RetCode: 0 |
| Status: OK |
| PackageFile: PSICQUIC_1.24.0.tar.gz |
| PackageFileSize: 216.2 KiB |
############################################################################## ############################################################################## ### ### Running command: ### ### /home/biocbuild/bbs-3.10-bioc/R/bin/R CMD build --keep-empty-dirs --no-resave-data PSICQUIC ### ############################################################################## ############################################################################## * checking for file ‘PSICQUIC/DESCRIPTION’ ... OK * preparing ‘PSICQUIC’: * checking DESCRIPTION meta-information ... OK * installing the package to build vignettes * creating vignettes ... OK * checking for LF line-endings in source and make files and shell scripts * checking for empty or unneeded directories * building ‘PSICQUIC_1.24.0.tar.gz’