| Back to Multiple platform build/check report for BioC 3.10 |
|
This page was generated on 2020-04-15 12:23:44 -0400 (Wed, 15 Apr 2020).
| Package 1324/1823 | Hostname | OS / Arch | INSTALL | BUILD | CHECK | BUILD BIN | ||||||
| PSEA 1.20.0 Alexandre Kuhn
| malbec1 | Linux (Ubuntu 18.04.4 LTS) / x86_64 | OK | OK | OK | |||||||
| tokay1 | Windows Server 2012 R2 Standard / x64 | OK | OK | OK | [ OK ] | |||||||
| merida1 | OS X 10.11.6 El Capitan / x86_64 | OK | OK | OK | OK |
| Package: PSEA |
| Version: 1.20.0 |
| Command: rm -rf PSEA.buildbin-libdir && mkdir PSEA.buildbin-libdir && C:\Users\biocbuild\bbs-3.10-bioc\R\bin\R.exe CMD INSTALL --merge-multiarch --build --library=PSEA.buildbin-libdir PSEA_1.20.0.tar.gz |
| StartedAt: 2020-04-15 09:26:33 -0400 (Wed, 15 Apr 2020) |
| EndedAt: 2020-04-15 09:27:06 -0400 (Wed, 15 Apr 2020) |
| EllapsedTime: 33.5 seconds |
| RetCode: 0 |
| Status: OK |
| PackageFile: PSEA_1.20.0.zip |
| PackageFileSize: 6.155 MiB |
##############################################################################
##############################################################################
###
### Running command:
###
### rm -rf PSEA.buildbin-libdir && mkdir PSEA.buildbin-libdir && C:\Users\biocbuild\bbs-3.10-bioc\R\bin\R.exe CMD INSTALL --merge-multiarch --build --library=PSEA.buildbin-libdir PSEA_1.20.0.tar.gz
###
##############################################################################
##############################################################################
install for i386
* installing *source* package 'PSEA' ...
** using staged installation
** R
** data
** inst
** byte-compile and prepare package for lazy loading
** help
*** installing help indices
converting help for package 'PSEA'
finding HTML links ... done
coefmat html
crplot html
em_quantvg html
expression html
expression_GSE19380 html
fmm html
groups html
information html
lmfitst html
marker html
pvalmat html
slt html
swlm html
** building package indices
** installing vignettes
** testing if installed package can be loaded from temporary location
** testing if installed package can be loaded from final location
** testing if installed package keeps a record of temporary installation path
install for x64
* installing *source* package 'PSEA' ...
** testing if installed package can be loaded
* MD5 sums
packaged installation of 'PSEA' as PSEA_1.20.0.zip
* DONE (PSEA)