| Back to Multiple platform build/check report for BioC 3.10 |
|
This page was generated on 2020-04-15 12:18:33 -0400 (Wed, 15 Apr 2020).
| Package 1277/1823 | Hostname | OS / Arch | INSTALL | BUILD | CHECK | BUILD BIN | ||||||
| PLPE 1.46.0 Soo-heang Eo
| malbec1 | Linux (Ubuntu 18.04.4 LTS) / x86_64 | OK | OK | OK | |||||||
| tokay1 | Windows Server 2012 R2 Standard / x64 | OK | OK | OK | [ OK ] | |||||||
| merida1 | OS X 10.11.6 El Capitan / x86_64 | OK | OK | OK | OK |
| Package: PLPE |
| Version: 1.46.0 |
| Command: rm -rf PLPE.buildbin-libdir && mkdir PLPE.buildbin-libdir && C:\Users\biocbuild\bbs-3.10-bioc\R\bin\R.exe CMD INSTALL --merge-multiarch --build --library=PLPE.buildbin-libdir PLPE_1.46.0.tar.gz |
| StartedAt: 2020-04-15 09:23:46 -0400 (Wed, 15 Apr 2020) |
| EndedAt: 2020-04-15 09:24:24 -0400 (Wed, 15 Apr 2020) |
| EllapsedTime: 37.7 seconds |
| RetCode: 0 |
| Status: OK |
| PackageFile: PLPE_1.46.0.zip |
| PackageFileSize: 212.8 KiB |
##############################################################################
##############################################################################
###
### Running command:
###
### rm -rf PLPE.buildbin-libdir && mkdir PLPE.buildbin-libdir && C:\Users\biocbuild\bbs-3.10-bioc\R\bin\R.exe CMD INSTALL --merge-multiarch --build --library=PLPE.buildbin-libdir PLPE_1.46.0.tar.gz
###
##############################################################################
##############################################################################
install for i386
* installing *source* package 'PLPE' ...
** using staged installation
** R
** data
*** moving datasets to lazyload DB
** inst
** byte-compile and prepare package for lazy loading
** help
*** installing help indices
converting help for package 'PLPE'
finding HTML links ... done
am.trans.paired html
base.error.paired html
generate.null html
lpe.paired html
lpe.paired.default html
lpe.paired.fdr html
lpe.paired.fdr.default html
plateletSet html
print.lpe.paired html
print.lpe.paired.fdr html
summary.lpe.paired html
summary.lpe.paired.fdr html
** building package indices
** installing vignettes
** testing if installed package can be loaded from temporary location
** testing if installed package can be loaded from final location
** testing if installed package keeps a record of temporary installation path
install for x64
* installing *source* package 'PLPE' ...
** testing if installed package can be loaded
* MD5 sums
packaged installation of 'PLPE' as PLPE_1.46.0.zip
* DONE (PLPE)