| Back to Multiple platform build/check report for BioC 3.10 |
|
This page was generated on 2020-04-15 12:21:35 -0400 (Wed, 15 Apr 2020).
| Package 1218/1823 | Hostname | OS / Arch | INSTALL | BUILD | CHECK | BUILD BIN | ||||||
| PAPi 1.26.0 Raphael Aggio
| malbec1 | Linux (Ubuntu 18.04.4 LTS) / x86_64 | OK | OK | OK | |||||||
| tokay1 | Windows Server 2012 R2 Standard / x64 | OK | OK | OK | [ OK ] | |||||||
| merida1 | OS X 10.11.6 El Capitan / x86_64 | OK | OK | OK | OK |
| Package: PAPi |
| Version: 1.26.0 |
| Command: rm -rf PAPi.buildbin-libdir && mkdir PAPi.buildbin-libdir && C:\Users\biocbuild\bbs-3.10-bioc\R\bin\R.exe CMD INSTALL --merge-multiarch --build --library=PAPi.buildbin-libdir PAPi_1.26.0.tar.gz |
| StartedAt: 2020-04-15 09:20:21 -0400 (Wed, 15 Apr 2020) |
| EndedAt: 2020-04-15 09:20:49 -0400 (Wed, 15 Apr 2020) |
| EllapsedTime: 28.3 seconds |
| RetCode: 0 |
| Status: OK |
| PackageFile: PAPi_1.26.0.zip |
| PackageFileSize: 614.4 KiB |
##############################################################################
##############################################################################
###
### Running command:
###
### rm -rf PAPi.buildbin-libdir && mkdir PAPi.buildbin-libdir && C:\Users\biocbuild\bbs-3.10-bioc\R\bin\R.exe CMD INSTALL --merge-multiarch --build --library=PAPi.buildbin-libdir PAPi_1.26.0.tar.gz
###
##############################################################################
##############################################################################
install for i386
* installing *source* package 'PAPi' ...
** using staged installation
** R
** data
** inst
** byte-compile and prepare package for lazy loading
** help
*** installing help indices
converting help for package 'PAPi'
finding HTML links ... done
PAPi-package html
addKeggCodes html
buildDatabase html
keggLibrary html
metabolomicsData html
papi html
papiData html
papiHtest html
papiLine html
papiResults html
** building package indices
** installing vignettes
** testing if installed package can be loaded from temporary location
** testing if installed package can be loaded from final location
** testing if installed package keeps a record of temporary installation path
install for x64
* installing *source* package 'PAPi' ...
** testing if installed package can be loaded
* MD5 sums
packaged installation of 'PAPi' as PAPi_1.26.0.zip
* DONE (PAPi)