| Back to Multiple platform build/check report for BioC 3.10 |
|
This page was generated on 2020-04-15 12:20:56 -0400 (Wed, 15 Apr 2020).
| Package 1202/1823 | Hostname | OS / Arch | INSTALL | BUILD | CHECK | BUILD BIN | ||||||
| OrganismDbi 1.28.0 Bioconductor Package Maintainer
| malbec1 | Linux (Ubuntu 18.04.4 LTS) / x86_64 | OK | OK | WARNINGS | |||||||
| tokay1 | Windows Server 2012 R2 Standard / x64 | [ OK ] | OK | WARNINGS | OK | |||||||
| merida1 | OS X 10.11.6 El Capitan / x86_64 | OK | OK | WARNINGS | OK |
| Package: OrganismDbi |
| Version: 1.28.0 |
| Command: C:\cygwin\bin\curl.exe -O https://malbec1.bioconductor.org/BBS/3.10/bioc/src/contrib/OrganismDbi_1.28.0.tar.gz && rm -rf OrganismDbi.buildbin-libdir && mkdir OrganismDbi.buildbin-libdir && C:\Users\biocbuild\bbs-3.10-bioc\R\bin\R.exe CMD INSTALL --merge-multiarch --build --library=OrganismDbi.buildbin-libdir OrganismDbi_1.28.0.tar.gz && C:\Users\biocbuild\bbs-3.10-bioc\R\bin\R.exe CMD INSTALL OrganismDbi_1.28.0.zip && rm OrganismDbi_1.28.0.tar.gz OrganismDbi_1.28.0.zip |
| StartedAt: 2020-04-14 19:53:48 -0400 (Tue, 14 Apr 2020) |
| EndedAt: 2020-04-14 19:54:57 -0400 (Tue, 14 Apr 2020) |
| EllapsedTime: 68.6 seconds |
| RetCode: 0 |
| Status: OK |
##############################################################################
##############################################################################
###
### Running command:
###
### C:\cygwin\bin\curl.exe -O https://malbec1.bioconductor.org/BBS/3.10/bioc/src/contrib/OrganismDbi_1.28.0.tar.gz && rm -rf OrganismDbi.buildbin-libdir && mkdir OrganismDbi.buildbin-libdir && C:\Users\biocbuild\bbs-3.10-bioc\R\bin\R.exe CMD INSTALL --merge-multiarch --build --library=OrganismDbi.buildbin-libdir OrganismDbi_1.28.0.tar.gz && C:\Users\biocbuild\bbs-3.10-bioc\R\bin\R.exe CMD INSTALL OrganismDbi_1.28.0.zip && rm OrganismDbi_1.28.0.tar.gz OrganismDbi_1.28.0.zip
###
##############################################################################
##############################################################################
% Total % Received % Xferd Average Speed Time Time Time Current
Dload Upload Total Spent Left Speed
0 0 0 0 0 0 0 0 --:--:-- --:--:-- --:--:-- 0
100 58572 100 58572 0 0 1245k 0 --:--:-- --:--:-- --:--:-- 1361k
install for i386
* installing *source* package 'OrganismDbi' ...
** using staged installation
** R
** inst
** byte-compile and prepare package for lazy loading
** help
*** installing help indices
converting help for package 'OrganismDbi'
finding HTML links ... done
OrganismDb html
finding level-2 HTML links ... done
Rd warning: C:/Users/biocbuild/bbs-3.10-bioc/tmpdir/RtmpyoMaG7/R.INSTALL474550676c1/OrganismDbi/man/OrganismDb.Rd:191: missing link 'GenomeInfoDb'
coordinate-mapping-method html
makeOrganismDbFromBiomart html
makeOrganismDbFromTxDb html
makeOrganismDbFromUCSC html
makeOrganismPackage html
rangeBasedAccessors html
** building package indices
** installing vignettes
** testing if installed package can be loaded from temporary location
** testing if installed package can be loaded from final location
** testing if installed package keeps a record of temporary installation path
install for x64
* installing *source* package 'OrganismDbi' ...
** testing if installed package can be loaded
* MD5 sums
packaged installation of 'OrganismDbi' as OrganismDbi_1.28.0.zip
* DONE (OrganismDbi)
* installing to library 'C:/Users/biocbuild/bbs-3.10-bioc/R/library'
package 'OrganismDbi' successfully unpacked and MD5 sums checked