| Back to Multiple platform build/check report for BioC 3.10 |
|
This page was generated on 2020-04-15 12:28:02 -0400 (Wed, 15 Apr 2020).
| Package 1201/1823 | Hostname | OS / Arch | INSTALL | BUILD | CHECK | BUILD BIN | ||||||
| Organism.dplyr 1.14.0 Martin Morgan
| malbec1 | Linux (Ubuntu 18.04.4 LTS) / x86_64 | OK | OK | OK | |||||||
| tokay1 | Windows Server 2012 R2 Standard / x64 | [ OK ] | OK | WARNINGS | OK | |||||||
| merida1 | OS X 10.11.6 El Capitan / x86_64 | OK | OK | OK | OK |
| Package: Organism.dplyr |
| Version: 1.14.0 |
| Command: C:\cygwin\bin\curl.exe -O https://malbec1.bioconductor.org/BBS/3.10/bioc/src/contrib/Organism.dplyr_1.14.0.tar.gz && rm -rf Organism.dplyr.buildbin-libdir && mkdir Organism.dplyr.buildbin-libdir && C:\Users\biocbuild\bbs-3.10-bioc\R\bin\R.exe CMD INSTALL --merge-multiarch --build --library=Organism.dplyr.buildbin-libdir Organism.dplyr_1.14.0.tar.gz && C:\Users\biocbuild\bbs-3.10-bioc\R\bin\R.exe CMD INSTALL Organism.dplyr_1.14.0.zip && rm Organism.dplyr_1.14.0.tar.gz Organism.dplyr_1.14.0.zip |
| StartedAt: 2020-04-14 19:55:48 -0400 (Tue, 14 Apr 2020) |
| EndedAt: 2020-04-14 19:56:44 -0400 (Tue, 14 Apr 2020) |
| EllapsedTime: 56.2 seconds |
| RetCode: 0 |
| Status: OK |
##############################################################################
##############################################################################
###
### Running command:
###
### C:\cygwin\bin\curl.exe -O https://malbec1.bioconductor.org/BBS/3.10/bioc/src/contrib/Organism.dplyr_1.14.0.tar.gz && rm -rf Organism.dplyr.buildbin-libdir && mkdir Organism.dplyr.buildbin-libdir && C:\Users\biocbuild\bbs-3.10-bioc\R\bin\R.exe CMD INSTALL --merge-multiarch --build --library=Organism.dplyr.buildbin-libdir Organism.dplyr_1.14.0.tar.gz && C:\Users\biocbuild\bbs-3.10-bioc\R\bin\R.exe CMD INSTALL Organism.dplyr_1.14.0.zip && rm Organism.dplyr_1.14.0.tar.gz Organism.dplyr_1.14.0.zip
###
##############################################################################
##############################################################################
% Total % Received % Xferd Average Speed Time Time Time Current
Dload Upload Total Spent Left Speed
0 0 0 0 0 0 0 0 --:--:-- --:--:-- --:--:-- 0
0 200k 0 0 0 0 0 0 --:--:-- --:--:-- --:--:-- 0
100 200k 100 200k 0 0 1358k 0 --:--:-- --:--:-- --:--:-- 1384k
install for i386
* installing *source* package 'Organism.dplyr' ...
** using staged installation
** R
** inst
** byte-compile and prepare package for lazy loading
** help
*** installing help indices
converting help for package 'Organism.dplyr'
finding HTML links ... done
Genomic-Extractors html
finding level-2 HTML links ... done
filter html
Rd warning: C:/Users/biocbuild/bbs-3.10-bioc/tmpdir/RtmpMNlkXU/R.INSTALL8843c06e24/Organism.dplyr/man/filter.Rd:152: file link 'transcripts_tbl' in package 'Organism.dplyr' does not exist and so has been treated as a topic
Rd warning: C:/Users/biocbuild/bbs-3.10-bioc/tmpdir/RtmpMNlkXU/R.INSTALL8843c06e24/Organism.dplyr/man/filter.Rd:155: file link 'select,src_organism-method' in package 'Organism.dplyr' does not exist and so has been treated as a topic
select html
Rd warning: C:/Users/biocbuild/bbs-3.10-bioc/tmpdir/RtmpMNlkXU/R.INSTALL8843c06e24/Organism.dplyr/man/select.Rd:137: file link 'transcripts_tbl' in package 'Organism.dplyr' does not exist and so has been treated as a topic
src html
Rd warning: C:/Users/biocbuild/bbs-3.10-bioc/tmpdir/RtmpMNlkXU/R.INSTALL8843c06e24/Organism.dplyr/man/src.Rd:130: file link 'transcripts_tbl' in package 'Organism.dplyr' does not exist and so has been treated as a topic
Rd warning: C:/Users/biocbuild/bbs-3.10-bioc/tmpdir/RtmpMNlkXU/R.INSTALL8843c06e24/Organism.dplyr/man/src.Rd:133: file link 'select,src_organism-method' in package 'Organism.dplyr' does not exist and so has been treated as a topic
utils html
** building package indices
** installing vignettes
** testing if installed package can be loaded from temporary location
** testing if installed package can be loaded from final location
** testing if installed package keeps a record of temporary installation path
install for x64
* installing *source* package 'Organism.dplyr' ...
** testing if installed package can be loaded
* MD5 sums
packaged installation of 'Organism.dplyr' as Organism.dplyr_1.14.0.zip
* DONE (Organism.dplyr)
* installing to library 'C:/Users/biocbuild/bbs-3.10-bioc/R/library'
package 'Organism.dplyr' successfully unpacked and MD5 sums checked