| Back to Multiple platform build/check report for BioC 3.10 |
|
This page was generated on 2020-04-15 12:17:37 -0400 (Wed, 15 Apr 2020).
| Package 1199/1823 | Hostname | OS / Arch | INSTALL | BUILD | CHECK | BUILD BIN | ||||||
| OrderedList 1.58.0 Claudio Lottaz
| malbec1 | Linux (Ubuntu 18.04.4 LTS) / x86_64 | OK | OK | OK | |||||||
| tokay1 | Windows Server 2012 R2 Standard / x64 | [ OK ] | OK | OK | OK | |||||||
| merida1 | OS X 10.11.6 El Capitan / x86_64 | OK | OK | OK | OK |
| Package: OrderedList |
| Version: 1.58.0 |
| Command: C:\cygwin\bin\curl.exe -O https://malbec1.bioconductor.org/BBS/3.10/bioc/src/contrib/OrderedList_1.58.0.tar.gz && rm -rf OrderedList.buildbin-libdir && mkdir OrderedList.buildbin-libdir && C:\Users\biocbuild\bbs-3.10-bioc\R\bin\R.exe CMD INSTALL --merge-multiarch --build --library=OrderedList.buildbin-libdir OrderedList_1.58.0.tar.gz && C:\Users\biocbuild\bbs-3.10-bioc\R\bin\R.exe CMD INSTALL OrderedList_1.58.0.zip && rm OrderedList_1.58.0.tar.gz OrderedList_1.58.0.zip |
| StartedAt: 2020-04-14 18:38:01 -0400 (Tue, 14 Apr 2020) |
| EndedAt: 2020-04-14 18:38:42 -0400 (Tue, 14 Apr 2020) |
| EllapsedTime: 41.1 seconds |
| RetCode: 0 |
| Status: OK |
##############################################################################
##############################################################################
###
### Running command:
###
### C:\cygwin\bin\curl.exe -O https://malbec1.bioconductor.org/BBS/3.10/bioc/src/contrib/OrderedList_1.58.0.tar.gz && rm -rf OrderedList.buildbin-libdir && mkdir OrderedList.buildbin-libdir && C:\Users\biocbuild\bbs-3.10-bioc\R\bin\R.exe CMD INSTALL --merge-multiarch --build --library=OrderedList.buildbin-libdir OrderedList_1.58.0.tar.gz && C:\Users\biocbuild\bbs-3.10-bioc\R\bin\R.exe CMD INSTALL OrderedList_1.58.0.zip && rm OrderedList_1.58.0.tar.gz OrderedList_1.58.0.zip
###
##############################################################################
##############################################################################
% Total % Received % Xferd Average Speed Time Time Time Current
Dload Upload Total Spent Left Speed
0 0 0 0 0 0 0 0 --:--:-- --:--:-- --:--:-- 0
100 493k 100 493k 0 0 10.4M 0 --:--:-- --:--:-- --:--:-- 11.4M
install for i386
* installing *source* package 'OrderedList' ...
** using staged installation
** R
** data
** inst
** byte-compile and prepare package for lazy loading
** help
*** installing help indices
converting help for package 'OrderedList'
finding HTML links ... done
OL.data html
OL.result html
OrderedList html
check.test.args html
compareLists html
getOverlap html
overlap html
plot.OrderedList html
prepareData html
preparePermutations html
print.OrderedList html
scoreOrderComparison html
scoreRankings html
shuffledRandomScores html
** building package indices
** installing vignettes
** testing if installed package can be loaded from temporary location
** testing if installed package can be loaded from final location
** testing if installed package keeps a record of temporary installation path
install for x64
* installing *source* package 'OrderedList' ...
** testing if installed package can be loaded
* MD5 sums
packaged installation of 'OrderedList' as OrderedList_1.58.0.zip
* DONE (OrderedList)
* installing to library 'C:/Users/biocbuild/bbs-3.10-bioc/R/library'
package 'OrderedList' successfully unpacked and MD5 sums checked