| Back to Multiple platform build/check report for BioC 3.10 |
|
This page was generated on 2020-04-15 12:16:22 -0400 (Wed, 15 Apr 2020).
| Package 1184/1823 | Hostname | OS / Arch | INSTALL | BUILD | CHECK | BUILD BIN | ||||||
| OmnipathR 1.0.1 Alberto Valdeolivas Urbelz
| malbec1 | Linux (Ubuntu 18.04.4 LTS) / x86_64 | OK | OK | [ OK ] | |||||||
| tokay1 | Windows Server 2012 R2 Standard / x64 | OK | OK | ERROR | OK | |||||||
| merida1 | OS X 10.11.6 El Capitan / x86_64 | OK | OK | OK | OK |
| Package: OmnipathR |
| Version: 1.0.1 |
| Command: /home/biocbuild/bbs-3.10-bioc/R/bin/R CMD check --install=check:OmnipathR.install-out.txt --library=/home/biocbuild/bbs-3.10-bioc/R/library --no-vignettes --timings OmnipathR_1.0.1.tar.gz |
| StartedAt: 2020-04-15 06:59:25 -0400 (Wed, 15 Apr 2020) |
| EndedAt: 2020-04-15 07:02:49 -0400 (Wed, 15 Apr 2020) |
| EllapsedTime: 204.1 seconds |
| RetCode: 0 |
| Status: OK |
| CheckDir: OmnipathR.Rcheck |
| Warnings: 0 |
##############################################################################
##############################################################################
###
### Running command:
###
### /home/biocbuild/bbs-3.10-bioc/R/bin/R CMD check --install=check:OmnipathR.install-out.txt --library=/home/biocbuild/bbs-3.10-bioc/R/library --no-vignettes --timings OmnipathR_1.0.1.tar.gz
###
##############################################################################
##############################################################################
* using log directory ‘/home/biocbuild/bbs-3.10-bioc/meat/OmnipathR.Rcheck’
* using R version 3.6.3 (2020-02-29)
* using platform: x86_64-pc-linux-gnu (64-bit)
* using session charset: UTF-8
* using option ‘--no-vignettes’
* checking for file ‘OmnipathR/DESCRIPTION’ ... OK
* checking extension type ... Package
* this is package ‘OmnipathR’ version ‘1.0.1’
* package encoding: UTF-8
* checking package namespace information ... OK
* checking package dependencies ... OK
* checking if this is a source package ... OK
* checking if there is a namespace ... OK
* checking for hidden files and directories ... OK
* checking for portable file names ... OK
* checking for sufficient/correct file permissions ... OK
* checking whether package ‘OmnipathR’ can be installed ... OK
* checking installed package size ... OK
* checking package directory ... OK
* checking ‘build’ directory ... OK
* checking DESCRIPTION meta-information ... OK
* checking top-level files ... OK
* checking for left-over files ... OK
* checking index information ... OK
* checking package subdirectories ... OK
* checking R files for non-ASCII characters ... OK
* checking R files for syntax errors ... OK
* checking whether the package can be loaded ... OK
* checking whether the package can be loaded with stated dependencies ... OK
* checking whether the package can be unloaded cleanly ... OK
* checking whether the namespace can be loaded with stated dependencies ... OK
* checking whether the namespace can be unloaded cleanly ... OK
* checking dependencies in R code ... OK
* checking S3 generic/method consistency ... OK
* checking replacement functions ... OK
* checking foreign function calls ... OK
* checking R code for possible problems ... OK
* checking Rd files ... OK
* checking Rd metadata ... OK
* checking Rd cross-references ... OK
* checking for missing documentation entries ... OK
* checking for code/documentation mismatches ... OK
* checking Rd \usage sections ... OK
* checking Rd contents ... OK
* checking for unstated dependencies in examples ... OK
* checking files in ‘vignettes’ ... OK
* checking examples ... OK
Examples with CPU or elapsed time > 5s
user system elapsed
get_signed_ptms 6.908 0.064 14.210
printPath_vs 4.312 0.040 9.914
OmnipathR 4.128 0.072 9.756
import_AllInteractions 3.456 0.020 7.093
print_interactions 3.396 0.048 7.338
import_Omnipath_intercell 1.660 0.060 12.121
get_intercell_categories 1.628 0.036 9.743
* checking for unstated dependencies in ‘tests’ ... OK
* checking tests ...
Running ‘testthat.R’
OK
* checking for unstated dependencies in vignettes ... OK
* checking package vignettes in ‘inst/doc’ ... OK
* checking running R code from vignettes ... SKIPPED
* checking re-building of vignette outputs ... SKIPPED
* checking PDF version of manual ... OK
* DONE
Status: OK
OmnipathR.Rcheck/00install.out
############################################################################## ############################################################################## ### ### Running command: ### ### /home/biocbuild/bbs-3.10-bioc/R/bin/R CMD INSTALL OmnipathR ### ############################################################################## ############################################################################## * installing to library ‘/home/biocbuild/bbs-3.10-bioc/R/library’ * installing *source* package ‘OmnipathR’ ... ** using staged installation ** R ** inst ** byte-compile and prepare package for lazy loading ** help *** installing help indices ** building package indices ** installing vignettes ** testing if installed package can be loaded from temporary location ** testing if installed package can be loaded from final location ** testing if installed package keeps a record of temporary installation path * DONE (OmnipathR)
OmnipathR.Rcheck/tests/testthat.Rout
R version 3.6.3 (2020-02-29) -- "Holding the Windsock"
Copyright (C) 2020 The R Foundation for Statistical Computing
Platform: x86_64-pc-linux-gnu (64-bit)
R is free software and comes with ABSOLUTELY NO WARRANTY.
You are welcome to redistribute it under certain conditions.
Type 'license()' or 'licence()' for distribution details.
R is a collaborative project with many contributors.
Type 'contributors()' for more information and
'citation()' on how to cite R or R packages in publications.
Type 'demo()' for some demos, 'help()' for on-line help, or
'help.start()' for an HTML browser interface to help.
Type 'q()' to quit R.
> library(testthat)
> library(OmnipathR)
Loading required package: igraph
Attaching package: 'igraph'
The following object is masked from 'package:testthat':
compare
The following objects are masked from 'package:stats':
decompose, spectrum
The following object is masked from 'package:base':
union
>
> test_check("OmnipathR")
══ testthat results ═══════════════════════════════════════════════════════════
[ OK: 9 | SKIPPED: 0 | WARNINGS: 0 | FAILED: 0 ]
>
> proc.time()
user system elapsed
17.808 0.368 58.409
OmnipathR.Rcheck/OmnipathR-Ex.timings
| name | user | system | elapsed | |
| OmnipathR | 4.128 | 0.072 | 9.756 | |
| get_annotation_databases | 0.048 | 0.000 | 1.334 | |
| get_complex_genes | 0.604 | 0.012 | 2.669 | |
| get_complexes_databases | 0.292 | 0.000 | 1.885 | |
| get_interaction_databases | 1.244 | 0.012 | 4.336 | |
| get_intercell_categories | 1.628 | 0.036 | 9.743 | |
| get_ptms_databases | 0.664 | 0.020 | 2.822 | |
| get_signed_ptms | 6.908 | 0.064 | 14.210 | |
| import_AllInteractions | 3.456 | 0.020 | 7.093 | |
| import_KinaseExtra_Interactions | 0.732 | 0.008 | 1.769 | |
| import_LigrecExtra_Interactions | 0.140 | 0.000 | 0.785 | |
| import_Omnipath_Interactions | 1.708 | 0.024 | 4.395 | |
| import_Omnipath_PTMS | 1.520 | 0.012 | 3.953 | |
| import_Omnipath_annotations | 0.036 | 0.000 | 0.576 | |
| import_Omnipath_complexes | 0.548 | 0.024 | 2.000 | |
| import_Omnipath_intercell | 1.660 | 0.060 | 12.121 | |
| import_PathwayExtra_Interactions | 0.668 | 0.000 | 2.081 | |
| import_TFregulons_Interactions | 0.472 | 0.004 | 1.592 | |
| import_miRNAtarget_Interactions | 0.504 | 0.000 | 1.302 | |
| interaction_graph | 1.844 | 0.004 | 4.629 | |
| printPath_es | 1.992 | 0.032 | 4.327 | |
| printPath_vs | 4.312 | 0.040 | 9.914 | |
| print_interactions | 3.396 | 0.048 | 7.338 | |
| ptms_graph | 2.296 | 0.024 | 4.610 | |