| Back to Multiple platform build/check report for BioC 3.10 |
|
This page was generated on 2020-04-15 12:32:21 -0400 (Wed, 15 Apr 2020).
| Package 1180/1823 | Hostname | OS / Arch | INSTALL | BUILD | CHECK | BUILD BIN | ||||||
| OmicsLonDA 1.2.2 Ahmed A. Metwally
| malbec1 | Linux (Ubuntu 18.04.4 LTS) / x86_64 | OK | OK | OK | |||||||
| tokay1 | Windows Server 2012 R2 Standard / x64 | OK | OK | OK | [ OK ] | |||||||
| merida1 | OS X 10.11.6 El Capitan / x86_64 | OK | OK | OK | OK |
| Package: OmicsLonDA |
| Version: 1.2.2 |
| Command: rm -rf OmicsLonDA.buildbin-libdir && mkdir OmicsLonDA.buildbin-libdir && C:\Users\biocbuild\bbs-3.10-bioc\R\bin\R.exe CMD INSTALL --merge-multiarch --build --library=OmicsLonDA.buildbin-libdir OmicsLonDA_1.2.2.tar.gz |
| StartedAt: 2020-04-15 09:18:09 -0400 (Wed, 15 Apr 2020) |
| EndedAt: 2020-04-15 09:19:23 -0400 (Wed, 15 Apr 2020) |
| EllapsedTime: 74.3 seconds |
| RetCode: 0 |
| Status: OK |
| PackageFile: OmicsLonDA_1.2.2.zip |
| PackageFileSize: 4.985 MiB |
##############################################################################
##############################################################################
###
### Running command:
###
### rm -rf OmicsLonDA.buildbin-libdir && mkdir OmicsLonDA.buildbin-libdir && C:\Users\biocbuild\bbs-3.10-bioc\R\bin\R.exe CMD INSTALL --merge-multiarch --build --library=OmicsLonDA.buildbin-libdir OmicsLonDA_1.2.2.tar.gz
###
##############################################################################
##############################################################################
install for i386
* installing *source* package 'OmicsLonDA' ...
** using staged installation
** R
** data
*** moving datasets to lazyload DB
** inst
** byte-compile and prepare package for lazy loading
** help
*** installing help indices
converting help for package 'OmicsLonDA'
finding HTML links ... done
adjustBaseline html
curveFitting html
findSigInterval html
omicslonda html
omicslonda_data_example html
permutationMC html
testStat html
testStatPermutation html
visualizeArea html
visualizeFeature html
visualizeFeatureSpline html
visualizeTestStatHistogram html
** building package indices
** installing vignettes
** testing if installed package can be loaded from temporary location
** testing if installed package can be loaded from final location
** testing if installed package keeps a record of temporary installation path
install for x64
* installing *source* package 'OmicsLonDA' ...
** testing if installed package can be loaded
* MD5 sums
packaged installation of 'OmicsLonDA' as OmicsLonDA_1.2.2.zip
* DONE (OmicsLonDA)