| Back to Multiple platform build/check report for BioC 3.10 |
|
This page was generated on 2020-04-15 12:10:22 -0400 (Wed, 15 Apr 2020).
| Package 1130/1823 | Hostname | OS / Arch | INSTALL | BUILD | CHECK | BUILD BIN | ||||||
| NanoStringDiff 1.16.0 tingting zhai
| malbec1 | Linux (Ubuntu 18.04.4 LTS) / x86_64 | OK | [ OK ] | WARNINGS | |||||||
| tokay1 | Windows Server 2012 R2 Standard / x64 | OK | OK | WARNINGS | OK | |||||||
| merida1 | OS X 10.11.6 El Capitan / x86_64 | OK | OK | WARNINGS | OK |
| Package: NanoStringDiff |
| Version: 1.16.0 |
| Command: /home/biocbuild/bbs-3.10-bioc/R/bin/R CMD build --keep-empty-dirs --no-resave-data NanoStringDiff |
| StartedAt: 2020-04-14 21:31:03 -0400 (Tue, 14 Apr 2020) |
| EndedAt: 2020-04-14 21:31:28 -0400 (Tue, 14 Apr 2020) |
| EllapsedTime: 25.9 seconds |
| RetCode: 0 |
| Status: OK |
| PackageFile: NanoStringDiff_1.16.0.tar.gz |
| PackageFileSize: 276.2 KiB |
##############################################################################
##############################################################################
###
### Running command:
###
### /home/biocbuild/bbs-3.10-bioc/R/bin/R CMD build --keep-empty-dirs --no-resave-data NanoStringDiff
###
##############################################################################
##############################################################################
* checking for file ‘NanoStringDiff/DESCRIPTION’ ... OK
* preparing ‘NanoStringDiff’:
* checking DESCRIPTION meta-information ... OK
* cleaning src
* installing the package to build vignettes
* creating vignettes ... OK
Warning: ‘inst/doc’ files
‘NanoStringDiff.Rnw’, ‘NanoStringDiff.pdf’, ‘NanoStringDiff.R’
ignored as vignettes have been rebuilt.
Run R CMD build with --no-build-vignettes to prevent rebuilding.
* cleaning src
* checking for LF line-endings in source and make files and shell scripts
* checking for empty or unneeded directories
* looking to see if a ‘data/datalist’ file should be added
* building ‘NanoStringDiff_1.16.0.tar.gz’