| Back to Multiple platform build/check report for BioC 3.10 |
|
This page was generated on 2020-04-15 12:19:24 -0400 (Wed, 15 Apr 2020).
| Package 1110/1823 | Hostname | OS / Arch | INSTALL | BUILD | CHECK | BUILD BIN | ||||||
| Mulcom 1.36.0 Claudio Isella
| malbec1 | Linux (Ubuntu 18.04.4 LTS) / x86_64 | OK | OK | WARNINGS | |||||||
| tokay1 | Windows Server 2012 R2 Standard / x64 | [ OK ] | OK | WARNINGS | OK | |||||||
| merida1 | OS X 10.11.6 El Capitan / x86_64 | OK | OK | WARNINGS | OK |
| Package: Mulcom |
| Version: 1.36.0 |
| Command: C:\cygwin\bin\curl.exe -O https://malbec1.bioconductor.org/BBS/3.10/bioc/src/contrib/Mulcom_1.36.0.tar.gz && rm -rf Mulcom.buildbin-libdir && mkdir Mulcom.buildbin-libdir && C:\Users\biocbuild\bbs-3.10-bioc\R\bin\R.exe CMD INSTALL --merge-multiarch --build --library=Mulcom.buildbin-libdir Mulcom_1.36.0.tar.gz && C:\Users\biocbuild\bbs-3.10-bioc\R\bin\R.exe CMD INSTALL Mulcom_1.36.0.zip && rm Mulcom_1.36.0.tar.gz Mulcom_1.36.0.zip |
| StartedAt: 2020-04-14 18:37:42 -0400 (Tue, 14 Apr 2020) |
| EndedAt: 2020-04-14 18:38:27 -0400 (Tue, 14 Apr 2020) |
| EllapsedTime: 44.8 seconds |
| RetCode: 0 |
| Status: OK |
##############################################################################
##############################################################################
###
### Running command:
###
### C:\cygwin\bin\curl.exe -O https://malbec1.bioconductor.org/BBS/3.10/bioc/src/contrib/Mulcom_1.36.0.tar.gz && rm -rf Mulcom.buildbin-libdir && mkdir Mulcom.buildbin-libdir && C:\Users\biocbuild\bbs-3.10-bioc\R\bin\R.exe CMD INSTALL --merge-multiarch --build --library=Mulcom.buildbin-libdir Mulcom_1.36.0.tar.gz && C:\Users\biocbuild\bbs-3.10-bioc\R\bin\R.exe CMD INSTALL Mulcom_1.36.0.zip && rm Mulcom_1.36.0.tar.gz Mulcom_1.36.0.zip
###
##############################################################################
##############################################################################
% Total % Received % Xferd Average Speed Time Time Time Current
Dload Upload Total Spent Left Speed
0 0 0 0 0 0 0 0 --:--:-- --:--:-- --:--:-- 0
100 1119k 100 1119k 0 0 11.1M 0 --:--:-- --:--:-- --:--:-- 11.6M
install for i386
* installing *source* package 'Mulcom' ...
** using staged installation
** libs
C:/Rtools/mingw_32/bin/g++ -std=gnu++11 -I"C:/Users/BIOCBU~1/BBS-3~1.10-/R/include" -DNDEBUG -I"C:/extsoft/include" -O2 -Wall -mtune=core2 -c mulLibs.cc -o mulLibs.o
mulLibs.cc: In function 'void Single_SimulationC(double*, double*, double*, double*, double*, double*, int*, int*, int*, int*, int*)':
mulLibs.cc:708:33: warning: statement has no effect [-Wunused-value]
current_cluster ;
^
mulLibs.cc: In function 'void Complete_SimulationC(double*, int*, double*, double*, int*, int*, int*, int*, int*)':
mulLibs.cc:1022:38: warning: comparison between signed and unsigned integer expressions [-Wsign-compare]
for ( int i = 0 ; i < sss2.size() ; i++ ) {
^
mulLibs.cc:1023:46: warning: comparison between signed and unsigned integer expressions [-Wsign-compare]
for ( int j = 0 ; j < harmonic_means.size() ; j++ ) {
^
C:/Rtools/mingw_32/bin/g++ -std=gnu++11 -shared -s -static-libgcc -o Mulcom.dll tmp.def mulLibs.o -LC:/extsoft/lib/i386 -LC:/extsoft/lib -LC:/Users/BIOCBU~1/BBS-3~1.10-/R/bin/i386 -lR
installing to C:/Users/biocbuild/bbs-3.10-bioc/meat/Mulcom.buildbin-libdir/00LOCK-Mulcom/00new/Mulcom/libs/i386
** R
** data
** inst
** byte-compile and prepare package for lazy loading
** help
*** installing help indices
converting help for package 'Mulcom'
finding HTML links ... done
Affy html
AffyIlmn html
Illumina html
Ilmn html
MULCOM-class html
MULCOM_P html
harmonicMean html
limmaAffySymbols html
limmaIlmnSymbols html
mulCAND html
mulCalc html
mulDELTA html
mulDiff html
mulFSG html
mulIndex html
mulInt html
mulMSE html
mulOpt html
mulOptPars html
mulOptPlot html
mulParOpt html
mulPerm html
mulPermC html
mulSSE html
mulScores html
mulcomGeneListIlmn html
samAffySymbols html
samIlmnSymbols html
samOptPars html
** building package indices
** installing vignettes
** testing if installed package can be loaded from temporary location
** testing if installed package can be loaded from final location
** testing if installed package keeps a record of temporary installation path
install for x64
* installing *source* package 'Mulcom' ...
** libs
C:/Rtools/mingw_64/bin/g++ -std=gnu++11 -I"C:/Users/BIOCBU~1/BBS-3~1.10-/R/include" -DNDEBUG -I"C:/extsoft/include" -O2 -Wall -mtune=core2 -c mulLibs.cc -o mulLibs.o
mulLibs.cc: In function 'void Single_SimulationC(double*, double*, double*, double*, double*, double*, int*, int*, int*, int*, int*)':
mulLibs.cc:708:33: warning: statement has no effect [-Wunused-value]
current_cluster ;
^
mulLibs.cc: In function 'void Complete_SimulationC(double*, int*, double*, double*, int*, int*, int*, int*, int*)':
mulLibs.cc:1022:38: warning: comparison between signed and unsigned integer expressions [-Wsign-compare]
for ( int i = 0 ; i < sss2.size() ; i++ ) {
^
mulLibs.cc:1023:46: warning: comparison between signed and unsigned integer expressions [-Wsign-compare]
for ( int j = 0 ; j < harmonic_means.size() ; j++ ) {
^
C:/Rtools/mingw_64/bin/g++ -std=gnu++11 -shared -s -static-libgcc -o Mulcom.dll tmp.def mulLibs.o -LC:/extsoft/lib/x64 -LC:/extsoft/lib -LC:/Users/BIOCBU~1/BBS-3~1.10-/R/bin/x64 -lR
installing to C:/Users/biocbuild/bbs-3.10-bioc/meat/Mulcom.buildbin-libdir/Mulcom/libs/x64
** testing if installed package can be loaded
* MD5 sums
packaged installation of 'Mulcom' as Mulcom_1.36.0.zip
* DONE (Mulcom)
* installing to library 'C:/Users/biocbuild/bbs-3.10-bioc/R/library'
package 'Mulcom' successfully unpacked and MD5 sums checked