| Back to Multiple platform build/check report for BioC 3.10 |
|
This page was generated on 2020-04-15 12:20:42 -0400 (Wed, 15 Apr 2020).
| Package 1051/1823 | Hostname | OS / Arch | INSTALL | BUILD | CHECK | BUILD BIN | ||||||
| MiRaGE 1.28.0 Y-h. Taguchi
| malbec1 | Linux (Ubuntu 18.04.4 LTS) / x86_64 | OK | OK | OK | |||||||
| tokay1 | Windows Server 2012 R2 Standard / x64 | OK | OK | [ OK ] | OK | |||||||
| merida1 | OS X 10.11.6 El Capitan / x86_64 | OK | OK | OK | OK |
| Package: MiRaGE |
| Version: 1.28.0 |
| Command: C:\Users\biocbuild\bbs-3.10-bioc\R\bin\R.exe CMD check --force-multiarch --install=check:MiRaGE.install-out.txt --library=C:\Users\biocbuild\bbs-3.10-bioc\R\library --no-vignettes --timings MiRaGE_1.28.0.tar.gz |
| StartedAt: 2020-04-15 04:47:34 -0400 (Wed, 15 Apr 2020) |
| EndedAt: 2020-04-15 04:49:27 -0400 (Wed, 15 Apr 2020) |
| EllapsedTime: 113.2 seconds |
| RetCode: 0 |
| Status: OK |
| CheckDir: MiRaGE.Rcheck |
| Warnings: 0 |
##############################################################################
##############################################################################
###
### Running command:
###
### C:\Users\biocbuild\bbs-3.10-bioc\R\bin\R.exe CMD check --force-multiarch --install=check:MiRaGE.install-out.txt --library=C:\Users\biocbuild\bbs-3.10-bioc\R\library --no-vignettes --timings MiRaGE_1.28.0.tar.gz
###
##############################################################################
##############################################################################
* using log directory 'C:/Users/biocbuild/bbs-3.10-bioc/meat/MiRaGE.Rcheck'
* using R version 3.6.3 (2020-02-29)
* using platform: x86_64-w64-mingw32 (64-bit)
* using session charset: ISO8859-1
* using option '--no-vignettes'
* checking for file 'MiRaGE/DESCRIPTION' ... OK
* this is package 'MiRaGE' version '1.28.0'
* checking package namespace information ... OK
* checking package dependencies ... OK
* checking if this is a source package ... OK
* checking if there is a namespace ... OK
* checking for hidden files and directories ... NOTE
Found the following hidden files and directories:
vignettes/.goutputstream-0CTGCW
vignettes/.goutputstream-E9SXCW
These were most likely included in error. See section 'Package
structure' in the 'Writing R Extensions' manual.
* checking for portable file names ... OK
* checking whether package 'MiRaGE' can be installed ... OK
* checking installed package size ... OK
* checking package directory ... OK
* checking 'build' directory ... OK
* checking DESCRIPTION meta-information ... OK
* checking top-level files ... OK
* checking for left-over files ... OK
* checking index information ... OK
* checking package subdirectories ... OK
* checking R files for non-ASCII characters ... OK
* checking R files for syntax errors ... OK
* loading checks for arch 'i386'
** checking whether the package can be loaded ... OK
** checking whether the package can be loaded with stated dependencies ... OK
** checking whether the package can be unloaded cleanly ... OK
** checking whether the namespace can be loaded with stated dependencies ... OK
** checking whether the namespace can be unloaded cleanly ... OK
* loading checks for arch 'x64'
** checking whether the package can be loaded ... OK
** checking whether the package can be loaded with stated dependencies ... OK
** checking whether the package can be unloaded cleanly ... OK
** checking whether the namespace can be loaded with stated dependencies ... OK
** checking whether the namespace can be unloaded cleanly ... OK
* checking dependencies in R code ... NOTE
'library' or 'require' call to 'miRNATarget' in package code.
Please use :: or requireNamespace() instead.
See section 'Suggested packages' in the 'Writing R Extensions' manual.
Package in Depends field not imported from: 'Biobase'
These packages need to be imported from (in the NAMESPACE file)
for when this namespace is loaded but not attached.
Missing or unexported object: 'IRanges::unlist'
* checking S3 generic/method consistency ... OK
* checking replacement functions ... OK
* checking foreign function calls ... OK
* checking R code for possible problems ... NOTE
HS_conv_id: no visible global function definition for 'download.file'
HS_conv_id: no visible global function definition for 'read.fasta'
HS_conv_id: no visible global function definition for 'read.csv'
MM_conv_id: no visible global function definition for 'download.file'
MM_conv_id: no visible global function definition for 'read.fasta'
MM_conv_id: no visible global function definition for 'read.csv'
MiRaGEAnalysis: no visible global function definition for 'fData'
MiRaGEAnalysis: no visible global function definition for 'exprs'
MiRaGEAnalysis: no visible global function definition for 'pData'
TBL2_HS_gen: no visible global function definition for
'makeTxDbFromUCSC'
TBL2_HS_gen: no visible global function definition for
'threeUTRsByTranscript'
TBL2_HS_gen: no visible global function definition for 'getSeq'
TBL2_HS_gen: no visible binding for global variable 'Hsapiens'
TBL2_HS_gen: no visible global function definition for 'write.fasta'
TBL2_HS_gen: no visible binding for global variable 's2c'
TBL2_HS_gen: no visible global function definition for 'download.file'
TBL2_HS_gen: no visible global function definition for
'readDNAStringSet'
TBL2_HS_gen: no visible global function definition for
'readRNAStringSet'
TBL2_HS_gen: no visible global function definition for 'subseq'
TBL2_HS_gen: no visible global function definition for 'DNAString'
TBL2_HS_gen: no visible global function definition for 'RNAString'
TBL2_HS_gen: no visible global function definition for
'reverseComplement'
TBL2_HS_gen: no visible global function definition for 'vcountPattern'
TBL2_MM_gen: no visible global function definition for
'makeTxDbFromUCSC'
TBL2_MM_gen: no visible global function definition for
'threeUTRsByTranscript'
TBL2_MM_gen: no visible global function definition for 'getSeq'
TBL2_MM_gen: no visible binding for global variable 'Mmusculus'
TBL2_MM_gen: no visible global function definition for 'write.fasta'
TBL2_MM_gen: no visible binding for global variable 's2c'
TBL2_MM_gen: no visible global function definition for 'download.file'
TBL2_MM_gen: no visible global function definition for
'readDNAStringSet'
TBL2_MM_gen: no visible global function definition for
'readRNAStringSet'
TBL2_MM_gen: no visible global function definition for 'subseq'
TBL2_MM_gen: no visible global function definition for 'DNAString'
TBL2_MM_gen: no visible global function definition for 'RNAString'
TBL2_MM_gen: no visible global function definition for
'reverseComplement'
TBL2_MM_gen: no visible global function definition for 'vcountPattern'
getMiRaGEData: no visible global function definition for
'install.packages'
getMiRaGEData: no visible global function definition for 'data'
getMiRaGEData: no visible binding for global variable 'TBL2_MM'
getMiRaGEData: no visible binding for global variable 'TBL2'
getMiRaGEData: no visible binding for global variable 'TBL2_HS'
getMiRaGEData: no visible binding for global variable 'id_conv'
getMiRaGEData: no visible binding for global variable 'conv_id'
id_conv_gen: no visible global function definition for 'useMart'
id_conv_gen: no visible global function definition for 'listDatasets'
id_conv_gen: no visible global function definition for 'useDataset'
id_conv_gen: no visible global function definition for 'listAttributes'
id_conv_gen: no visible global function definition for 'write.table'
id_conv_gen: no visible global function definition for 'read.csv'
id_conv_gen: no visible global function definition for 'getBM'
Undefined global functions or variables:
DNAString Hsapiens Mmusculus RNAString TBL2 TBL2_HS TBL2_MM conv_id
data download.file exprs fData getBM getSeq id_conv install.packages
listAttributes listDatasets makeTxDbFromUCSC pData read.csv
read.fasta readDNAStringSet readRNAStringSet reverseComplement s2c
subseq threeUTRsByTranscript useDataset useMart vcountPattern
write.fasta write.table
Consider adding
importFrom("utils", "data", "download.file", "install.packages",
"read.csv", "write.table")
to your NAMESPACE file.
* checking Rd files ... OK
* checking Rd metadata ... OK
* checking Rd cross-references ... OK
* checking for missing documentation entries ... OK
* checking for code/documentation mismatches ... OK
* checking Rd \usage sections ... OK
* checking Rd contents ... OK
* checking for unstated dependencies in examples ... OK
* checking contents of 'data' directory ... OK
* checking data for non-ASCII characters ... OK
* checking data for ASCII and uncompressed saves ... OK
* checking files in 'vignettes' ... OK
* checking examples ...
** running examples for arch 'i386' ... OK
Examples with CPU or elapsed time > 5s
user system elapsed
MiRaGE 7.39 0.6 8.25
** running examples for arch 'x64' ... OK
Examples with CPU or elapsed time > 5s
user system elapsed
MiRaGE 6.86 0.71 7.56
* checking for unstated dependencies in vignettes ... OK
* checking package vignettes in 'inst/doc' ... OK
* checking running R code from vignettes ... SKIPPED
* checking re-building of vignette outputs ... SKIPPED
* checking PDF version of manual ... OK
* DONE
Status: 3 NOTEs
See
'C:/Users/biocbuild/bbs-3.10-bioc/meat/MiRaGE.Rcheck/00check.log'
for details.
MiRaGE.Rcheck/00install.out
##############################################################################
##############################################################################
###
### Running command:
###
### C:\cygwin\bin\curl.exe -O https://malbec1.bioconductor.org/BBS/3.10/bioc/src/contrib/MiRaGE_1.28.0.tar.gz && rm -rf MiRaGE.buildbin-libdir && mkdir MiRaGE.buildbin-libdir && C:\Users\biocbuild\bbs-3.10-bioc\R\bin\R.exe CMD INSTALL --merge-multiarch --build --library=MiRaGE.buildbin-libdir MiRaGE_1.28.0.tar.gz && C:\Users\biocbuild\bbs-3.10-bioc\R\bin\R.exe CMD INSTALL MiRaGE_1.28.0.zip && rm MiRaGE_1.28.0.tar.gz MiRaGE_1.28.0.zip
###
##############################################################################
##############################################################################
% Total % Received % Xferd Average Speed Time Time Time Current
Dload Upload Total Spent Left Speed
0 0 0 0 0 0 0 0 --:--:-- --:--:-- --:--:-- 0
100 985k 100 985k 0 0 18.6M 0 --:--:-- --:--:-- --:--:-- 20.0M
install for i386
* installing *source* package 'MiRaGE' ...
** using staged installation
** R
** data
** inst
** byte-compile and prepare package for lazy loading
** help
*** installing help indices
converting help for package 'MiRaGE'
finding HTML links ... done
HS_conv_id html
MM_conv_id html
MiRaGE html
TBL2_HS_gen html
TBL2_MM_gen html
gene_exp html
getMiRaGEData html
id_conv_gen html
** building package indices
** installing vignettes
** testing if installed package can be loaded from temporary location
** testing if installed package can be loaded from final location
** testing if installed package keeps a record of temporary installation path
install for x64
* installing *source* package 'MiRaGE' ...
** testing if installed package can be loaded
* MD5 sums
packaged installation of 'MiRaGE' as MiRaGE_1.28.0.zip
* DONE (MiRaGE)
* installing to library 'C:/Users/biocbuild/bbs-3.10-bioc/R/library'
package 'MiRaGE' successfully unpacked and MD5 sums checked
|
MiRaGE.Rcheck/examples_i386/MiRaGE-Ex.timings
|
MiRaGE.Rcheck/examples_x64/MiRaGE-Ex.timings
|