| Back to Multiple platform build/check report for BioC 3.10 |
|
This page was generated on 2020-04-15 12:18:57 -0400 (Wed, 15 Apr 2020).
| Package 1038/1823 | Hostname | OS / Arch | INSTALL | BUILD | CHECK | BUILD BIN | ||||||
| MiChip 1.40.0 Jonathon Blake
| malbec1 | Linux (Ubuntu 18.04.4 LTS) / x86_64 | OK | OK | OK | |||||||
| tokay1 | Windows Server 2012 R2 Standard / x64 | OK | OK | OK | [ OK ] | |||||||
| merida1 | OS X 10.11.6 El Capitan / x86_64 | OK | OK | OK | OK |
| Package: MiChip |
| Version: 1.40.0 |
| Command: rm -rf MiChip.buildbin-libdir && mkdir MiChip.buildbin-libdir && C:\Users\biocbuild\bbs-3.10-bioc\R\bin\R.exe CMD INSTALL --merge-multiarch --build --library=MiChip.buildbin-libdir MiChip_1.40.0.tar.gz |
| StartedAt: 2020-04-15 09:10:03 -0400 (Wed, 15 Apr 2020) |
| EndedAt: 2020-04-15 09:10:38 -0400 (Wed, 15 Apr 2020) |
| EllapsedTime: 35.1 seconds |
| RetCode: 0 |
| Status: OK |
| PackageFile: MiChip_1.40.0.zip |
| PackageFileSize: 661.1 KiB |
##############################################################################
##############################################################################
###
### Running command:
###
### rm -rf MiChip.buildbin-libdir && mkdir MiChip.buildbin-libdir && C:\Users\biocbuild\bbs-3.10-bioc\R\bin\R.exe CMD INSTALL --merge-multiarch --build --library=MiChip.buildbin-libdir MiChip_1.40.0.tar.gz
###
##############################################################################
##############################################################################
install for i386
* installing *source* package 'MiChip' ...
** using staged installation
** R
** inst
** byte-compile and prepare package for lazy loading
** help
*** installing help indices
converting help for package 'MiChip'
finding HTML links ... done
MiChip html
boxplotData html
boxplotDataNoFile html
correctForFlags html
myForgivingMedian html
naOmitMedian html
normalizePerChipMedian html
outputAnnotatedDataMatrix html
panelCor html
parseRawData html
plotIntensitiesScatter html
removeUnwantedRows html
returnAnnotatedDataMatrix html
setIntensityCutoff html
standardRemoveRows html
summarizeIntensitiesAsMedian html
workedExampleMedianNormalize html
workedExampleNotNormalizedData html
** building package indices
** installing vignettes
** testing if installed package can be loaded from temporary location
** testing if installed package can be loaded from final location
** testing if installed package keeps a record of temporary installation path
install for x64
* installing *source* package 'MiChip' ...
** testing if installed package can be loaded
* MD5 sums
packaged installation of 'MiChip' as MiChip_1.40.0.zip
* DONE (MiChip)