| Back to Multiple platform build/check report for BioC 3.10 |
|
This page was generated on 2020-04-15 12:23:04 -0400 (Wed, 15 Apr 2020).
| Package 1020/1823 | Hostname | OS / Arch | INSTALL | BUILD | CHECK | BUILD BIN | ||||||
| MethylAid 1.20.0 L.J.Sinke
| malbec1 | Linux (Ubuntu 18.04.4 LTS) / x86_64 | OK | OK | OK | |||||||
| tokay1 | Windows Server 2012 R2 Standard / x64 | [ OK ] | OK | OK | OK | |||||||
| merida1 | OS X 10.11.6 El Capitan / x86_64 | OK | OK | OK | OK |
| Package: MethylAid |
| Version: 1.20.0 |
| Command: C:\cygwin\bin\curl.exe -O https://malbec1.bioconductor.org/BBS/3.10/bioc/src/contrib/MethylAid_1.20.0.tar.gz && rm -rf MethylAid.buildbin-libdir && mkdir MethylAid.buildbin-libdir && C:\Users\biocbuild\bbs-3.10-bioc\R\bin\R.exe CMD INSTALL --merge-multiarch --build --library=MethylAid.buildbin-libdir MethylAid_1.20.0.tar.gz && C:\Users\biocbuild\bbs-3.10-bioc\R\bin\R.exe CMD INSTALL MethylAid_1.20.0.zip && rm MethylAid_1.20.0.tar.gz MethylAid_1.20.0.zip |
| StartedAt: 2020-04-14 20:34:03 -0400 (Tue, 14 Apr 2020) |
| EndedAt: 2020-04-14 20:34:59 -0400 (Tue, 14 Apr 2020) |
| EllapsedTime: 56.2 seconds |
| RetCode: 0 |
| Status: OK |
##############################################################################
##############################################################################
###
### Running command:
###
### C:\cygwin\bin\curl.exe -O https://malbec1.bioconductor.org/BBS/3.10/bioc/src/contrib/MethylAid_1.20.0.tar.gz && rm -rf MethylAid.buildbin-libdir && mkdir MethylAid.buildbin-libdir && C:\Users\biocbuild\bbs-3.10-bioc\R\bin\R.exe CMD INSTALL --merge-multiarch --build --library=MethylAid.buildbin-libdir MethylAid_1.20.0.tar.gz && C:\Users\biocbuild\bbs-3.10-bioc\R\bin\R.exe CMD INSTALL MethylAid_1.20.0.zip && rm MethylAid_1.20.0.tar.gz MethylAid_1.20.0.zip
###
##############################################################################
##############################################################################
% Total % Received % Xferd Average Speed Time Time Time Current
Dload Upload Total Spent Left Speed
0 0 0 0 0 0 0 0 --:--:-- --:--:-- --:--:-- 0
100 2772k 100 2772k 0 0 36.0M 0 --:--:-- --:--:-- --:--:-- 37.6M
install for i386
* installing *source* package 'MethylAid' ...
** using staged installation
** R
** data
** inst
** byte-compile and prepare package for lazy loading
** help
*** installing help indices
converting help for package 'MethylAid'
finding HTML links ... done
as.background html
combine-summarizedData-ANY-method html
exampleData html
summarize html
summarizedData-class html
summarizedData-methods html
visualize html
** building package indices
** installing vignettes
** testing if installed package can be loaded from temporary location
** testing if installed package can be loaded from final location
** testing if installed package keeps a record of temporary installation path
install for x64
* installing *source* package 'MethylAid' ...
** testing if installed package can be loaded
* MD5 sums
packaged installation of 'MethylAid' as MethylAid_1.20.0.zip
* DONE (MethylAid)
* installing to library 'C:/Users/biocbuild/bbs-3.10-bioc/R/library'
package 'MethylAid' successfully unpacked and MD5 sums checked