| Back to Multiple platform build/check report for BioC 3.10 |
|
This page was generated on 2020-04-15 12:27:13 -0400 (Wed, 15 Apr 2020).
| Package 997/1823 | Hostname | OS / Arch | INSTALL | BUILD | CHECK | BUILD BIN | ||||||
| MetaboSignal 1.16.0 Andrea Rodriguez-Martinez
| malbec1 | Linux (Ubuntu 18.04.4 LTS) / x86_64 | OK | OK | OK | |||||||
| tokay1 | Windows Server 2012 R2 Standard / x64 | OK | [ OK ] | OK | OK | |||||||
| merida1 | OS X 10.11.6 El Capitan / x86_64 | OK | OK | OK | OK |
| Package: MetaboSignal |
| Version: 1.16.0 |
| Command: chmod a+r MetaboSignal -R && C:\Users\biocbuild\bbs-3.10-bioc\R\bin\R.exe CMD build --keep-empty-dirs --no-resave-data MetaboSignal |
| StartedAt: 2020-04-14 23:24:30 -0400 (Tue, 14 Apr 2020) |
| EndedAt: 2020-04-14 23:26:05 -0400 (Tue, 14 Apr 2020) |
| EllapsedTime: 94.8 seconds |
| RetCode: 0 |
| Status: OK |
| PackageFile: MetaboSignal_1.16.0.tar.gz |
| PackageFileSize: 2.092 MiB |
##############################################################################
##############################################################################
###
### Running command:
###
### chmod a+r MetaboSignal -R && C:\Users\biocbuild\bbs-3.10-bioc\R\bin\R.exe CMD build --keep-empty-dirs --no-resave-data MetaboSignal
###
##############################################################################
##############################################################################
* checking for file 'MetaboSignal/DESCRIPTION' ... OK
* preparing 'MetaboSignal':
* checking DESCRIPTION meta-information ... OK
* installing the package to build vignettes
* creating vignettes ... OK
Warning: 'inst/doc' files
'MetaboSignal.html', 'MetaboSignal2.html'
ignored as vignettes have been rebuilt.
Run R CMD build with --no-build-vignettes to prevent rebuilding.
* checking for LF line-endings in source and make files and shell scripts
* checking for empty or unneeded directories
* looking to see if a 'data/datalist' file should be added
* building 'MetaboSignal_1.16.0.tar.gz'