| Back to Multiple platform build/check report for BioC 3.10 |
|
This page was generated on 2020-04-15 12:24:08 -0400 (Wed, 15 Apr 2020).
| Package 995/1823 | Hostname | OS / Arch | INSTALL | BUILD | CHECK | BUILD BIN | ||||||
| Metab 1.20.0 Raphael Aggio
| malbec1 | Linux (Ubuntu 18.04.4 LTS) / x86_64 | OK | OK | OK | |||||||
| tokay1 | Windows Server 2012 R2 Standard / x64 | OK | OK | OK | [ OK ] | |||||||
| merida1 | OS X 10.11.6 El Capitan / x86_64 | OK | OK | OK | OK |
| Package: Metab |
| Version: 1.20.0 |
| Command: rm -rf Metab.buildbin-libdir && mkdir Metab.buildbin-libdir && C:\Users\biocbuild\bbs-3.10-bioc\R\bin\R.exe CMD INSTALL --merge-multiarch --build --library=Metab.buildbin-libdir Metab_1.20.0.tar.gz |
| StartedAt: 2020-04-15 09:07:34 -0400 (Wed, 15 Apr 2020) |
| EndedAt: 2020-04-15 09:08:21 -0400 (Wed, 15 Apr 2020) |
| EllapsedTime: 47.4 seconds |
| RetCode: 0 |
| Status: OK |
| PackageFile: Metab_1.20.0.zip |
| PackageFileSize: 3.287 MiB |
##############################################################################
##############################################################################
###
### Running command:
###
### rm -rf Metab.buildbin-libdir && mkdir Metab.buildbin-libdir && C:\Users\biocbuild\bbs-3.10-bioc\R\bin\R.exe CMD INSTALL --merge-multiarch --build --library=Metab.buildbin-libdir Metab_1.20.0.tar.gz
###
##############################################################################
##############################################################################
install for i386
* installing *source* package 'Metab' ...
** using staged installation
** R
** data
** inst
** byte-compile and prepare package for lazy loading
** help
*** installing help indices
converting help for package 'Metab'
finding HTML links ... done
MetReport html
MetReportNames html
Metab-package html
buildLib html
exampleAMDISReport html
exampleBiomass html
exampleHtest html
exampleIonLib html
exampleMSLfile html
exampleMetReport html
htest html
normalizeByBiomass html
normalizeByInternalStandard html
removeFalsePositives html
** building package indices
** installing vignettes
** testing if installed package can be loaded from temporary location
** testing if installed package can be loaded from final location
** testing if installed package keeps a record of temporary installation path
install for x64
* installing *source* package 'Metab' ...
** testing if installed package can be loaded
* MD5 sums
packaged installation of 'Metab' as Metab_1.20.0.zip
* DONE (Metab)