| Back to Multiple platform build/check report for BioC 3.10 |
|
This page was generated on 2020-04-15 12:30:59 -0400 (Wed, 15 Apr 2020).
| Package 1032/1823 | Hostname | OS / Arch | INSTALL | BUILD | CHECK | BUILD BIN | ||||||
| MetNet 1.4.2 Thomas Naake
| malbec1 | Linux (Ubuntu 18.04.4 LTS) / x86_64 | OK | OK | OK | |||||||
| tokay1 | Windows Server 2012 R2 Standard / x64 | OK | OK | OK | [ OK ] | |||||||
| merida1 | OS X 10.11.6 El Capitan / x86_64 | OK | OK | OK | OK |
| Package: MetNet |
| Version: 1.4.2 |
| Command: rm -rf MetNet.buildbin-libdir && mkdir MetNet.buildbin-libdir && C:\Users\biocbuild\bbs-3.10-bioc\R\bin\R.exe CMD INSTALL --merge-multiarch --build --library=MetNet.buildbin-libdir MetNet_1.4.2.tar.gz |
| StartedAt: 2020-04-15 09:09:42 -0400 (Wed, 15 Apr 2020) |
| EndedAt: 2020-04-15 09:10:03 -0400 (Wed, 15 Apr 2020) |
| EllapsedTime: 21.4 seconds |
| RetCode: 0 |
| Status: OK |
| PackageFile: MetNet_1.4.2.zip |
| PackageFileSize: 3.803 MiB |
##############################################################################
##############################################################################
###
### Running command:
###
### rm -rf MetNet.buildbin-libdir && mkdir MetNet.buildbin-libdir && C:\Users\biocbuild\bbs-3.10-bioc\R\bin\R.exe CMD INSTALL --merge-multiarch --build --library=MetNet.buildbin-libdir MetNet_1.4.2.tar.gz
###
##############################################################################
##############################################################################
install for i386
* installing *source* package 'MetNet' ...
** using staged installation
** R
** data
** inst
** byte-compile and prepare package for lazy loading
** help
*** installing help indices
converting help for package 'MetNet'
finding HTML links ... done
MetNet-package html
addToList html
aracne html
bayes html
clr html
combine html
correlation html
getLinks html
lasso html
mat_test html
mat_test_z html
peaklist html
randomForest html
rtCorrection html
statistical html
structural html
threeDotsCall html
threshold html
topKnet html
x_test html
** building package indices
** installing vignettes
** testing if installed package can be loaded from temporary location
** testing if installed package can be loaded from final location
** testing if installed package keeps a record of temporary installation path
install for x64
* installing *source* package 'MetNet' ...
** testing if installed package can be loaded
* MD5 sums
packaged installation of 'MetNet' as MetNet_1.4.2.zip
* DONE (MetNet)