| Back to Multiple platform build/check report for BioC 3.10 |
|
This page was generated on 2020-04-15 12:43:50 -0400 (Wed, 15 Apr 2020).
| Package 1011/1823 | Hostname | OS / Arch | INSTALL | BUILD | CHECK | BUILD BIN | ||||||
| MetCirc 1.16.0 Thomas Naake
| malbec1 | Linux (Ubuntu 18.04.4 LTS) / x86_64 | OK | OK | OK | |||||||
| tokay1 | Windows Server 2012 R2 Standard / x64 | OK | OK | OK | OK | |||||||
| merida1 | OS X 10.11.6 El Capitan / x86_64 | OK | OK | OK | [ OK ] |
| Package: MetCirc |
| Version: 1.16.0 |
| Command: rm -rf MetCirc.buildbin-libdir && mkdir MetCirc.buildbin-libdir && /Users/biocbuild/BBS/utils/build-universal.sh MetCirc_1.16.0.tar.gz /Library/Frameworks/R.framework/Versions/Current/Resources/bin/R MetCirc.buildbin-libdir |
| StartedAt: 2020-04-15 08:00:54 -0400 (Wed, 15 Apr 2020) |
| EndedAt: 2020-04-15 08:02:00 -0400 (Wed, 15 Apr 2020) |
| EllapsedTime: 66.3 seconds |
| RetCode: 0 |
| Status: OK |
| PackageFile: MetCirc_1.16.0.tgz |
| PackageFileSize: 1.932 MiB |
############################################################################## ############################################################################## ### ### Running command: ### ### rm -rf MetCirc.buildbin-libdir && mkdir MetCirc.buildbin-libdir && /Users/biocbuild/BBS/utils/build-universal.sh MetCirc_1.16.0.tar.gz /Library/Frameworks/R.framework/Versions/Current/Resources/bin/R MetCirc.buildbin-libdir ### ############################################################################## ############################################################################## >>>>>>> >>>>>>> INSTALLATION WITH 'R CMD INSTALL --preclean --no-multiarch --library=MetCirc.buildbin-libdir MetCirc_1.16.0.tar.gz' >>>>>>> * installing *source* package ‘MetCirc’ ... ** using staged installation ** R ** data ** inst ** byte-compile and prepare package for lazy loading No methods found in package ‘MSnbase’ for request: ‘Spectra’ when loading ‘MetCirc’ No methods found in package ‘MSnbase’ for request: ‘Spectrum2’ when loading ‘MetCirc’ ** help *** installing help indices ** building package indices ** installing vignettes ** testing if installed package can be loaded from temporary location No methods found in package ‘MSnbase’ for request: ‘Spectra’ when loading ‘MetCirc’ No methods found in package ‘MSnbase’ for request: ‘Spectrum2’ when loading ‘MetCirc’ ** testing if installed package can be loaded from final location No methods found in package ‘MSnbase’ for request: ‘Spectra’ when loading ‘MetCirc’ No methods found in package ‘MSnbase’ for request: ‘Spectrum2’ when loading ‘MetCirc’ ** testing if installed package keeps a record of temporary installation path * DONE (MetCirc)