| Back to Multiple platform build/check report for BioC 3.10 |
|
This page was generated on 2020-04-15 12:18:01 -0400 (Wed, 15 Apr 2020).
| Package 960/1823 | Hostname | OS / Arch | INSTALL | BUILD | CHECK | BUILD BIN | ||||||
| MassSpecWavelet 1.52.0 Pan Du
| malbec1 | Linux (Ubuntu 18.04.4 LTS) / x86_64 | OK | OK | OK | |||||||
| tokay1 | Windows Server 2012 R2 Standard / x64 | [ OK ] | OK | OK | OK | |||||||
| merida1 | OS X 10.11.6 El Capitan / x86_64 | OK | OK | OK | OK |
| Package: MassSpecWavelet |
| Version: 1.52.0 |
| Command: C:\cygwin\bin\curl.exe -O https://malbec1.bioconductor.org/BBS/3.10/bioc/src/contrib/MassSpecWavelet_1.52.0.tar.gz && rm -rf MassSpecWavelet.buildbin-libdir && mkdir MassSpecWavelet.buildbin-libdir && C:\Users\biocbuild\bbs-3.10-bioc\R\bin\R.exe CMD INSTALL --merge-multiarch --build --library=MassSpecWavelet.buildbin-libdir MassSpecWavelet_1.52.0.tar.gz && C:\Users\biocbuild\bbs-3.10-bioc\R\bin\R.exe CMD INSTALL MassSpecWavelet_1.52.0.zip && rm MassSpecWavelet_1.52.0.tar.gz MassSpecWavelet_1.52.0.zip |
| StartedAt: 2020-04-14 18:31:23 -0400 (Tue, 14 Apr 2020) |
| EndedAt: 2020-04-14 18:32:18 -0400 (Tue, 14 Apr 2020) |
| EllapsedTime: 55.1 seconds |
| RetCode: 0 |
| Status: OK |
##############################################################################
##############################################################################
###
### Running command:
###
### C:\cygwin\bin\curl.exe -O https://malbec1.bioconductor.org/BBS/3.10/bioc/src/contrib/MassSpecWavelet_1.52.0.tar.gz && rm -rf MassSpecWavelet.buildbin-libdir && mkdir MassSpecWavelet.buildbin-libdir && C:\Users\biocbuild\bbs-3.10-bioc\R\bin\R.exe CMD INSTALL --merge-multiarch --build --library=MassSpecWavelet.buildbin-libdir MassSpecWavelet_1.52.0.tar.gz && C:\Users\biocbuild\bbs-3.10-bioc\R\bin\R.exe CMD INSTALL MassSpecWavelet_1.52.0.zip && rm MassSpecWavelet_1.52.0.tar.gz MassSpecWavelet_1.52.0.zip
###
##############################################################################
##############################################################################
% Total % Received % Xferd Average Speed Time Time Time Current
Dload Upload Total Spent Left Speed
0 0 0 0 0 0 0 0 --:--:-- --:--:-- --:--:-- 0
100 80188 100 80188 0 0 1663k 0 --:--:-- --:--:-- --:--:-- 1821k
install for i386
* installing *source* package 'MassSpecWavelet' ...
** using staged installation
** libs
C:/Rtools/mingw_32/bin/gcc -I"C:/Users/BIOCBU~1/BBS-3~1.10-/R/include" -DNDEBUG -I"C:/extsoft/include" -O3 -Wall -std=gnu99 -mtune=core2 -c convolve2.c -o convolve2.o
C:/Rtools/mingw_32/bin/gcc -shared -s -static-libgcc -o MassSpecWavelet.dll tmp.def convolve2.o -LC:/extsoft/lib/i386 -LC:/extsoft/lib -LC:/Users/BIOCBU~1/BBS-3~1.10-/R/bin/i386 -lR
installing to C:/Users/biocbuild/bbs-3.10-bioc/meat/MassSpecWavelet.buildbin-libdir/00LOCK-MassSpecWavelet/00new/MassSpecWavelet/libs/i386
** R
** data
** inst
** byte-compile and prepare package for lazy loading
** help
*** installing help indices
converting help for package 'MassSpecWavelet'
finding HTML links ... done
MassSpecWavelet.package html
cwt html
exampleMS html
extendLength html
extendNBase html
getLocalMaximumCWT html
getRidge html
getRidgeLength html
getRidgeValue html
identifyMajorPeaks html
localMaximum html
mzInd2vRange html
mzV2indRange html
peakDetectionCWT html
plotLocalMax html
plotPeak html
plotRidgeList html
sav.gol html
smoothDWT html
tuneInPeakInfo html
** building package indices
** installing vignettes
** testing if installed package can be loaded from temporary location
** testing if installed package can be loaded from final location
** testing if installed package keeps a record of temporary installation path
install for x64
* installing *source* package 'MassSpecWavelet' ...
** libs
C:/Rtools/mingw_64/bin/gcc -I"C:/Users/BIOCBU~1/BBS-3~1.10-/R/include" -DNDEBUG -I"C:/extsoft/include" -O2 -Wall -std=gnu99 -mtune=core2 -c convolve2.c -o convolve2.o
C:/Rtools/mingw_64/bin/gcc -shared -s -static-libgcc -o MassSpecWavelet.dll tmp.def convolve2.o -LC:/extsoft/lib/x64 -LC:/extsoft/lib -LC:/Users/BIOCBU~1/BBS-3~1.10-/R/bin/x64 -lR
installing to C:/Users/biocbuild/bbs-3.10-bioc/meat/MassSpecWavelet.buildbin-libdir/MassSpecWavelet/libs/x64
** testing if installed package can be loaded
* MD5 sums
packaged installation of 'MassSpecWavelet' as MassSpecWavelet_1.52.0.zip
* DONE (MassSpecWavelet)
* installing to library 'C:/Users/biocbuild/bbs-3.10-bioc/R/library'
package 'MassSpecWavelet' successfully unpacked and MD5 sums checked