| Back to Multiple platform build/check report for BioC 3.10 | 
  | 
This page was generated on 2020-04-15 12:17:07 -0400 (Wed, 15 Apr 2020).
| Package 1123/1823 | Hostname | OS / Arch | INSTALL | BUILD | CHECK | BUILD BIN | ||||||
| MVCClass 1.60.0 Elizabeth Whalen 
  | malbec1 | Linux (Ubuntu 18.04.4 LTS) / x86_64 | OK | OK | OK | |||||||
| tokay1 | Windows Server 2012 R2 Standard / x64 | [ OK ] | OK | OK | OK | |||||||
| merida1 | OS X 10.11.6 El Capitan / x86_64 | OK | OK | OK | OK | 
| Package: MVCClass | 
| Version: 1.60.0 | 
| Command: C:\cygwin\bin\curl.exe -O https://malbec1.bioconductor.org/BBS/3.10/bioc/src/contrib/MVCClass_1.60.0.tar.gz && rm -rf MVCClass.buildbin-libdir && mkdir MVCClass.buildbin-libdir && C:\Users\biocbuild\bbs-3.10-bioc\R\bin\R.exe CMD INSTALL --merge-multiarch --build --library=MVCClass.buildbin-libdir MVCClass_1.60.0.tar.gz && C:\Users\biocbuild\bbs-3.10-bioc\R\bin\R.exe CMD INSTALL MVCClass_1.60.0.zip && rm MVCClass_1.60.0.tar.gz MVCClass_1.60.0.zip | 
| StartedAt: 2020-04-14 18:33:39 -0400 (Tue, 14 Apr 2020) | 
| EndedAt: 2020-04-14 18:34:08 -0400 (Tue, 14 Apr 2020) | 
| EllapsedTime: 29.2 seconds | 
| RetCode: 0 | 
| Status: OK | 
##############################################################################
##############################################################################
###
### Running command:
###
###   C:\cygwin\bin\curl.exe -O https://malbec1.bioconductor.org/BBS/3.10/bioc/src/contrib/MVCClass_1.60.0.tar.gz && rm -rf MVCClass.buildbin-libdir && mkdir MVCClass.buildbin-libdir && C:\Users\biocbuild\bbs-3.10-bioc\R\bin\R.exe CMD INSTALL --merge-multiarch --build --library=MVCClass.buildbin-libdir MVCClass_1.60.0.tar.gz && C:\Users\biocbuild\bbs-3.10-bioc\R\bin\R.exe CMD INSTALL MVCClass_1.60.0.zip && rm MVCClass_1.60.0.tar.gz MVCClass_1.60.0.zip
###
##############################################################################
##############################################################################
  % Total    % Received % Xferd  Average Speed   Time    Time     Time  Current
                                 Dload  Upload   Total   Spent    Left  Speed
  0     0    0     0    0     0      0      0 --:--:-- --:--:-- --:--:--     0
100  898k  100  898k    0     0  8002k      0 --:--:-- --:--:-- --:--:-- 8244k
install for i386
* installing *source* package 'MVCClass' ...
** using staged installation
** R
** inst
** byte-compile and prepare package for lazy loading
** help
*** installing help indices
  converting help for package 'MVCClass'
    finding HTML links ... done
    MVC-class                               html  
    dfModel-class                           html  
    gAddChildMessage-class                  html  
    gAddDataMessage-class                   html  
    gAddMessage-class                       html  
    gAddViewMessage-class                   html  
    gAskAncestorMessage-class               html  
    gEventFun-class                         html  
    gMessage-class                          html  
    gModel-class                            html  
    gModifyMessage-class                    html  
    gSendChildMessage-class                 html  
    gSendParentMessage-class                html  
    gUpdateDataMessage-class                html  
    gUpdateMessage-class                    html  
    gUpdateViewMessage-class                html  
    genView-class                           html  
    linkedModelMVC-class                    html  
    plotView-class                          html  
    qqPlotView-class                        html  
    sPlotView-class                         html  
    singleModelMVC-class                    html  
    spreadView-class                        html  
** building package indices
** installing vignettes
** testing if installed package can be loaded from temporary location
** testing if installed package can be loaded from final location
** testing if installed package keeps a record of temporary installation path
install for x64
* installing *source* package 'MVCClass' ...
** testing if installed package can be loaded
* MD5 sums
packaged installation of 'MVCClass' as MVCClass_1.60.0.zip
* DONE (MVCClass)
* installing to library 'C:/Users/biocbuild/bbs-3.10-bioc/R/library'
package 'MVCClass' successfully unpacked and MD5 sums checked