| Back to Multiple platform build/check report for BioC 3.10 |
|
This page was generated on 2020-04-15 12:31:29 -0400 (Wed, 15 Apr 2020).
| Package 1109/1823 | Hostname | OS / Arch | INSTALL | BUILD | CHECK | BUILD BIN | ||||||
| MTseeker 1.4.0 Tim Triche
| malbec1 | Linux (Ubuntu 18.04.4 LTS) / x86_64 | OK | ERROR | skipped | |||||||
| tokay1 | Windows Server 2012 R2 Standard / x64 | ERROR | [ ERROR ] | skipped | skipped | |||||||
| merida1 | OS X 10.11.6 El Capitan / x86_64 | OK | ERROR | skipped | skipped |
| Package: MTseeker |
| Version: 1.4.0 |
| Command: chmod a+r MTseeker -R && C:\Users\biocbuild\bbs-3.10-bioc\R\bin\R.exe CMD build --keep-empty-dirs --no-resave-data MTseeker |
| StartedAt: 2020-04-15 00:25:02 -0400 (Wed, 15 Apr 2020) |
| EndedAt: 2020-04-15 00:25:05 -0400 (Wed, 15 Apr 2020) |
| EllapsedTime: 3.0 seconds |
| RetCode: 1 |
| Status: ERROR |
| PackageFile: MTseeker_1.4.0.tar.gz |
| PackageFileSize: 2.896 MiB |
##############################################################################
##############################################################################
###
### Running command:
###
### chmod a+r MTseeker -R && C:\Users\biocbuild\bbs-3.10-bioc\R\bin\R.exe CMD build --keep-empty-dirs --no-resave-data MTseeker
###
##############################################################################
##############################################################################
* checking for file 'MTseeker/DESCRIPTION' ... OK
* preparing 'MTseeker':
* checking DESCRIPTION meta-information ... OK
* installing the package to build vignettes
-----------------------------------
ERROR: dependency 'gmapR' is not available for package 'MTseeker'
* removing 'C:/Users/biocbuild/bbs-3.10-bioc/tmpdir/RtmpO6q5ZT/Rinst1f7c12cb7409/MTseeker'
-----------------------------------
ERROR: package installation failed